BEGIN:VCALENDAR
VERSION:2.0
PRODID:-//Valley Christian Center - ECPv6.13.2.1//NONSGML v1.0//EN
CALSCALE:GREGORIAN
METHOD:PUBLISH
X-WR-CALNAME:Valley Christian Center
X-ORIGINAL-URL:https://www.vccfresno.org
X-WR-CALDESC:Events for Valley Christian Center
REFRESH-INTERVAL;VALUE=DURATION:PT1H
X-Robots-Tag:noindex
X-PUBLISHED-TTL:PT1H
BEGIN:VTIMEZONE
TZID:America/Los_Angeles
BEGIN:DAYLIGHT
TZOFFSETFROM:-0800
TZOFFSETTO:-0700
TZNAME:PDT
DTSTART:20240310T100000
END:DAYLIGHT
BEGIN:STANDARD
TZOFFSETFROM:-0700
TZOFFSETTO:-0800
TZNAME:PST
DTSTART:20241103T090000
END:STANDARD
END:VTIMEZONE
BEGIN:VEVENT
DTSTART;TZID=America/Los_Angeles:20240621T183000
DTEND;TZID=America/Los_Angeles:20240622T163000
DTSTAMP:20260425T034639
CREATED:20240516T004306Z
LAST-MODIFIED:20240522T161930Z
UID:7315-1718994600-1719073800@www.vccfresno.org
SUMMARY:Women of Value Conference
DESCRIPTION:Calling all women to join us for an empowering and uplifting experience at our 2024 Women of Value Conference: “B.I.G.” (Believing in God)! Prepare to be inspired by dynamic speakers including the renowned Christine Caine and the insightful Dr. Sarita Lyons\, as they share their wisdom and faith. Plus\, we are thrilled to feature the soul-stirring music of Doe Jones\, adding a beautiful dimension to our gathering. This event promises to be a transformative journey of growth\, connection\, and celebration as we believe in God to do “BIG” things. Mark your calendars and invite your friends for a day filled with inspiration\, encouragement\, and joy. \nCost: $60 / plus your transportation and stay in Stockton (you arrange) Click Here to Register \n 
URL:https://www.vccfresno.org/event/women-of-value-conference/
LOCATION:Progressive Community Church\, 2820 South B Street\, Stockton\, CA\, 95206
CATEGORIES:Women
ATTACH;FMTTYPE=image/png:https://www.vccfresno.org/wp-content/uploads/2024/05/Merry-Widows-Square.png
END:VEVENT
BEGIN:VEVENT
DTSTART;TZID=America/Los_Angeles:20240619T183000
DTEND;TZID=America/Los_Angeles:20240619T203000
DTSTAMP:20260425T034639
CREATED:20240516T001812Z
LAST-MODIFIED:20240516T001812Z
UID:7310-1718821800-1718829000@www.vccfresno.org
SUMMARY:Steadfast Youth Summer Kick-Off
DESCRIPTION:We’re kickin’ off the summer with a pool party!! Invite a friend to join us for pool fun\, games\, food and prizes!! 6:30-8:30pm Ladies be sure to wear a one piece or a tee over your two piece. Guys no speedos! See you there!!
URL:https://www.vccfresno.org/event/steadfast-youth-summer-kick-off/
LOCATION:532 Timmy Ave Clovis 93612\, 523 Timmy Ave\, Clovis\, CA\, 93612
CATEGORIES:Youth
ATTACH;FMTTYPE=image/jpeg:https://www.vccfresno.org/wp-content/uploads/2024/05/2024.jpg
END:VEVENT
BEGIN:VEVENT
DTSTART;TZID=America/Los_Angeles:20240618T183000
DTEND;TZID=America/Los_Angeles:20240618T200000
DTSTAMP:20260425T034639
CREATED:20240501T204604Z
LAST-MODIFIED:20240501T204604Z
UID:7215-1718735400-1718740800@www.vccfresno.org
SUMMARY:Kingdom Marriage Connect Crew
DESCRIPTION:A Kingdom-minded couple allows the Lord Jesus Christ to rule and reign in every area of their lives…especially with one another. Join us as we discover ways to… Be victorious over conflict\, Grow closer to God and to each other\, Maintain the spark of intimacy\, Impact the world around you as a couple. \nThe journey begins Tuesday\, June 11th\, from 6:30 to 8:00pm. Be sure to sign you and your partner up here online\, Or in the Courtyard after Sunday service on June 2nd or 9th. \nSIGN UP HERE!
URL:https://www.vccfresno.org/event/kingdom-marriage-connect-crew-2/
LOCATION:Valley Christian Center\, 4649 E. Shields Ave\, Fresno\, CA\, 93726\, United States
CATEGORIES:Life Groups,Marriage
ATTACH;FMTTYPE=image/png:https://www.vccfresno.org/wp-content/uploads/2024/04/Kingdom-Marriage-Square.png
END:VEVENT
BEGIN:VEVENT
DTSTART;TZID=America/Los_Angeles:20240616T090000
DTEND;TZID=America/Los_Angeles:20240616T120000
DTSTAMP:20260425T034639
CREATED:20240416T220055Z
LAST-MODIFIED:20240416T220055Z
UID:7179-1718528400-1718539200@www.vccfresno.org
SUMMARY:Father's Day Car Show
DESCRIPTION:Our 3rd annual Father’s Day Car Show is back! Sunday\, June 16th at 10:00am bring your family to check out to see some awesome cars in the courtyard\, enjoy a rootbeer float and be encouraged with a great message! It is going to be an awesome Sunday together as we celebrate the father’s and father figures in our lives.
URL:https://www.vccfresno.org/event/fathers-day-car-show/
LOCATION:Valley Christian Center\, 4649 E. Shields Ave\, Fresno\, CA\, 93726\, United States
CATEGORIES:Men
ATTACH;FMTTYPE=image/png:https://www.vccfresno.org/wp-content/uploads/2024/04/2024-FD-Car-Show-square.png
END:VEVENT
BEGIN:VEVENT
DTSTART;TZID=America/Los_Angeles:20240611T183000
DTEND;TZID=America/Los_Angeles:20240611T200000
DTSTAMP:20260425T034639
CREATED:20240418T181751Z
LAST-MODIFIED:20240418T182105Z
UID:7188-1718130600-1718136000@www.vccfresno.org
SUMMARY:Kingdom Marriage Connect Crew
DESCRIPTION:A Kingdom-minded couple allows the Lord Jesus Christ to rule and reign in every area of their lives…especially with one another. Join us as we discover ways to… Be victorious over conflict\, Grow closer to God and to each other\, Maintain the spark of intimacy\, Impact the world around you as a couple. \nThe journey begins Tuesday\, June 11th\, from 6:30 to 8:00pm. Be sure to sign you and your partner up here online\, Or in the Courtyard after Sunday service on June 2nd or 9th. \nSIGN UP HERE!
URL:https://www.vccfresno.org/event/kingdom-marriage-connect-crew/
LOCATION:Valley Christian Center\, 4649 E. Shields Ave\, Fresno\, CA\, 93726\, United States
CATEGORIES:Life Groups,Marriage
ATTACH;FMTTYPE=image/png:https://www.vccfresno.org/wp-content/uploads/2024/04/Kingdom-Marriage-Square.png
END:VEVENT
BEGIN:VEVENT
DTSTART;TZID=America/Los_Angeles:20240608T103000
DTEND;TZID=America/Los_Angeles:20240608T120000
DTSTAMP:20260425T034639
CREATED:20240522T191253Z
LAST-MODIFIED:20240522T191253Z
UID:7502-1717842600-1717848000@www.vccfresno.org
SUMMARY:
DESCRIPTION:PrimeTime55+ will be touring Fresno’s Forestiere Underground Gardens (5021 W. Shaw\, Fresno) on Saturday\, June 8th from 10:30am to 12:00pm! Cost is $20.00 per person and is pay upon arrival.\nParking is limited to street parking only along Shaw\, Forestiere and Cornelia Avenues.\nLet us know you’re coming by registering below!\n\nSee you there! \nSIGN UP HERE!
URL:https://www.vccfresno.org/event/7502/
LOCATION:CA
CATEGORIES:PrimeTime
ATTACH;FMTTYPE=image/png:https://www.vccfresno.org/wp-content/uploads/2024/05/PT55-June-2024-Forestiere-Gardens-Day-SQ.png
END:VEVENT
BEGIN:VEVENT
DTSTART;TZID=America/Los_Angeles:20240602T113000
DTEND;TZID=America/Los_Angeles:20240602T130000
DTSTAMP:20260425T034639
CREATED:20240110T215717Z
LAST-MODIFIED:20240110T215717Z
UID:6713-1717327800-1717333200@www.vccfresno.org
SUMMARY:PrimeTime Brunch
DESCRIPTION:Come hang out with old and new friends as we enjoy brunch together! Find out all the details when you sign up in the Courtyard before service (9:30-9:55am) on June 2nd.
URL:https://www.vccfresno.org/event/primetime-brunch-5/
LOCATION:CA
CATEGORIES:PrimeTime
ATTACH;FMTTYPE=image/png:https://www.vccfresno.org/wp-content/uploads/2024/01/PT-Brunch-After-Service-Banner.png
END:VEVENT
BEGIN:VEVENT
DTSTART;TZID=America/Los_Angeles:20240521T183000
DTEND;TZID=America/Los_Angeles:20240521T200000
DTSTAMP:20260425T034639
CREATED:20240118T023308Z
LAST-MODIFIED:20240222T012900Z
UID:6812-1716316200-1716321600@www.vccfresno.org
SUMMARY:Women's Deeper Bible Study
DESCRIPTION:Women Connect Deeper Bible Study is an on-going series that will lead women to go deeper in their relationship with God and His Word\, discovering what He says about our identity\, giftings\, relationships\, our place in the world and how to have courage.\nDeeper starts February 13th on Tuesday evenings from 6:30-8:00pm. \nSign up online here. 
URL:https://www.vccfresno.org/event/womens-deeper-bible-study-15/
LOCATION:Valley Christian Center\, 4649 E. Shields Ave\, Fresno\, CA\, 93726\, United States
ATTACH;FMTTYPE=image/png:https://www.vccfresno.org/wp-content/uploads/2024/01/Deeper-Square.png
END:VEVENT
BEGIN:VEVENT
DTSTART;TZID=America/Los_Angeles:20240519T090000
DTEND;TZID=America/Los_Angeles:20240519T113000
DTSTAMP:20260425T034639
CREATED:20240104T231909Z
LAST-MODIFIED:20240104T231909Z
UID:6677-1716109200-1716118200@www.vccfresno.org
SUMMARY:Baptism Sunday
DESCRIPTION:Baptism Sunday is here! Today is the day we celebrate those being raised to new life in Christ by way of water baptism. Those being baptized have gone through our baptism class and are ready to proclaim their faith. If you are interested in being baptized and have accepted Jesus as your Lord and Savior sign-up today for our next baptism class and baptism Sunday at vccfresno.org/baptism/.
URL:https://www.vccfresno.org/event/baptism-sunday-3/
LOCATION:Valley Christian Center\, 4649 E. Shields Ave\, Fresno\, CA\, 93726\, United States
CATEGORIES:Water Baptism
ATTACH;FMTTYPE=image/png:https://www.vccfresno.org/wp-content/uploads/2022/03/Water-Baptism-Class-SQ.png
END:VEVENT
BEGIN:VEVENT
DTSTART;TZID=America/Los_Angeles:20240518T130000
DTEND;TZID=America/Los_Angeles:20240518T150000
DTSTAMP:20260425T034639
CREATED:20240515T233800Z
LAST-MODIFIED:20240515T233800Z
UID:7305-1716037200-1716044400@www.vccfresno.org
SUMMARY:Norseman Elementary Food Box Distribution
DESCRIPTION:Are you or someone you know in need of food? Come by Norseman Elementary on Saturday\, May 18th from 1:00pm-3:00pm or until supplies last to pick up a food box. Food items provided: canned food\, non-perishables\, meat\, produce and tortillas. \nIf you would like to volunteer please arrive at 12:00pm at the Norseman parking lot\, ask for Rima and let her know you are there from Valley Christian Center.
URL:https://www.vccfresno.org/event/norseman-elementary-food-box-distribution/
LOCATION:Norseman Elementary\, 4636 E. Weldon Ave.\, Fresno\, CA\, 93703
CATEGORIES:Missions,Young Adults
ATTACH;FMTTYPE=image/png:https://www.vccfresno.org/wp-content/uploads/2024/05/Colorful-Food-Drive-Flyer-1.png
END:VEVENT
BEGIN:VEVENT
DTSTART;TZID=America/Los_Angeles:20240518T080000
DTEND;TZID=America/Los_Angeles:20240518T100000
DTSTAMP:20260425T034639
CREATED:20240418T173403Z
LAST-MODIFIED:20240418T174315Z
UID:7185-1716019200-1716026400@www.vccfresno.org
SUMMARY:Iron Men's Big Man's Breakfast
DESCRIPTION:Men join us on May 18th at 8:00am for the Iron Men Ministry Big Man’s Breakfast at Valley Dream Center (1835 N. Winery Ave.\, Fresno). Come and hear a powerful message from this year’s guest speaker\, Matthew Grundy. Nothing is quite like when hundreds of men gather and fellowship in the name of Jesus. You won’t want to miss it! \nCost is $20.00 per person. Get more information at ironmenministry.com. \nSIGN UP HERE!
URL:https://www.vccfresno.org/event/iron-mens-big-mans-breakfast/
LOCATION:Valley Dream Center\, 1835 N Winery Ave\, Fresno\, CA\, 93703\, United States
CATEGORIES:Men
ATTACH;FMTTYPE=image/png:https://www.vccfresno.org/wp-content/uploads/2024/04/5182024-Iron-Men-Ministry-Mens-Breakfast-at-VDC.png
END:VEVENT
BEGIN:VEVENT
DTSTART;TZID=America/Los_Angeles:20240514T183000
DTEND;TZID=America/Los_Angeles:20240514T200000
DTSTAMP:20260425T034639
CREATED:20240118T023211Z
LAST-MODIFIED:20240222T012835Z
UID:6810-1715711400-1715716800@www.vccfresno.org
SUMMARY:Women's Deeper Bible Study
DESCRIPTION:Women Connect Deeper Bible Study is an on-going series that will lead women to go deeper in their relationship with God and His Word\, discovering what He says about our identity\, giftings\, relationships\, our place in the world and how to have courage.\nDeeper starts February 13th on Tuesday evenings from 6:30-8:00pm. \nSign up online here. 
URL:https://www.vccfresno.org/event/womens-deeper-bible-study-14/
LOCATION:Valley Christian Center\, 4649 E. Shields Ave\, Fresno\, CA\, 93726\, United States
ATTACH;FMTTYPE=image/png:https://www.vccfresno.org/wp-content/uploads/2024/01/Deeper-Square.png
END:VEVENT
BEGIN:VEVENT
DTSTART;TZID=America/Los_Angeles:20240512T090000
DTEND;TZID=America/Los_Angeles:20240512T093000
DTSTAMP:20260425T034639
CREATED:20240104T230548Z
LAST-MODIFIED:20240118T194314Z
UID:6666-1715504400-1715506200@www.vccfresno.org
SUMMARY:Baptism Class
DESCRIPTION:Have you accepted Jesus as your Lord and Savior? Then your next step is water baptism. We believe water baptism in an outward expression of the inward work that God is doing in your life. It is one of the most significant next steps you can take to continue your faith journey\, and we love to celebrate with each and every person who takes this step of obedience in his or her journey to follow Jesus. Sunday\, May 12th is our next Water Baptism Class at 9:00am in Room 104. In this class you will learn 3 things: What is water baptism?\, What’s the purpose of water baptism? and What is the promise of water baptism? Followed by water baptisms on Sunday\, May 19th. \nSIGN UP HERE!
URL:https://www.vccfresno.org/event/baptism-class-3/
LOCATION:CA
CATEGORIES:Water Baptism
ATTACH;FMTTYPE=image/png:https://www.vccfresno.org/wp-content/uploads/2022/03/Water-Baptism-Class-SQ.png
END:VEVENT
BEGIN:VEVENT
DTSTART;TZID=America/Los_Angeles:20240512T080000
DTEND;TZID=America/Los_Angeles:20240616T170000
DTSTAMP:20260425T034639
CREATED:20240515T231620Z
LAST-MODIFIED:20240515T231620Z
UID:7295-1715500800-1718557200@www.vccfresno.org
SUMMARY:Change 4 Babies
DESCRIPTION:We will have baby bottles available for Pregnancy Care Center’s annual Change 4 Babies fundraiser at the Information Table in the Courtyard Sunday\, May 12th through Sunday\, June 9th. \nEach year we partner with Pregnancy Care Center by handing out baby bottles that you can take home and fill with your loose change\, cash or a check and return it by Sunday\, June 16th. \nPregnancy Care Center services include pregnancy tests\, limited ultrasounds\, option counseling\, parenting & nutrition classes\, post-abortive support groups and abstinence education. You get to be part of hundreds of choices for LIFE being made!
URL:https://www.vccfresno.org/event/change-4-babies/
LOCATION:CA
ATTACH;FMTTYPE=image/png:https://www.vccfresno.org/wp-content/uploads/2024/05/change4babies-SQ.png
END:VEVENT
BEGIN:VEVENT
DTSTART;TZID=America/Los_Angeles:20240507T183000
DTEND;TZID=America/Los_Angeles:20240507T200000
DTSTAMP:20260425T034639
CREATED:20240118T023113Z
LAST-MODIFIED:20240222T012805Z
UID:6808-1715106600-1715112000@www.vccfresno.org
SUMMARY:Women's Deeper Bible Study
DESCRIPTION:Women Connect Deeper Bible Study is an on-going series that will lead women to go deeper in their relationship with God and His Word\, discovering what He says about our identity\, giftings\, relationships\, our place in the world and how to have courage.\nDeeper starts February 13th on Tuesday evenings from 6:30-8:00pm. \nSign up online here. 
URL:https://www.vccfresno.org/event/womens-deeper-bible-study-13/
LOCATION:Valley Christian Center\, 4649 E. Shields Ave\, Fresno\, CA\, 93726\, United States
ATTACH;FMTTYPE=image/png:https://www.vccfresno.org/wp-content/uploads/2024/01/Deeper-Square.png
END:VEVENT
BEGIN:VEVENT
DTSTART;TZID=America/Los_Angeles:20240505T120000
DTEND;TZID=America/Los_Angeles:20240505T133000
DTSTAMP:20260425T034639
CREATED:20240501T221023Z
LAST-MODIFIED:20240501T221023Z
UID:7250-1714910400-1714915800@www.vccfresno.org
SUMMARY:Young Adults Lunch Picnic
DESCRIPTION:If you are 18-29 join us at Rotary East Park (6464 N Cedar Ave\, Fresno\, CA 93710) from 12:00-1:30pm to enjoy lunch and hanging out with others. You can pack or pick up a lunch and bring it with you. Hope to see you and a friend there!
URL:https://www.vccfresno.org/event/young-adults-lunch-picnic/
LOCATION:rotary east park\, 6464 N Cedar Ave\, Fresno\, CA\, 93710
CATEGORIES:Young Adults
ATTACH;FMTTYPE=image/png:https://www.vccfresno.org/wp-content/uploads/2024/05/YA-55-picnic-lunch.png
END:VEVENT
BEGIN:VEVENT
DTSTART;TZID=America/Los_Angeles:20240505T113000
DTEND;TZID=America/Los_Angeles:20240505T130000
DTSTAMP:20260425T034639
CREATED:20240110T215621Z
LAST-MODIFIED:20240110T215621Z
UID:6711-1714908600-1714914000@www.vccfresno.org
SUMMARY:PrimeTime Brunch
DESCRIPTION:Come hang out with old and new friends as we enjoy brunch together! Find out all the details when you sign up in the Courtyard before service (9:30-9:55am) on May 5th.
URL:https://www.vccfresno.org/event/primetime-brunch-4/
LOCATION:CA
CATEGORIES:PrimeTime
ATTACH;FMTTYPE=image/png:https://www.vccfresno.org/wp-content/uploads/2024/01/PT-Brunch-After-Service-Banner.png
END:VEVENT
BEGIN:VEVENT
DTSTART;TZID=America/Los_Angeles:20240504T090000
DTEND;TZID=America/Los_Angeles:20240504T140000
DTSTAMP:20260425T034639
CREATED:20240418T171920Z
LAST-MODIFIED:20240418T172950Z
UID:7182-1714813200-1714831200@www.vccfresno.org
SUMMARY:Men's Fishing Derby
DESCRIPTION:Calling ALL men to join us for our Fishing Derby coming up Saturday\, May 4th from 9:00am -2:00pm. We will be meeting at Pine Flat Lake • Trimmer Recreation Area.  Be sure to obtain your own fishing license prior to the derby. The cost is $5.00 for Adults & Kids (up to age 12) are Free with Registration (Includes Lunch and Drink). It’s gonna be a great day of fishin’! \n\nSIGN UP HERE!
URL:https://www.vccfresno.org/event/mens-fishing-derby/
LOCATION:Pine Flat Lake / Trimmer Rec Area
CATEGORIES:Men
ATTACH;FMTTYPE=image/png:https://www.vccfresno.org/wp-content/uploads/2024/04/24-Mens-Fishing-Derby-IDEAS-square.png
END:VEVENT
BEGIN:VEVENT
DTSTART;TZID=America/Los_Angeles:20240502T180000
DTEND;TZID=America/Los_Angeles:20240502T200000
DTSTAMP:20260425T034639
CREATED:20240415T214408Z
LAST-MODIFIED:20240415T214408Z
UID:7173-1714672800-1714680000@www.vccfresno.org
SUMMARY:PrimeTime 55+ Potluck & Line Dancing
DESCRIPTION:We are in for a great time of dinner\, fellowship and line dancing on Thursday\, May 2nd at VALLEY in Rooms 401-402 from 6:00-8:00pm! Come learn beginning line dancing (taught by the Pughs) or just join us for the potluck!\nLet us know what you’re bringing when you register!\nSIGN UP HERE!
URL:https://www.vccfresno.org/event/primetime-55-potluck-line-dancing/
LOCATION:Valley Christian Center\, 4649 E. Shields Ave\, Fresno\, CA\, 93726\, United States
CATEGORIES:PrimeTime
ATTACH;FMTTYPE=image/png:https://www.vccfresno.org/wp-content/uploads/2024/04/PT55-May-2024-PotluckLineDancing-SQ.png
END:VEVENT
BEGIN:VEVENT
DTSTART;TZID=America/Los_Angeles:20240430T183000
DTEND;TZID=America/Los_Angeles:20240430T200000
DTSTAMP:20260425T034639
CREATED:20240118T023013Z
LAST-MODIFIED:20240222T012741Z
UID:6806-1714501800-1714507200@www.vccfresno.org
SUMMARY:Women's Deeper Bible Study
DESCRIPTION:Women Connect Deeper Bible Study is an on-going series that will lead women to go deeper in their relationship with God and His Word\, discovering what He says about our identity\, giftings\, relationships\, our place in the world and how to have courage.\nDeeper starts February 13th on Tuesday evenings from 6:30-8:00pm. \nSign up online here. 
URL:https://www.vccfresno.org/event/womens-deeper-bible-study-12/
LOCATION:Valley Christian Center\, 4649 E. Shields Ave\, Fresno\, CA\, 93726\, United States
ATTACH;FMTTYPE=image/png:https://www.vccfresno.org/wp-content/uploads/2024/01/Deeper-Square.png
END:VEVENT
BEGIN:VEVENT
DTSTART;TZID=America/Los_Angeles:20240428T123000
DTEND;TZID=America/Los_Angeles:20240428T153000
DTSTAMP:20260425T034639
CREATED:20240410T203431Z
LAST-MODIFIED:20240410T203431Z
UID:7168-1714307400-1714318200@www.vccfresno.org
SUMMARY:Family Day @ United Skates
DESCRIPTION:On Sunday\, April 28th after church swap your regular shoes for skates! We are doing a Valley Family take over at United Skate in Clovis. Parents you can come in on the fun and dress in your 70’s best too! For just $13 per person and $5 for skate rentals\, we’ll be rolling back in time! Be there or be square! 12:30-3:30pm united Skates on Peach and Gettysburg.
URL:https://www.vccfresno.org/event/family-day-united-skates/
LOCATION:United Skates\, 2881 Peach Ave\, Clovis\, CA\, 93612
CATEGORIES:Kids
ATTACH;FMTTYPE=image/jpeg:https://www.vccfresno.org/wp-content/uploads/2024/04/United-Skate-post.jpg
END:VEVENT
BEGIN:VEVENT
DTSTART;TZID=America/Los_Angeles:20240428T111500
DTEND;TZID=America/Los_Angeles:20240428T120000
DTSTAMP:20260425T034639
CREATED:20240108T234827Z
LAST-MODIFIED:20240118T194445Z
UID:6686-1714302900-1714305600@www.vccfresno.org
SUMMARY:Meet & Greet
DESCRIPTION:If you are new to Valley our team would love to meet you! Join us on any of the following Sunday’s February 18th\, April 28th\, June 30th\, August 25th\, October 27th\, or December 15th right after service for a Meet & Greet in the APR. There will be snacks\, refreshments\, and information on who we are at Valley and how you can get connected. We look forward to meeting you! Click the link to reserve your spot. \nSIGN UP HERE!
URL:https://www.vccfresno.org/event/meet-greet-10/
LOCATION:Valley Christian Center\, 4649 E. Shields Ave\, Fresno\, CA\, 93726\, United States
ATTACH;FMTTYPE=image/png:https://www.vccfresno.org/wp-content/uploads/2024/01/Meet-Greet-Front.png
END:VEVENT
BEGIN:VEVENT
DTSTART;TZID=America/Los_Angeles:20240423T183000
DTEND;TZID=America/Los_Angeles:20240423T200000
DTSTAMP:20260425T034639
CREATED:20240118T022918Z
LAST-MODIFIED:20240222T012711Z
UID:6804-1713897000-1713902400@www.vccfresno.org
SUMMARY:Women's Deeper Bible Study
DESCRIPTION:Women Connect Deeper Bible Study is an on-going series that will lead women to go deeper in their relationship with God and His Word\, discovering what He says about our identity\, giftings\, relationships\, our place in the world and how to have courage.\nDeeper starts February 13th on Tuesday evenings from 6:30-8:00pm. \nSign up online here. 
URL:https://www.vccfresno.org/event/womens-deeper-bible-study-11/
LOCATION:Valley Christian Center\, 4649 E. Shields Ave\, Fresno\, CA\, 93726\, United States
ATTACH;FMTTYPE=image/png:https://www.vccfresno.org/wp-content/uploads/2024/01/Deeper-Square.png
END:VEVENT
BEGIN:VEVENT
DTSTART;TZID=America/Los_Angeles:20240421T140000
DTEND;TZID=America/Los_Angeles:20240421T170000
DTSTAMP:20260425T034639
CREATED:20240321T202947Z
LAST-MODIFIED:20240408T173936Z
UID:7043-1713708000-1713718800@www.vccfresno.org
SUMMARY:PrimeTime 55+ Golden Chain Theater Day
DESCRIPTION:We are taking reservations now for our trip to the Golden Chain Theatre (42130 CA-41\, Oakhurst) on Sunday\, April 21st where we’ll see the 2:00pm showing of Fiddler on the Roof.\nABOUT THE SHOW:\nThe heart-warming story of the dairyman Tevye\, his family and the village of Anatevka in 1905 Russia where faith and love inspire a generation. One of the most successful and long-running musicals of all time\, including such favorite songs as: “If I Were a Rich Man\,” “Matchmaker\, Matchmaker\,” “Tradition” and “Sunrise Sunset.”\nTicket price per person is $15.00 and all online reservations MUST be made by 3:00pm on Sunday\, April 7th.\nSIGN UP HERE!
URL:https://www.vccfresno.org/event/primetime-55-golden-chain-theater-day/
LOCATION:Golden Chain Theatre\, 42130 CA-41\, Oakhurst\, CA\, 93644\, United States
CATEGORIES:PrimeTime
ATTACH;FMTTYPE=image/png:https://www.vccfresno.org/wp-content/uploads/2024/03/April-2024-PrimeTime-55-Golden-Chain-Theatre-Day-SQ.png
END:VEVENT
BEGIN:VEVENT
DTSTART;TZID=America/Los_Angeles:20240416T183000
DTEND;TZID=America/Los_Angeles:20240416T200000
DTSTAMP:20260425T034639
CREATED:20240118T022816Z
LAST-MODIFIED:20240222T012643Z
UID:6802-1713292200-1713297600@www.vccfresno.org
SUMMARY:Women's Deeper Bible Study
DESCRIPTION:Women Connect Deeper Bible Study is an on-going series that will lead women to go deeper in their relationship with God and His Word\, discovering what He says about our identity\, giftings\, relationships\, our place in the world and how to have courage.\nDeeper starts February 13th on Tuesday evenings from 6:30-8:00pm. \nSign up online here. 
URL:https://www.vccfresno.org/event/womens-deeper-bible-study-10/
LOCATION:Valley Christian Center\, 4649 E. Shields Ave\, Fresno\, CA\, 93726\, United States
ATTACH;FMTTYPE=image/png:https://www.vccfresno.org/wp-content/uploads/2024/01/Deeper-Square.png
END:VEVENT
BEGIN:VEVENT
DTSTART;TZID=America/Los_Angeles:20240413T073000
DTEND;TZID=America/Los_Angeles:20240413T220000
DTSTAMP:20260425T034639
CREATED:20240304T205251Z
LAST-MODIFIED:20240304T205251Z
UID:6924-1712993400-1713045600@www.vccfresno.org
SUMMARY:Steadfast Youth - Winter One Day
DESCRIPTION:A one day winter camp for students in 6th-12th grade. This is a full day event from 7:30am-10:00am (meet up and pick up from Valley Christian Center) at Life Pacific University in San Dimas\, CA. We will be gathering with other youth groups in California. The day will include speakers\, worship\, games\, prizes and lunch. Students can pick up and application on Sundays and Wednesday’s in the youth room from Pastor Jason. Cost is $65\, applications are due by March 31st.
URL:https://www.vccfresno.org/event/steadfast-youth-winter-one-day/
LOCATION:Life Pacific University\, 1100 W. Covina Blvd.\, San Dimas\, CA\, United States
CATEGORIES:Youth
ATTACH;FMTTYPE=image/png:https://www.vccfresno.org/wp-content/uploads/2024/03/SFY-WINTER-ONE-DAY-24-SQUARE.png
END:VEVENT
BEGIN:VEVENT
DTSTART;TZID=America/Los_Angeles:20240409T183000
DTEND;TZID=America/Los_Angeles:20240409T200000
DTSTAMP:20260425T034639
CREATED:20240118T022718Z
LAST-MODIFIED:20240222T012617Z
UID:6800-1712687400-1712692800@www.vccfresno.org
SUMMARY:Women's Deeper Bible Study
DESCRIPTION:Women Connect Deeper Bible Study is an on-going series that will lead women to go deeper in their relationship with God and His Word\, discovering what He says about our identity\, giftings\, relationships\, our place in the world and how to have courage.\nDeeper starts February 13th on Tuesday evenings from 6:30-8:00pm. \nSign up online here. 
URL:https://www.vccfresno.org/event/womens-deeper-bible-study-9/
LOCATION:Valley Christian Center\, 4649 E. Shields Ave\, Fresno\, CA\, 93726\, United States
ATTACH;FMTTYPE=image/png:https://www.vccfresno.org/wp-content/uploads/2024/01/Deeper-Square.png
END:VEVENT
BEGIN:VEVENT
DTSTART;TZID=America/Los_Angeles:20240407T113000
DTEND;TZID=America/Los_Angeles:20240407T130000
DTSTAMP:20260425T034639
CREATED:20240110T215521Z
LAST-MODIFIED:20240110T215521Z
UID:6709-1712489400-1712494800@www.vccfresno.org
SUMMARY:PrimeTime Brunch
DESCRIPTION:Come hang out with old and new friends as we enjoy brunch together! Find out all the details when you sign up in the Courtyard before service (9:30-9:55am) on April 7th.
URL:https://www.vccfresno.org/event/primetime-brunch-3/
LOCATION:CA
CATEGORIES:PrimeTime
ATTACH;FMTTYPE=image/png:https://www.vccfresno.org/wp-content/uploads/2024/01/PT-Brunch-After-Service-Banner.png
END:VEVENT
BEGIN:VEVENT
DTSTART;TZID=America/Los_Angeles:20240407T113000
DTEND;TZID=America/Los_Angeles:20240407T130000
DTSTAMP:20260425T034639
CREATED:20240109T212632Z
LAST-MODIFIED:20240109T212632Z
UID:6699-1712489400-1712494800@www.vccfresno.org
SUMMARY:Valley Membership Class
DESCRIPTION:Finding a church home is so important in our faith journey. It helps us be faithful disciples of Jesus and to participate as members of the body of Christ. Sign-Up for our next membership class to learn what it means to make Valley your home. \nSIGN-UP HERE
URL:https://www.vccfresno.org/event/valley-membership-class-3/
LOCATION:Valley Christian Center\, 4649 E. Shields Ave\, Fresno\, CA\, 93726\, United States
ATTACH;FMTTYPE=image/png:https://www.vccfresno.org/wp-content/uploads/2023/11/Membership-SQ.png
END:VEVENT
BEGIN:VEVENT
DTSTART;TZID=America/Los_Angeles:20240402T183000
DTEND;TZID=America/Los_Angeles:20240402T200000
DTSTAMP:20260425T034639
CREATED:20240118T022617Z
LAST-MODIFIED:20240222T012549Z
UID:6798-1712082600-1712088000@www.vccfresno.org
SUMMARY:Women's Deeper Bible Study
DESCRIPTION:Women Connect Deeper Bible Study is an on-going series that will lead women to go deeper in their relationship with God and His Word\, discovering what He says about our identity\, giftings\, relationships\, our place in the world and how to have courage.\nDeeper starts February 13th on Tuesday evenings from 6:30-8:00pm. \nSign up online here. 
URL:https://www.vccfresno.org/event/womens-deeper-bible-study-8/
LOCATION:Valley Christian Center\, 4649 E. Shields Ave\, Fresno\, CA\, 93726\, United States
ATTACH;FMTTYPE=image/png:https://www.vccfresno.org/wp-content/uploads/2024/01/Deeper-Square.png
END:VEVENT
END:VCALENDAR