BEGIN:VCALENDAR
VERSION:2.0
PRODID:-//Valley Christian Center - ECPv6.13.2.1//NONSGML v1.0//EN
CALSCALE:GREGORIAN
METHOD:PUBLISH
X-WR-CALNAME:Valley Christian Center
X-ORIGINAL-URL:https://www.vccfresno.org
X-WR-CALDESC:Events for Valley Christian Center
REFRESH-INTERVAL;VALUE=DURATION:PT1H
X-Robots-Tag:noindex
X-PUBLISHED-TTL:PT1H
BEGIN:VTIMEZONE
TZID:America/Los_Angeles
BEGIN:DAYLIGHT
TZOFFSETFROM:-0800
TZOFFSETTO:-0700
TZNAME:PDT
DTSTART:20250309T100000
END:DAYLIGHT
BEGIN:STANDARD
TZOFFSETFROM:-0700
TZOFFSETTO:-0800
TZNAME:PST
DTSTART:20251102T090000
END:STANDARD
BEGIN:DAYLIGHT
TZOFFSETFROM:-0800
TZOFFSETTO:-0700
TZNAME:PDT
DTSTART:20260308T100000
END:DAYLIGHT
BEGIN:STANDARD
TZOFFSETFROM:-0700
TZOFFSETTO:-0800
TZNAME:PST
DTSTART:20261101T090000
END:STANDARD
END:VTIMEZONE
BEGIN:VEVENT
DTSTART;TZID=America/Los_Angeles:20260119T190000
DTEND;TZID=America/Los_Angeles:20260119T200000
DTSTAMP:20260423T165341
CREATED:20260105T225208Z
LAST-MODIFIED:20260105T225208Z
UID:9115-1768849200-1768852800@www.vccfresno.org
SUMMARY:2026 - 21 Days Prayer Night
DESCRIPTION:Each night of the 21 Days of Prayer & Fasting we have an opportunity to gather together with others in our city at participating churches in our community for a one hour prayer and worship service in-person or online. \nJanuary 19th | Access Church / 4386 N. Chestnut Ave. Fresno 93726 | 7:00-8:00pm \nLink to join live: click here
URL:https://www.vccfresno.org/event/2026-21-days-prayer-night-15/
LOCATION:CA
CATEGORIES:Prayer
ATTACH;FMTTYPE=image/png:https://www.vccfresno.org/wp-content/uploads/2025/12/21-Days-Square-1.png
END:VEVENT
BEGIN:VEVENT
DTSTART;TZID=America/Los_Angeles:20260118T180000
DTEND;TZID=America/Los_Angeles:20260118T190000
DTSTAMP:20260423T165341
CREATED:20260105T224953Z
LAST-MODIFIED:20260105T224953Z
UID:9113-1768759200-1768762800@www.vccfresno.org
SUMMARY:2026 - 21 Days Prayer Night
DESCRIPTION:Each night of the 21 Days of Prayer & Fasting we have an opportunity to gather together with others in our city at participating churches in our community for a one hour prayer and worship service in-person or online. \nJanuary 18th | Northpointe Church / 4625 W. Palo Alto Ave. Fresno 93722 | 6:00-7:00pm \nLink to join live: click here
URL:https://www.vccfresno.org/event/2026-21-days-prayer-night-14/
LOCATION:CA
CATEGORIES:Prayer
ATTACH;FMTTYPE=image/png:https://www.vccfresno.org/wp-content/uploads/2025/12/21-Days-Square-1.png
END:VEVENT
BEGIN:VEVENT
DTSTART;TZID=America/Los_Angeles:20260117T180000
DTEND;TZID=America/Los_Angeles:20260117T190000
DTSTAMP:20260423T165341
CREATED:20260105T224744Z
LAST-MODIFIED:20260105T224744Z
UID:9111-1768672800-1768676400@www.vccfresno.org
SUMMARY:2026 - 21 Days Prayer Night
DESCRIPTION:Each night of the 21 Days of Prayer & Fasting we have an opportunity to gather together with others in our city at participating churches in our community for a one hour prayer and worship service in-person or online. \nJanuary 17th | Family Christian Assembly / 535 N. Cedar Ave. Fresno 93702 | 6:00-7:00pm \nLink to join live: click here
URL:https://www.vccfresno.org/event/2026-21-days-prayer-night-13/
LOCATION:CA
CATEGORIES:Prayer
ATTACH;FMTTYPE=image/png:https://www.vccfresno.org/wp-content/uploads/2025/12/21-Days-Square-1.png
END:VEVENT
BEGIN:VEVENT
DTSTART;TZID=America/Los_Angeles:20260116T190000
DTEND;TZID=America/Los_Angeles:20260116T200000
DTSTAMP:20260423T165341
CREATED:20260105T224504Z
LAST-MODIFIED:20260105T224504Z
UID:9109-1768590000-1768593600@www.vccfresno.org
SUMMARY:2026 - 21 Days Prayer Night
DESCRIPTION:Each night of the 21 Days of Prayer & Fasting we have an opportunity to gather together with others in our city at participating churches in our community for a one hour prayer and worship service in-person or online. \nJanuary 16th | Peoples Church / 7172 N. Cedar Ave. Fresno 93720 | 7:00-8:00pm \nLink to join live: click here
URL:https://www.vccfresno.org/event/2026-21-days-prayer-night-12/
LOCATION:CA
CATEGORIES:Prayer
ATTACH;FMTTYPE=image/png:https://www.vccfresno.org/wp-content/uploads/2025/12/21-Days-Square-1.png
END:VEVENT
BEGIN:VEVENT
DTSTART;TZID=America/Los_Angeles:20260115T190000
DTEND;TZID=America/Los_Angeles:20260115T200000
DTSTAMP:20260423T165341
CREATED:20260105T224050Z
LAST-MODIFIED:20260105T224137Z
UID:9107-1768503600-1768507200@www.vccfresno.org
SUMMARY:2026 - 21 Days Prayer Night
DESCRIPTION:Each night of the 21 Days of Prayer & Fasting we have an opportunity to gather together with others in our city at participating churches in our community for a one hour prayer and worship service in-person or online. \nJanuary 15th | Northpark/West Fresno Center / 2297 E. Shepherd Ave. Fresno 93720 | 7:00-8:00pm \nLink to join live: click here
URL:https://www.vccfresno.org/event/2026-21-days-prayer-night-11/
LOCATION:CA
CATEGORIES:Prayer
ATTACH;FMTTYPE=image/png:https://www.vccfresno.org/wp-content/uploads/2025/12/21-Days-Square-1.png
END:VEVENT
BEGIN:VEVENT
DTSTART;TZID=America/Los_Angeles:20260114T190000
DTEND;TZID=America/Los_Angeles:20260114T200000
DTSTAMP:20260423T165341
CREATED:20260105T223817Z
LAST-MODIFIED:20260105T223817Z
UID:9105-1768417200-1768420800@www.vccfresno.org
SUMMARY:2026 - 21 Days Prayer Night
DESCRIPTION:Each night of the 21 Days of Prayer & Fasting we have an opportunity to gather together with others in our city at participating churches in our community for a one hour prayer and worship service in-person or online. \nJanuary 14th | Bethany Church / 9161 N. Maple Fresno 93720 | 7:00-8:00pm \nLink to join live: click here
URL:https://www.vccfresno.org/event/2026-21-days-prayer-night-10/
LOCATION:CA
CATEGORIES:Prayer
ATTACH;FMTTYPE=image/png:https://www.vccfresno.org/wp-content/uploads/2025/12/21-Days-Square-1.png
END:VEVENT
BEGIN:VEVENT
DTSTART;TZID=America/Los_Angeles:20260112T190000
DTEND;TZID=America/Los_Angeles:20260112T200000
DTSTAMP:20260423T165341
CREATED:20260105T223215Z
LAST-MODIFIED:20260105T223215Z
UID:9101-1768244400-1768248000@www.vccfresno.org
SUMMARY:2026 - 21 Days Prayer Night
DESCRIPTION:Each night of the 21 Days of Prayer & Fasting we have an opportunity to gather together with others in our city at participating churches in our community for a one hour prayer and worship service in-person or online. \nJanuary 12th | University Vineyard / 4910 N. Woodrow Fresno 93726 | 7:00-8:00pm \nLegacy Church / 2171 Villa Ave. Clovis CA 93612 / 7:00-8:00pm \nLink to join live: click here
URL:https://www.vccfresno.org/event/2026-21-days-prayer-night-8/
LOCATION:CA
CATEGORIES:Prayer
ATTACH;FMTTYPE=image/png:https://www.vccfresno.org/wp-content/uploads/2025/12/21-Days-Square-1.png
END:VEVENT
BEGIN:VEVENT
DTSTART;TZID=America/Los_Angeles:20260111T180000
DTEND;TZID=America/Los_Angeles:20260111T190000
DTSTAMP:20260423T165341
CREATED:20260105T222433Z
LAST-MODIFIED:20260105T222433Z
UID:9099-1768154400-1768158000@www.vccfresno.org
SUMMARY:2026 -21 Days Prayer Night
DESCRIPTION:Each night of the 21 Days of Prayer & Fasting we have an opportunity to gather together with others in our city at participating churches in our community for a one hour prayer and worship service in-person or online. \nJanuary 11th | Mountain View Church / 3600 N. Fowler Fresno 93727 | 6:00-7:00pm \nLink to join live: click here
URL:https://www.vccfresno.org/event/2026-21-days-prayer-night-7/
LOCATION:CA
CATEGORIES:Prayer
ATTACH;FMTTYPE=image/png:https://www.vccfresno.org/wp-content/uploads/2025/12/21-Days-Square-1.png
END:VEVENT
BEGIN:VEVENT
DTSTART;TZID=America/Los_Angeles:20260110T180000
DTEND;TZID=America/Los_Angeles:20260110T190000
DTSTAMP:20260423T165341
CREATED:20260105T221952Z
LAST-MODIFIED:20260105T221952Z
UID:9097-1768068000-1768071600@www.vccfresno.org
SUMMARY:2026 - 21 Days Prayer Night
DESCRIPTION:Each night of the 21 Days of Prayer & Fasting we have an opportunity to gather together with others in our city at participating churches in our community for a one hour prayer and worship service in-person or online. \nJanuary 10th | Northwest Church / 15415 N. West Ave.Fresno 93711 | 6:00-7:00pm \nLink to join live: click here
URL:https://www.vccfresno.org/event/2026-21-days-prayer-night-6/
LOCATION:CA
CATEGORIES:Prayer
ATTACH;FMTTYPE=image/png:https://www.vccfresno.org/wp-content/uploads/2025/12/21-Days-Square-1.png
END:VEVENT
BEGIN:VEVENT
DTSTART;TZID=America/Los_Angeles:20260109T190000
DTEND;TZID=America/Los_Angeles:20260109T200000
DTSTAMP:20260423T165341
CREATED:20260105T221719Z
LAST-MODIFIED:20260105T222159Z
UID:9095-1767985200-1767988800@www.vccfresno.org
SUMMARY:2026 - 21 Days Prayer Night
DESCRIPTION:Each night of the 21 Days of Prayer & Fasting we have an opportunity to gather together with others in our city at participating churches in our community for a one hour prayer and worship service in-person or online. \nJanuary 9th | First Presbyterian Church / 1540 M. Street Fresno 93721 | 7:00-8:00pm \nLink to join live: click here
URL:https://www.vccfresno.org/event/2026-21-days-prayer-night-5/
LOCATION:CA
CATEGORIES:Prayer
ATTACH;FMTTYPE=image/png:https://www.vccfresno.org/wp-content/uploads/2025/12/21-Days-Square-1.png
END:VEVENT
BEGIN:VEVENT
DTSTART;TZID=America/Los_Angeles:20260108T190000
DTEND;TZID=America/Los_Angeles:20260108T200000
DTSTAMP:20260423T165341
CREATED:20260105T215841Z
LAST-MODIFIED:20260105T221514Z
UID:9093-1767898800-1767902400@www.vccfresno.org
SUMMARY:2026 - 21 Days Prayer Night
DESCRIPTION:Each night of the 21 Days of Prayer & Fasting we have an opportunity to gather together with others in our city at participating churches in our community for a one hour prayer and worship service in-person or online. \nJanuary 8th | Campus Bible Church / 4710 N. Maple Fresno 93726 | 7:00-8:00pm \nLink to join live: click here
URL:https://www.vccfresno.org/event/2026-21-days-prayer-night-4/
LOCATION:CA
CATEGORIES:Prayer
ATTACH;FMTTYPE=image/png:https://www.vccfresno.org/wp-content/uploads/2025/12/21-Days-Square-1.png
END:VEVENT
BEGIN:VEVENT
DTSTART;TZID=America/Los_Angeles:20260107T190000
DTEND;TZID=America/Los_Angeles:20260107T200000
DTSTAMP:20260423T165341
CREATED:20251231T172603Z
LAST-MODIFIED:20251231T172603Z
UID:9091-1767812400-1767816000@www.vccfresno.org
SUMMARY:2026 - 21 Days Prayer Night
DESCRIPTION:Each night of the 21 Days of Prayer & Fasting we have an opportunity to gather together with others in our city at participating churches in our community for a one hour prayer and worship service in-person or online. \nJanuary 7th | New Covenant Church / 1744 E. Nees Ave Fresno 93720 | 7:00-8:00pm \nLink to join live: click here
URL:https://www.vccfresno.org/event/2026-21-days-prayer-night-3/
LOCATION:CA
CATEGORIES:Prayer
ATTACH;FMTTYPE=image/png:https://www.vccfresno.org/wp-content/uploads/2025/12/21-Days-Square-1.png
END:VEVENT
BEGIN:VEVENT
DTSTART;TZID=America/Los_Angeles:20260106T190000
DTEND;TZID=America/Los_Angeles:20260106T200000
DTSTAMP:20260423T165341
CREATED:20251231T171936Z
LAST-MODIFIED:20251231T171936Z
UID:9089-1767726000-1767729600@www.vccfresno.org
SUMMARY:2026 - 21 Days Prayer Night
DESCRIPTION:Each night of the 21 Days of Prayer & Fasting we have an opportunity to gather together with others in our city at participating churches in our community for a one hour prayer and worship service in-person or online. \nJanuary 6th | First Armenian Presbyterian /430 S. 1st St.\, Fresno 93702 | 7:00-8:00pm \nLink to join live: click here \nor \nHouse of the Gospel / 3941 E. Mono Ave.\, Fresno 93702 | 7:00-8:00pm \nLink to join live: click here
URL:https://www.vccfresno.org/event/2026-21-days-prayer-night-2/
LOCATION:CA
CATEGORIES:Prayer
ATTACH;FMTTYPE=image/png:https://www.vccfresno.org/wp-content/uploads/2025/12/21-Days-Square-1.png
END:VEVENT
BEGIN:VEVENT
DTSTART;TZID=America/Los_Angeles:20260105T190000
DTEND;TZID=America/Los_Angeles:20260105T200000
DTSTAMP:20260423T165341
CREATED:20251231T170657Z
LAST-MODIFIED:20251231T170657Z
UID:9086-1767639600-1767643200@www.vccfresno.org
SUMMARY:2026 - 21 Days Prayer Night
DESCRIPTION:Each night of the 21 Days of Prayer & Fasting we have an opportunity to gather together with others in our city at participating churches in our community for a one hour prayer and worship service in-person or online. \nJanuary 5th | Valley Dream Center | 7:00-8:00pm \nLink to join live: click here
URL:https://www.vccfresno.org/event/2026-21-days-prayer-night/
LOCATION:Valley Dream Center\, 1835 N Winery Ave\, Fresno\, CA\, 93703\, United States
CATEGORIES:Prayer
ATTACH;FMTTYPE=image/png:https://www.vccfresno.org/wp-content/uploads/2025/12/21-Days-Square-1.png
END:VEVENT
BEGIN:VEVENT
DTSTART;TZID=America/Los_Angeles:20260105T080000
DTEND;TZID=America/Los_Angeles:20260105T170000
DTSTAMP:20260423T165341
CREATED:20260105T223526Z
LAST-MODIFIED:20260105T223526Z
UID:9103-1767600000-1767632400@www.vccfresno.org
SUMMARY:2026 - 21 Days Prayer Night
DESCRIPTION:Each night of the 21 Days of Prayer & Fasting we have an opportunity to gather together with others in our city at participating churches in our community for a one hour prayer and worship service in-person or online. \nJanuary 13th | Westside Church of God / 1422 N. California Ave. Fresno 93706 | 7:00-8:00pm \nLink to join live: click here
URL:https://www.vccfresno.org/event/2026-21-days-prayer-night-9/
LOCATION:CA
END:VEVENT
BEGIN:VEVENT
DTSTART;TZID=America/Los_Angeles:20251221T110000
DTEND;TZID=America/Los_Angeles:20251221T120000
DTSTAMP:20260423T165341
CREATED:20251201T195630Z
LAST-MODIFIED:20251201T195630Z
UID:8986-1766314800-1766318400@www.vccfresno.org
SUMMARY:Christmas at Valley
DESCRIPTION:Join us this Sunday after service in the cafeteria for Photos with Santa\, treats\, and Christmas Card making. \nKeep joining us this Christmas season on Sundays for the Good News and community and fun afterward. Each Sunday after service we will have something fun for you and your family to enjoy. Don’t miss it and invite someone to join you this Christmas season.
URL:https://www.vccfresno.org/event/christmas-at-valley-4/
LOCATION:Valley Dream Center\, 1835 N Winery Ave\, Fresno\, CA\, 93703\, United States
CATEGORIES:Kids
ATTACH;FMTTYPE=image/png:https://www.vccfresno.org/wp-content/uploads/2025/12/SQAURE-2025-Christmas-2.png
END:VEVENT
BEGIN:VEVENT
DTSTART;TZID=America/Los_Angeles:20251214T110000
DTEND;TZID=America/Los_Angeles:20251214T120000
DTSTAMP:20260423T165341
CREATED:20251201T195124Z
LAST-MODIFIED:20251201T195124Z
UID:8983-1765710000-1765713600@www.vccfresno.org
SUMMARY:Christmas at Valley
DESCRIPTION:Join us this Sunday after service in the cafeteria for making an ornament for the tree. \nKeep joining us this Christmas season on Sundays for the Good News and community and fun afterward. Each Sunday after service we will have something fun for you and your family to enjoy. Don’t miss it and invite someone to join you this Christmas season.
URL:https://www.vccfresno.org/event/christmas-at-valley-3/
LOCATION:Valley Dream Center\, 1835 N Winery Ave\, Fresno\, CA\, 93703\, United States
CATEGORIES:Kids
ATTACH;FMTTYPE=image/png:https://www.vccfresno.org/wp-content/uploads/2025/12/SQAURE-2025-Christmas-1.png
END:VEVENT
BEGIN:VEVENT
DTSTART;TZID=America/Los_Angeles:20251211T180000
DTEND;TZID=America/Los_Angeles:20251211T203000
DTSTAMP:20260423T165341
CREATED:20250801T143928Z
LAST-MODIFIED:20250801T143928Z
UID:8674-1765476000-1765485000@www.vccfresno.org
SUMMARY:Recovery Alive
DESCRIPTION:Recovery Alive! program is a practical\, powerful and proven resource combining the raw honesty of the 12 steps with the hope of Jesus Christ. Recovery Alive! helps you discover a pathway to true healing and lasting freedom from any bondage or brokenness that has kept you from experiencing the abundant life God has created for you! Recovery Alive! is for anyone. No need to register\, just show up. Childcare is provided.\nJoin us Thursday nights in room 403 at Valley Christian Center starting at 6:00pm with refreshments and then worship begins at 6:30pm. Childcare is available in room 301.
URL:https://www.vccfresno.org/event/recovery-alive-25/
LOCATION:Valley Christian Center\, 4649 E. Shields Ave\, Fresno\, CA\, 93726\, United States
ATTACH;FMTTYPE=image/png:https://www.vccfresno.org/wp-content/uploads/2024/08/RECOVERY-ALIVE-WEBSITE-EVENT.png
END:VEVENT
BEGIN:VEVENT
DTSTART;TZID=America/Los_Angeles:20251207T110000
DTEND;TZID=America/Los_Angeles:20251207T130000
DTSTAMP:20260423T165341
CREATED:20250525T010846Z
LAST-MODIFIED:20250525T010846Z
UID:8529-1765105200-1765112400@www.vccfresno.org
SUMMARY:PrimeTime Brunch
DESCRIPTION:Come hang out with old and new friends as we enjoy brunch together! Find out all the details when you sign up in the Courtyard before service (9:30-9:55am) on December 7th.
URL:https://www.vccfresno.org/event/primetime-brunch-17/
LOCATION:CA
CATEGORIES:PrimeTime
ATTACH;FMTTYPE=image/png:https://www.vccfresno.org/wp-content/uploads/2024/05/PT-Brunch-NewLogo.png
END:VEVENT
BEGIN:VEVENT
DTSTART;TZID=America/Los_Angeles:20251207T110000
DTEND;TZID=America/Los_Angeles:20251207T120000
DTSTAMP:20260423T165341
CREATED:20251201T194548Z
LAST-MODIFIED:20251201T194548Z
UID:8980-1765105200-1765108800@www.vccfresno.org
SUMMARY:Christmas at Valley
DESCRIPTION:Join us this Sunday after service in the cafeteria for cookie decorating and a hot cocoa bar. \nKeep joining us this Christmas season on Sundays for the Good News and community and fun afterward. Each Sunday after service we will have something fun for you and your family to enjoy. Don’t miss it and invite someone to join you this Christmas season.
URL:https://www.vccfresno.org/event/christmas-at-valley-2/
LOCATION:Valley Dream Center\, 1835 N Winery Ave\, Fresno\, CA\, 93703\, United States
CATEGORIES:Kids
ATTACH;FMTTYPE=image/png:https://www.vccfresno.org/wp-content/uploads/2025/12/SQAURE-2025-Christmas.png
END:VEVENT
BEGIN:VEVENT
DTSTART;TZID=America/Los_Angeles:20251206T120000
DTEND;TZID=America/Los_Angeles:20251206T140000
DTSTAMP:20260423T165341
CREATED:20251114T083705Z
LAST-MODIFIED:20251114T083705Z
UID:8953-1765022400-1765029600@www.vccfresno.org
SUMMARY:PrimeTime 55+ Christmas Luncheon
DESCRIPTION:Come Celebrate Christmas With Us!\nJoin us on Saturday\, December 6th from 12:00pm to 2:00pm in Rooms 402-403 for our annual Christmas Luncheon! We will be enjoying a delicious lunch along with a fun time of singing Christmas carols\, playing games and celebrating the birth of Jesus together!\n\nSIGN UP HERE!
URL:https://www.vccfresno.org/event/primetime-55-christmas-luncheon-3/
LOCATION:Valley Christian Center\, 4649 E. Shields Ave\, Fresno\, CA\, 93726\, United States
CATEGORIES:PrimeTime
ATTACH;FMTTYPE=image/png:https://www.vccfresno.org/wp-content/uploads/2025/11/PT55-1262025-Christmas-Luncheon-SQ.png
END:VEVENT
BEGIN:VEVENT
DTSTART;TZID=America/Los_Angeles:20251204T180000
DTEND;TZID=America/Los_Angeles:20251204T203000
DTSTAMP:20260423T165341
CREATED:20250801T143813Z
LAST-MODIFIED:20250801T143813Z
UID:8672-1764871200-1764880200@www.vccfresno.org
SUMMARY:Recovery Alive
DESCRIPTION:Recovery Alive! program is a practical\, powerful and proven resource combining the raw honesty of the 12 steps with the hope of Jesus Christ. Recovery Alive! helps you discover a pathway to true healing and lasting freedom from any bondage or brokenness that has kept you from experiencing the abundant life God has created for you! Recovery Alive! is for anyone. No need to register\, just show up. Childcare is provided.\nJoin us Thursday nights in room 403 at Valley Christian Center starting at 6:00pm with refreshments and then worship begins at 6:30pm. Childcare is available in room 301.
URL:https://www.vccfresno.org/event/recovery-alive-24/
LOCATION:Valley Christian Center\, 4649 E. Shields Ave\, Fresno\, CA\, 93726\, United States
ATTACH;FMTTYPE=image/png:https://www.vccfresno.org/wp-content/uploads/2024/08/RECOVERY-ALIVE-WEBSITE-EVENT.png
END:VEVENT
BEGIN:VEVENT
DTSTART;TZID=America/Los_Angeles:20251202T090000
DTEND;TZID=America/Los_Angeles:20251202T130000
DTSTAMP:20260423T165341
CREATED:20250924T221437Z
LAST-MODIFIED:20250924T221437Z
UID:8814-1764666000-1764680400@www.vccfresno.org
SUMMARY:Christmas Decorating at Valley
DESCRIPTION:Do you love to decorate for the holidays?…Well\, so does Valley!\nCome join us on Tuesday\, December 2nd from 9:00am to 1:00pm as we deck the halls in true holiday fashion. Childcare is not provided. Lunch will be provided.\nSign ups are in the Courtyard November 23rd and 30th after Sunday services. \nTear down day is Monday\, January 5th from 9am to 1pm. \nSIGN UP HERE!
URL:https://www.vccfresno.org/event/christmas-decorating-at-valley/
LOCATION:Valley Christian Center\, 4649 E. Shields Ave\, Fresno\, CA\, 93726\, United States
ATTACH;FMTTYPE=image/png:https://www.vccfresno.org/wp-content/uploads/2025/09/christmas.png
END:VEVENT
BEGIN:VEVENT
DTSTART;TZID=America/Los_Angeles:20251130T100000
DTEND;TZID=America/Los_Angeles:20251130T120000
DTSTAMP:20260423T165341
CREATED:20251105T080037Z
LAST-MODIFIED:20251105T093457Z
UID:8895-1764496800-1764504000@www.vccfresno.org
SUMMARY:Angel Tree Outreach
DESCRIPTION:Help restore the relationship of an incarcerated parent and child by providing a gift on their behalf along with their own personal message of love to their child this Christmas. \nSign-ups to volunteer for Angel Tree sorting\, calling and delivery is: Sunday\, October 26\, after service in the Courtyard. \nSign-ups to purchase a gift for a special child on behalf of their parent will be: Sundays\, November 23 and 30\, after services in the Courtyard.
URL:https://www.vccfresno.org/event/angel-tree-outreach-2/
LOCATION:Valley Dream Center\, 1835 N Winery Ave\, Fresno\, CA\, 93703\, United States
ATTACH;FMTTYPE=image/png:https://www.vccfresno.org/wp-content/uploads/2025/11/Angel-Tree-Square.png
END:VEVENT
BEGIN:VEVENT
DTSTART;TZID=America/Los_Angeles:20251127T180000
DTEND;TZID=America/Los_Angeles:20251127T203000
DTSTAMP:20260423T165341
CREATED:20250801T143713Z
LAST-MODIFIED:20250801T143713Z
UID:8670-1764266400-1764275400@www.vccfresno.org
SUMMARY:Recovery Alive
DESCRIPTION:Recovery Alive! program is a practical\, powerful and proven resource combining the raw honesty of the 12 steps with the hope of Jesus Christ. Recovery Alive! helps you discover a pathway to true healing and lasting freedom from any bondage or brokenness that has kept you from experiencing the abundant life God has created for you! Recovery Alive! is for anyone. No need to register\, just show up. Childcare is provided.\nJoin us Thursday nights in room 403 at Valley Christian Center starting at 6:00pm with refreshments and then worship begins at 6:30pm. Childcare is available in room 301.
URL:https://www.vccfresno.org/event/recovery-alive-23/
LOCATION:Valley Christian Center\, 4649 E. Shields Ave\, Fresno\, CA\, 93726\, United States
ATTACH;FMTTYPE=image/png:https://www.vccfresno.org/wp-content/uploads/2024/08/RECOVERY-ALIVE-WEBSITE-EVENT.png
END:VEVENT
BEGIN:VEVENT
DTSTART;TZID=America/Los_Angeles:20251123T100000
DTEND;TZID=America/Los_Angeles:20251123T120000
DTSTAMP:20260423T165341
CREATED:20251105T075929Z
LAST-MODIFIED:20251105T075929Z
UID:8892-1763892000-1763899200@www.vccfresno.org
SUMMARY:Angel Tree Outreach
DESCRIPTION:Help restore the relationship of an incarcerated parent and child by providing a gift on their behalf along with their own personal message of love to their child this Christmas. \nSign-ups to volunteer for Angel Tree sorting\, calling and delivery is: Sunday\, October 26\, after service in the Courtyard. \nSign-ups to purchase a gift for a special child on behalf of their parent will be: Sundays\, November 23 and 30\, after services in the Courtyard.
URL:https://www.vccfresno.org/event/angel-tree-outreach/
LOCATION:Valley Dream Center\, 1835 N Winery Ave\, Fresno\, CA\, 93703\, United States
ATTACH;FMTTYPE=image/png:https://www.vccfresno.org/wp-content/uploads/2025/11/Angel-Tree-Square.png
END:VEVENT
BEGIN:VEVENT
DTSTART;TZID=America/Los_Angeles:20251120T180000
DTEND;TZID=America/Los_Angeles:20251120T203000
DTSTAMP:20260423T165341
CREATED:20250801T143606Z
LAST-MODIFIED:20250801T143606Z
UID:8668-1763661600-1763670600@www.vccfresno.org
SUMMARY:Recovery Alive
DESCRIPTION:Recovery Alive! program is a practical\, powerful and proven resource combining the raw honesty of the 12 steps with the hope of Jesus Christ. Recovery Alive! helps you discover a pathway to true healing and lasting freedom from any bondage or brokenness that has kept you from experiencing the abundant life God has created for you! Recovery Alive! is for anyone. No need to register\, just show up. Childcare is provided.\nJoin us Thursday nights in room 403 at Valley Christian Center starting at 6:00pm with refreshments and then worship begins at 6:30pm. Childcare is available in room 301.
URL:https://www.vccfresno.org/event/recovery-alive-22/
LOCATION:Valley Christian Center\, 4649 E. Shields Ave\, Fresno\, CA\, 93726\, United States
ATTACH;FMTTYPE=image/png:https://www.vccfresno.org/wp-content/uploads/2024/08/RECOVERY-ALIVE-WEBSITE-EVENT.png
END:VEVENT
BEGIN:VEVENT
DTSTART;TZID=America/Los_Angeles:20251119T183000
DTEND;TZID=America/Los_Angeles:20251119T200000
DTSTAMP:20260423T165341
CREATED:20251009T181646Z
LAST-MODIFIED:20251009T181646Z
UID:8862-1763577000-1763582400@www.vccfresno.org
SUMMARY:Following Jesus: Foundations for Faith
DESCRIPTION:If you have recently accepted Jesus as your Lord and Savior\, we would like to invite you to our class\, following JESUS: foundations for faith. Christianity is a day by day personal relationship with Jesus Christ. We would love to walk with you as you begin this journey. \n\nEach 8-week session will meet on Wednesday nights from 6:30pm to 8:00pm in Room 305. Childcare is available upon request for ages birth through 12 years old.\n\nSIGN UP HERE!
URL:https://www.vccfresno.org/event/following-jesus-foundations-for-faith-26/
LOCATION:Valley Christian Center\, 4649 E. Shields Ave\, Fresno\, CA\, 93726\, United States
ATTACH;FMTTYPE=image/png:https://www.vccfresno.org/wp-content/uploads/2025/08/VALLEY-following-Jesus_foundations-for-faith.png
END:VEVENT
BEGIN:VEVENT
DTSTART;TZID=America/Los_Angeles:20251113T180000
DTEND;TZID=America/Los_Angeles:20251113T203000
DTSTAMP:20260423T165341
CREATED:20250801T143459Z
LAST-MODIFIED:20250801T143459Z
UID:8666-1763056800-1763065800@www.vccfresno.org
SUMMARY:Recovery Alive
DESCRIPTION:Recovery Alive! program is a practical\, powerful and proven resource combining the raw honesty of the 12 steps with the hope of Jesus Christ. Recovery Alive! helps you discover a pathway to true healing and lasting freedom from any bondage or brokenness that has kept you from experiencing the abundant life God has created for you! Recovery Alive! is for anyone. No need to register\, just show up. Childcare is provided.\nJoin us Thursday nights in room 403 at Valley Christian Center starting at 6:00pm with refreshments and then worship begins at 6:30pm. Childcare is available in room 301.
URL:https://www.vccfresno.org/event/recovery-alive-21/
LOCATION:Valley Christian Center\, 4649 E. Shields Ave\, Fresno\, CA\, 93726\, United States
ATTACH;FMTTYPE=image/png:https://www.vccfresno.org/wp-content/uploads/2024/08/RECOVERY-ALIVE-WEBSITE-EVENT.png
END:VEVENT
BEGIN:VEVENT
DTSTART;TZID=America/Los_Angeles:20251112T183000
DTEND;TZID=America/Los_Angeles:20251112T200000
DTSTAMP:20260423T165341
CREATED:20251009T181601Z
LAST-MODIFIED:20251009T181601Z
UID:8860-1762972200-1762977600@www.vccfresno.org
SUMMARY:Following Jesus: Foundations for Faith
DESCRIPTION:If you have recently accepted Jesus as your Lord and Savior\, we would like to invite you to our class\, following JESUS: foundations for faith. Christianity is a day by day personal relationship with Jesus Christ. We would love to walk with you as you begin this journey. \n\nEach 8-week session will meet on Wednesday nights from 6:30pm to 8:00pm in Room 305. Childcare is available upon request for ages birth through 12 years old.\n\nSIGN UP HERE!
URL:https://www.vccfresno.org/event/following-jesus-foundations-for-faith-9/
LOCATION:Valley Christian Center\, 4649 E. Shields Ave\, Fresno\, CA\, 93726\, United States
ATTACH;FMTTYPE=image/png:https://www.vccfresno.org/wp-content/uploads/2025/08/VALLEY-following-Jesus_foundations-for-faith.png
END:VEVENT
END:VCALENDAR