BEGIN:VCALENDAR
VERSION:2.0
PRODID:-//Valley Christian Center - ECPv6.13.2.1//NONSGML v1.0//EN
CALSCALE:GREGORIAN
METHOD:PUBLISH
X-ORIGINAL-URL:https://www.vccfresno.org
X-WR-CALDESC:Events for Valley Christian Center
REFRESH-INTERVAL;VALUE=DURATION:PT1H
X-Robots-Tag:noindex
X-PUBLISHED-TTL:PT1H
BEGIN:VTIMEZONE
TZID:America/Los_Angeles
BEGIN:DAYLIGHT
TZOFFSETFROM:-0800
TZOFFSETTO:-0700
TZNAME:PDT
DTSTART:20260308T100000
END:DAYLIGHT
BEGIN:STANDARD
TZOFFSETFROM:-0700
TZOFFSETTO:-0800
TZNAME:PST
DTSTART:20261101T090000
END:STANDARD
END:VTIMEZONE
BEGIN:VEVENT
DTSTART;TZID=America/Los_Angeles:20260726T111500
DTEND;TZID=America/Los_Angeles:20260726T113000
DTSTAMP:20260423T165417
CREATED:20260210T210604Z
LAST-MODIFIED:20260210T210604Z
UID:9284-1785064500-1785065400@www.vccfresno.org
SUMMARY:Welcome to Teams
DESCRIPTION:Joining a serving team at Valley is a simple way to use your gifts and connect more deeply to community. Join us for a short meeting after Sunday service to hear about why we serve and opportunities to get connected. 11:15am -11:35am in the Youth Rec Room at the Valley Dream Center. \nSIGN UP HERE!
URL:https://www.vccfresno.org/event/welcome-to-teams-3/
LOCATION:Valley Dream Center\, 1835 N Winery Ave\, Fresno\, CA\, 93703\, United States
CATEGORIES:Life Groups,Meet
ATTACH;FMTTYPE=image/png:https://www.vccfresno.org/wp-content/uploads/2026/02/26-Welcome-to-Teams-Square.png
END:VEVENT
BEGIN:VEVENT
DTSTART;TZID=America/Los_Angeles:20260802T100000
DTEND;TZID=America/Los_Angeles:20260802T110000
DTSTAMP:20260423T165417
CREATED:20260224T204106Z
LAST-MODIFIED:20260224T204106Z
UID:9312-1785664800-1785668400@www.vccfresno.org
SUMMARY:Baptism Sunday
DESCRIPTION:Baptism Sunday is here! Today is the day we celebrate those being raised to new life in Christ by way of water baptism. Those being baptized have gone through our baptism class and are ready to proclaim their faith. If you are interested in being baptized and have accepted Jesus as your Lord and Savior sign-up online today for our next baptism class and baptism Sunday. \nSIGN UP HERE!
URL:https://www.vccfresno.org/event/baptism-sunday-10/
LOCATION:Valley Dream Center\, 1835 N Winery Ave\, Fresno\, CA\, 93703\, United States
CATEGORIES:Water Baptism
ATTACH;FMTTYPE=image/png:https://www.vccfresno.org/wp-content/uploads/2026/02/BAPTISM-SUNDAYS-2026-2.png
END:VEVENT
BEGIN:VEVENT
DTSTART;TZID=America/Los_Angeles:20261101T090000
DTEND;TZID=America/Los_Angeles:20261101T093000
DTSTAMP:20260423T165417
CREATED:20260224T201345Z
LAST-MODIFIED:20260224T201345Z
UID:9306-1793523600-1793525400@www.vccfresno.org
SUMMARY:Water Baptism Class
DESCRIPTION:Have you accepted Jesus as your Lord and Savior? Then your next step is water baptism. It is one of the most significant next steps you can take to continue your faith journey\, and we love to celebrate with each and every person who takes this step of obedience in his or her journey to follow Jesus. Sunday\, November 1st is our next Water Baptism Class at 9:00am in room 104 at Valley Christian Center. In this class you will learn 3 things: What is water baptism?\, What’s the purpose of water baptism? and What is the promise of water baptism? Followed by water baptisms on Sunday\, November 8th at 10:00am. \nSIGN UP HERE!
URL:https://www.vccfresno.org/event/water-baptism-class-6/
LOCATION:Valley Christian Center\, 4649 E. Shields Ave\, Fresno\, CA\, 93726\, United States
CATEGORIES:Water Baptism
ATTACH;FMTTYPE=image/png:https://www.vccfresno.org/wp-content/uploads/2026/02/November-2026.png
END:VEVENT
BEGIN:VEVENT
DTSTART;TZID=America/Los_Angeles:20261108T100000
DTEND;TZID=America/Los_Angeles:20261108T110000
DTSTAMP:20260423T165417
CREATED:20260224T204300Z
LAST-MODIFIED:20260224T204300Z
UID:9315-1794132000-1794135600@www.vccfresno.org
SUMMARY:Baptism Sunday
DESCRIPTION:Baptism Sunday is here! Today is the day we celebrate those being raised to new life in Christ by way of water baptism. Those being baptized have gone through our baptism class and are ready to proclaim their faith. If you are interested in being baptized and have accepted Jesus as your Lord and Savior sign-up online today for our next baptism class and baptism Sunday. \nSIGN UP HERE!
URL:https://www.vccfresno.org/event/baptism-sunday-11/
LOCATION:Valley Christian Center\, 4649 E. Shields Ave\, Fresno\, CA\, 93726\, United States
CATEGORIES:Water Baptism
ATTACH;FMTTYPE=image/png:https://www.vccfresno.org/wp-content/uploads/2026/02/BAPTISM-SUNDAYS-2026-3.png
END:VEVENT
END:VCALENDAR