BEGIN:VCALENDAR
VERSION:2.0
PRODID:-//Valley Christian Center - ECPv6.13.2.1//NONSGML v1.0//EN
CALSCALE:GREGORIAN
METHOD:PUBLISH
X-WR-CALNAME:Valley Christian Center
X-ORIGINAL-URL:https://www.vccfresno.org
X-WR-CALDESC:Events for Valley Christian Center
REFRESH-INTERVAL;VALUE=DURATION:PT1H
X-Robots-Tag:noindex
X-PUBLISHED-TTL:PT1H
BEGIN:VTIMEZONE
TZID:America/Los_Angeles
BEGIN:DAYLIGHT
TZOFFSETFROM:-0800
TZOFFSETTO:-0700
TZNAME:PDT
DTSTART:20240310T100000
END:DAYLIGHT
BEGIN:STANDARD
TZOFFSETFROM:-0700
TZOFFSETTO:-0800
TZNAME:PST
DTSTART:20241103T090000
END:STANDARD
END:VTIMEZONE
BEGIN:VEVENT
DTSTART;TZID=America/Los_Angeles:20241010T180000
DTEND;TZID=America/Los_Angeles:20241010T203000
DTSTAMP:20260425T040305
CREATED:20240805T230431Z
LAST-MODIFIED:20240805T230431Z
UID:7597-1728583200-1728592200@www.vccfresno.org
SUMMARY:Prayer 101
DESCRIPTION:Prayer 101 is so much more than prayer. This 6-week course focuses on learning to hear Holy Spirit in your own unique way while spending time engaging Him on a regular basis. Prayer 101 will provide you with a variety of prayer options that can be used for one-on-one or group settings. You will learn about healing prayer\, prophecy and words of knowledge\, and gain confidence to pray with others. We dive into spiritual warfare to learn enemy tactics to fight with empowerment. We will enjoy learning about various signs and wonders that God has shown us in the scriptures\, that are for us today. \n\nCome join Prayer 101 and learn so much more that prayer.\nSIGN UP HERE!
URL:https://www.vccfresno.org/event/prayer-101-7/
LOCATION:Valley Christian Center\, 4649 E. Shields Ave\, Fresno\, CA\, 93726\, United States
CATEGORIES:Prayer
ATTACH;FMTTYPE=image/png:https://www.vccfresno.org/wp-content/uploads/2024/08/P.png
END:VEVENT
BEGIN:VEVENT
DTSTART;TZID=America/Los_Angeles:20241009T100000
DTEND;TZID=America/Los_Angeles:20241009T120000
DTSTAMP:20260425T040305
CREATED:20240918T201312Z
LAST-MODIFIED:20240918T201312Z
UID:7729-1728468000-1728475200@www.vccfresno.org
SUMMARY:DIY Crafting & Women in the Bible
DESCRIPTION:Join us for fellowship and crafty fun. You will have a space at a table for any DIY crafting that you want to work on. Enjoy spending time with other crafters while working on your projects. Each week we will share God’s word studying the women of the Bible. Bring a friend. Make new friends. Develop new connections while enjoying your hobby with others. September 4th – November 20th from 10:00am-12:00pm in the All Purpose Room. \nSIGN UP HERE!
URL:https://www.vccfresno.org/event/diy-crafting-women-in-the-bible/
LOCATION:Valley Christian Center\, 4649 E. Shields Ave\, Fresno\, CA\, 93726\, United States
CATEGORIES:Life Groups,Women
ATTACH;FMTTYPE=image/png:https://www.vccfresno.org/wp-content/uploads/2024/09/CW-Ladies-DIY-Crafting.png
END:VEVENT
BEGIN:VEVENT
DTSTART;TZID=America/Los_Angeles:20241009T090000
DTEND;TZID=America/Los_Angeles:20241009T110000
DTSTAMP:20260425T040305
CREATED:20240918T202856Z
LAST-MODIFIED:20240918T202856Z
UID:7750-1728464400-1728471600@www.vccfresno.org
SUMMARY:
DESCRIPTION:Wednesdays September 18th – November 20th from 9:00am-11:00am in room 305. \nSIGN UP HERE!
URL:https://www.vccfresno.org/event/7750/
LOCATION:Valley Christian Center\, 4649 E. Shields Ave\, Fresno\, CA\, 93726\, United States
CATEGORIES:Life Groups,Women
ATTACH;FMTTYPE=image/png:https://www.vccfresno.org/wp-content/uploads/2024/08/CD-Biblical-Citizenship-Study.png
END:VEVENT
BEGIN:VEVENT
DTSTART;TZID=America/Los_Angeles:20241009T090000
DTEND;TZID=America/Los_Angeles:20241009T110000
DTSTAMP:20260425T040305
CREATED:20240918T202640Z
LAST-MODIFIED:20240918T202640Z
UID:7748-1728464400-1728471600@www.vccfresno.org
SUMMARY:Biblical Citizenship - Women Bible Study
DESCRIPTION:Wednesdays September 18th – November 20th from 9:00am-11:00am in room 305.
URL:https://www.vccfresno.org/event/biblical-citizenship-women-bible-study-3/
LOCATION:Valley Christian Center\, 4649 E. Shields Ave\, Fresno\, CA\, 93726\, United States
CATEGORIES:Life Groups,Women
ATTACH;FMTTYPE=image/png:https://www.vccfresno.org/wp-content/uploads/2024/08/CD-Biblical-Citizenship-Study.png
END:VEVENT
BEGIN:VEVENT
DTSTART;TZID=America/Los_Angeles:20241008T183000
DTEND;TZID=America/Los_Angeles:20241008T203000
DTSTAMP:20260425T040305
CREATED:20240918T195745Z
LAST-MODIFIED:20240918T195745Z
UID:7716-1728412200-1728419400@www.vccfresno.org
SUMMARY:Warrior Bride Draw Your Sword: Women's Bible Study
DESCRIPTION:A Six-Week Bible Study Series on the Book of Ephesians and how God created Mighty Warrior Daughters for His Kingdom\, His Kingdom\, His Army and the Epic Battle we are designed to be a part of. September 10th – October 29th from 6:30-8:30pm in room 305 at Valley Christian Center. Cost is $25.00 for the study materials.
URL:https://www.vccfresno.org/event/warrior-bride-draw-your-sword-womens-bible-study-3/
LOCATION:Valley Christian Center\, 4649 E. Shields Ave\, Fresno\, CA\, 93726\, United States
CATEGORIES:Life Groups,Women
ATTACH;FMTTYPE=image/png:https://www.vccfresno.org/wp-content/uploads/2024/09/Fall-Womens-Connect-Crew-Graphics-1080x18-1.png
END:VEVENT
BEGIN:VEVENT
DTSTART;TZID=America/Los_Angeles:20241008T183000
DTEND;TZID=America/Los_Angeles:20241008T200000
DTSTAMP:20260425T040305
CREATED:20240919T184252Z
LAST-MODIFIED:20240919T184252Z
UID:7815-1728412200-1728417600@www.vccfresno.org
SUMMARY:Tuesday Night Men's Bible Study
DESCRIPTION:Our year round Men’s Tuesday Night Bible Study Connect Crew meets every Tuesday. We are an open group\, so you can join anytime. This group is for men who would love to learn more about JESUS and what He has in store for us. The cost is usually around $8.00-$12.00 depending on the cost of the book. \nSIGN UP HERE!
URL:https://www.vccfresno.org/event/tuesday-night-mens-bible-study-3/
LOCATION:Valley Christian Center\, 4649 E. Shields Ave\, Fresno\, CA\, 93726\, United States
CATEGORIES:Life Groups,Men
ATTACH;FMTTYPE=image/png:https://www.vccfresno.org/wp-content/uploads/2024/09/FT_KO-Mens-Bible_Book-Study.png
END:VEVENT
BEGIN:VEVENT
DTSTART;TZID=America/Los_Angeles:20241008T070000
DTEND;TZID=America/Los_Angeles:20241008T080000
DTSTAMP:20260425T040305
CREATED:20240918T210428Z
LAST-MODIFIED:20240918T210428Z
UID:7788-1728370800-1728374400@www.vccfresno.org
SUMMARY:Men's Discipleship
DESCRIPTION:Join us every Tuesday morning from 7:00-8:00am for breakfast and the Word in the All Purpose Room. We are currently going through the “Devoted” Bible Study. Cost is $14 for the bible study booklet. Join us anytime. \nSIGN UP HERE!
URL:https://www.vccfresno.org/event/mens-discipleship-3/
LOCATION:Valley Christian Center\, 4649 E. Shields Ave\, Fresno\, CA\, 93726\, United States
CATEGORIES:Life Groups,Men
ATTACH;FMTTYPE=image/png:https://www.vccfresno.org/wp-content/uploads/2024/09/GH_DS-Mens-Discipleship.png
END:VEVENT
BEGIN:VEVENT
DTSTART;TZID=America/Los_Angeles:20241006T113000
DTEND;TZID=America/Los_Angeles:20241006T133000
DTSTAMP:20260425T040305
CREATED:20240916T173008Z
LAST-MODIFIED:20240916T173008Z
UID:7705-1728214200-1728221400@www.vccfresno.org
SUMMARY:Valley Membership Class
DESCRIPTION:Finding a church home is so important in our faith journey. It helps us be faithful disciples of Jesus and to participate as members of the body of Christ. Sign-Up for our next membership class to learn what it means to make Valley your home. \nSIGN-UP HERE
URL:https://www.vccfresno.org/event/valley-membership-class-5/
LOCATION:Valley Christian Center\, 4649 E. Shields Ave\, Fresno\, CA\, 93726\, United States
ATTACH;FMTTYPE=image/png:https://www.vccfresno.org/wp-content/uploads/2024/09/Membership-Slide-Instagram-Post.png
END:VEVENT
BEGIN:VEVENT
DTSTART;TZID=America/Los_Angeles:20241006T113000
DTEND;TZID=America/Los_Angeles:20241006T130000
DTSTAMP:20260425T040305
CREATED:20240110T220150Z
LAST-MODIFIED:20240110T220150Z
UID:6721-1728214200-1728219600@www.vccfresno.org
SUMMARY:PrimeTime Brunch
DESCRIPTION:Come hang out with old and new friends as we enjoy brunch together! Find out all the details when you sign up in the Courtyard before service (9:30-9:55am) on October 6th.
URL:https://www.vccfresno.org/event/primetime-brunch-9/
LOCATION:CA
CATEGORIES:PrimeTime
ATTACH;FMTTYPE=image/png:https://www.vccfresno.org/wp-content/uploads/2024/01/PT-Brunch-After-Service-Banner.png
END:VEVENT
BEGIN:VEVENT
DTSTART;TZID=America/Los_Angeles:20241003T183000
DTEND;TZID=America/Los_Angeles:20241003T200000
DTSTAMP:20260425T040305
CREATED:20240918T204439Z
LAST-MODIFIED:20240918T204439Z
UID:7767-1727980200-1727985600@www.vccfresno.org
SUMMARY:Gospel of John - Men's Bible Study
DESCRIPTION:September 26th – November 21st on Thursday nights from 6:30-8:00pm in room 104. \nSIGN UP HERE!
URL:https://www.vccfresno.org/event/gospel-of-john-mens-bible-study-2/
LOCATION:Valley Christian Center\, 4649 E. Shields Ave\, Fresno\, CA\, 93726\, United States
CATEGORIES:Life Groups,Men
ATTACH;FMTTYPE=image/png:https://www.vccfresno.org/wp-content/uploads/2024/09/BA-Mens-Gospel-of-John-Bible-Study.png
END:VEVENT
BEGIN:VEVENT
DTSTART;TZID=America/Los_Angeles:20241003T180000
DTEND;TZID=America/Los_Angeles:20241003T203000
DTSTAMP:20260425T040305
CREATED:20240805T230333Z
LAST-MODIFIED:20240805T230333Z
UID:7595-1727978400-1727987400@www.vccfresno.org
SUMMARY:Prayer 101
DESCRIPTION:Prayer 101 is so much more than prayer. This 6-week course focuses on learning to hear Holy Spirit in your own unique way while spending time engaging Him on a regular basis. Prayer 101 will provide you with a variety of prayer options that can be used for one-on-one or group settings. You will learn about healing prayer\, prophecy and words of knowledge\, and gain confidence to pray with others. We dive into spiritual warfare to learn enemy tactics to fight with empowerment. We will enjoy learning about various signs and wonders that God has shown us in the scriptures\, that are for us today. \n\nCome join Prayer 101 and learn so much more that prayer.\nSIGN UP HERE!
URL:https://www.vccfresno.org/event/prayer-101-6/
LOCATION:Valley Christian Center\, 4649 E. Shields Ave\, Fresno\, CA\, 93726\, United States
CATEGORIES:Prayer
ATTACH;FMTTYPE=image/png:https://www.vccfresno.org/wp-content/uploads/2024/08/P.png
END:VEVENT
BEGIN:VEVENT
DTSTART;TZID=America/Los_Angeles:20241002T183000
DTEND;TZID=America/Los_Angeles:20241002T203000
DTSTAMP:20260425T040305
CREATED:20240918T201144Z
LAST-MODIFIED:20240918T201144Z
UID:7727-1727893800-1727901000@www.vccfresno.org
SUMMARY:DIY Crafting & Women of the Bible
DESCRIPTION:Join us for fellowship and crafty fun. You will have a space at a table for any DIY crafting that you want to work on. Enjoy spending time with other crafters while working on your projects. Each week we will share God’s word studying the women of the Bible. Bring a friend. Make new friends. Develop new connections while enjoying your hobby with others. September 4th – November 20th from 10:00am-12:00pm in the All Purpose Room. \nSIGN UP HERE!
URL:https://www.vccfresno.org/event/diy-crafting-women-of-the-bible-2/
LOCATION:Valley Christian Center\, 4649 E. Shields Ave\, Fresno\, CA\, 93726\, United States
CATEGORIES:Life Groups,Women
ATTACH;FMTTYPE=image/png:https://www.vccfresno.org/wp-content/uploads/2024/09/CW-Ladies-DIY-Crafting.png
END:VEVENT
BEGIN:VEVENT
DTSTART;TZID=America/Los_Angeles:20241002T090000
DTEND;TZID=America/Los_Angeles:20241002T110000
DTSTAMP:20260425T040305
CREATED:20240918T202529Z
LAST-MODIFIED:20240918T202529Z
UID:7746-1727859600-1727866800@www.vccfresno.org
SUMMARY:Biblical Citizenship - Women Bible Study
DESCRIPTION:Wednesdays September 18th – November 20th from 9:00am-11:00am in room 305.
URL:https://www.vccfresno.org/event/biblical-citizenship-women-bible-study-2/
LOCATION:Valley Christian Center\, 4649 E. Shields Ave\, Fresno\, CA\, 93726\, United States
CATEGORIES:Life Groups,Women
ATTACH;FMTTYPE=image/png:https://www.vccfresno.org/wp-content/uploads/2024/08/CD-Biblical-Citizenship-Study.png
END:VEVENT
BEGIN:VEVENT
DTSTART;TZID=America/Los_Angeles:20241001T183000
DTEND;TZID=America/Los_Angeles:20241001T203000
DTSTAMP:20260425T040305
CREATED:20240918T195517Z
LAST-MODIFIED:20240918T195517Z
UID:7714-1727807400-1727814600@www.vccfresno.org
SUMMARY:Warrior Bride Draw Your Sword: Women's Bible Study
DESCRIPTION:A Six-Week Bible Study Series on the Book of Ephesians and how God created Mighty Warrior Daughters for His Kingdom\, His Kingdom\, His Army and the Epic Battle we are designed to be a part of. September 10th – October 29th from 6:30-8:30pm in room 305 at Valley Christian Center. Cost is $25.00 for the study materials.
URL:https://www.vccfresno.org/event/warrior-bride-draw-your-sword-womens-bible-study-2/
LOCATION:Valley Christian Center\, 4649 E. Shields Ave\, Fresno\, CA\, 93726\, United States
CATEGORIES:Life Groups,Women
ATTACH;FMTTYPE=image/png:https://www.vccfresno.org/wp-content/uploads/2024/09/Fall-Womens-Connect-Crew-Graphics-1080x18-1.png
END:VEVENT
BEGIN:VEVENT
DTSTART;TZID=America/Los_Angeles:20241001T183000
DTEND;TZID=America/Los_Angeles:20241001T200000
DTSTAMP:20260425T040305
CREATED:20240919T184131Z
LAST-MODIFIED:20240919T184131Z
UID:7813-1727807400-1727812800@www.vccfresno.org
SUMMARY:Tuesday Night Men's Bible Study
DESCRIPTION:Our year round Men’s Tuesday Night Bible Study Connect Crew meets every Tuesday. We are an open group\, so you can join anytime. This group is for men who would love to learn more about JESUS and what He has in store for us. The cost is usually around $8.00-$12.00 depending on the cost of the book. \nSIGN UP HERE!
URL:https://www.vccfresno.org/event/tuesday-night-mens-bible-study-2/
LOCATION:Valley Christian Center\, 4649 E. Shields Ave\, Fresno\, CA\, 93726\, United States
CATEGORIES:Life Groups,Men
ATTACH;FMTTYPE=image/png:https://www.vccfresno.org/wp-content/uploads/2024/09/FT_KO-Mens-Bible_Book-Study.png
END:VEVENT
BEGIN:VEVENT
DTSTART;TZID=America/Los_Angeles:20241001T070000
DTEND;TZID=America/Los_Angeles:20241001T080000
DTSTAMP:20260425T040305
CREATED:20240918T210328Z
LAST-MODIFIED:20240918T210328Z
UID:7786-1727766000-1727769600@www.vccfresno.org
SUMMARY:Men's Discipleship
DESCRIPTION:Join us every Tuesday morning from 7:00-8:00am for breakfast and the Word in the All Purpose Room. We are currently going through the “Devoted” Bible Study. Cost is $14 for the bible study booklet. Join us anytime. \nSIGN UP HERE!
URL:https://www.vccfresno.org/event/mens-discipleship-2/
LOCATION:Valley Christian Center\, 4649 E. Shields Ave\, Fresno\, CA\, 93726\, United States
CATEGORIES:Life Groups,Men
ATTACH;FMTTYPE=image/png:https://www.vccfresno.org/wp-content/uploads/2024/09/GH_DS-Mens-Discipleship.png
END:VEVENT
BEGIN:VEVENT
DTSTART;TZID=America/Los_Angeles:20240926T183000
DTEND;TZID=America/Los_Angeles:20240926T200000
DTSTAMP:20260425T040305
CREATED:20240918T204316Z
LAST-MODIFIED:20240918T204316Z
UID:7764-1727375400-1727380800@www.vccfresno.org
SUMMARY:Gospel of John - Men's Bible Study
DESCRIPTION:September 26th – November 21st on Thursday nights from 6:30-8:00pm in room 104. \nSIGN UP HERE!
URL:https://www.vccfresno.org/event/gospel-of-john-mens-bible-study/
LOCATION:Valley Christian Center\, 4649 E. Shields Ave\, Fresno\, CA\, 93726\, United States
CATEGORIES:Life Groups,Men
ATTACH;FMTTYPE=image/png:https://www.vccfresno.org/wp-content/uploads/2024/09/BA-Mens-Gospel-of-John-Bible-Study.png
END:VEVENT
BEGIN:VEVENT
DTSTART;TZID=America/Los_Angeles:20240926T180000
DTEND;TZID=America/Los_Angeles:20240926T203000
DTSTAMP:20260425T040305
CREATED:20240819T202801Z
LAST-MODIFIED:20240819T202801Z
UID:7651-1727373600-1727382600@www.vccfresno.org
SUMMARY:Recovery Alive
DESCRIPTION:Recovery Alive! program is a practical\, powerful and proven resource combining the raw honesty of the 12 steps with the hope of Jesus Christ. Recovery Alive! helps you discover a pathway to true healing and lasting freedom from any bondage or brokenness that has kept you from experiencing the abundant life God has created for you! Recovery Alive! is for anyone. No need to register\, just show up. Childcare is provided.\nJoin us Thursday nights in room 403 at Valley Christian Center starting at 6:00pm with refreshments and then worship begins at 6:30pm. Childcare is available in room 301.
URL:https://www.vccfresno.org/event/recovery-alive-7/
LOCATION:Valley Christian Center\, 4649 E. Shields Ave\, Fresno\, CA\, 93726\, United States
CATEGORIES:Life Groups,Marriage,Men,Women,Young Adults
ATTACH;FMTTYPE=image/png:https://www.vccfresno.org/wp-content/uploads/2024/08/RECOVERY-ALIVE-WEBSITE-EVENT.png
END:VEVENT
BEGIN:VEVENT
DTSTART;TZID=America/Los_Angeles:20240926T180000
DTEND;TZID=America/Los_Angeles:20240926T203000
DTSTAMP:20260425T040305
CREATED:20240805T230237Z
LAST-MODIFIED:20240805T230237Z
UID:7593-1727373600-1727382600@www.vccfresno.org
SUMMARY:Prayer 101
DESCRIPTION:Prayer 101 is so much more than prayer. This 6-week course focuses on learning to hear Holy Spirit in your own unique way while spending time engaging Him on a regular basis. Prayer 101 will provide you with a variety of prayer options that can be used for one-on-one or group settings. You will learn about healing prayer\, prophecy and words of knowledge\, and gain confidence to pray with others. We dive into spiritual warfare to learn enemy tactics to fight with empowerment. We will enjoy learning about various signs and wonders that God has shown us in the scriptures\, that are for us today. \n\nCome join Prayer 101 and learn so much more that prayer.\nSIGN UP HERE!
URL:https://www.vccfresno.org/event/prayer-101-5/
LOCATION:Valley Christian Center\, 4649 E. Shields Ave\, Fresno\, CA\, 93726\, United States
CATEGORIES:Prayer
ATTACH;FMTTYPE=image/png:https://www.vccfresno.org/wp-content/uploads/2024/08/P.png
END:VEVENT
BEGIN:VEVENT
DTSTART;TZID=America/Los_Angeles:20240925T100000
DTEND;TZID=America/Los_Angeles:20240925T120000
DTSTAMP:20260425T040305
CREATED:20240918T201019Z
LAST-MODIFIED:20240918T201019Z
UID:7724-1727258400-1727265600@www.vccfresno.org
SUMMARY:DIY Crafting & Women of the Bible
DESCRIPTION:Join us for fellowship and crafty fun. You will have a space at a table for any DIY crafting that you want to work on. Enjoy spending time with other crafters while working on your projects. Each week we will share God’s word studying the women of the Bible. Bring a friend. Make new friends. Develop new connections while enjoying your hobby with others. September 4th – November 20th from 10:00am-12:00pm in the All Purpose Room. \nSIGN UP HERE!
URL:https://www.vccfresno.org/event/diy-crafting-women-of-the-bible/
LOCATION:Valley Christian Center\, 4649 E. Shields Ave\, Fresno\, CA\, 93726\, United States
CATEGORIES:Life Groups,Women
ATTACH;FMTTYPE=image/png:https://www.vccfresno.org/wp-content/uploads/2024/09/CW-Ladies-DIY-Crafting.png
END:VEVENT
BEGIN:VEVENT
DTSTART;TZID=America/Los_Angeles:20240925T090000
DTEND;TZID=America/Los_Angeles:20240925T110000
DTSTAMP:20260425T040305
CREATED:20240918T202407Z
LAST-MODIFIED:20240918T202407Z
UID:7744-1727254800-1727262000@www.vccfresno.org
SUMMARY:Biblical Citizenship - Women Bible Study
DESCRIPTION:Wednesdays September 18th – November 20th from 9:00am-11:00am in room 305.
URL:https://www.vccfresno.org/event/biblical-citizenship-women-bible-study/
LOCATION:Valley Christian Center\, 4649 E. Shields Ave\, Fresno\, CA\, 93726\, United States
CATEGORIES:Life Groups,Women
ATTACH;FMTTYPE=image/png:https://www.vccfresno.org/wp-content/uploads/2024/08/CD-Biblical-Citizenship-Study.png
END:VEVENT
BEGIN:VEVENT
DTSTART;TZID=America/Los_Angeles:20240924T183000
DTEND;TZID=America/Los_Angeles:20240924T203000
DTSTAMP:20260425T040305
CREATED:20240918T195357Z
LAST-MODIFIED:20240918T195357Z
UID:7711-1727202600-1727209800@www.vccfresno.org
SUMMARY:Warrior Bride Draw Your Sword: Women's Bible Study
DESCRIPTION:A Six-Week Bible Study Series on the Book of Ephesians and how God created Mighty Warrior Daughters for His Kingdom\, His Kingdom\, His Army and the Epic Battle we are designed to be a part of. September 10th – October 29th from 6:30-8:30pm in room 305 at Valley Christian Center. Cost is $25.00 for the study materials.
URL:https://www.vccfresno.org/event/warrior-bride-draw-your-sword-womens-bible-study/
LOCATION:Valley Christian Center\, 4649 E. Shields Ave\, Fresno\, CA\, 93726\, United States
CATEGORIES:Life Groups,Women
ATTACH;FMTTYPE=image/png:https://www.vccfresno.org/wp-content/uploads/2024/09/Fall-Womens-Connect-Crew-Graphics-1080x18-1.png
END:VEVENT
BEGIN:VEVENT
DTSTART;TZID=America/Los_Angeles:20240924T183000
DTEND;TZID=America/Los_Angeles:20240924T200000
DTSTAMP:20260425T040305
CREATED:20240919T184014Z
LAST-MODIFIED:20240919T184014Z
UID:7810-1727202600-1727208000@www.vccfresno.org
SUMMARY:Tuesday Night Men's Bible Study
DESCRIPTION:Our year round Men’s Tuesday Night Bible Study Connect Crew meets every Tuesday. We are an open group\, so you can join anytime. This group is for men who would love to learn more about JESUS and what He has in store for us. The cost is usually around $8.00-$12.00 depending on the cost of the book. \nSIGN UP HERE!
URL:https://www.vccfresno.org/event/tuesday-night-mens-bible-study/
LOCATION:Valley Christian Center\, 4649 E. Shields Ave\, Fresno\, CA\, 93726\, United States
CATEGORIES:Life Groups,Men
ATTACH;FMTTYPE=image/png:https://www.vccfresno.org/wp-content/uploads/2024/09/FT_KO-Mens-Bible_Book-Study.png
END:VEVENT
BEGIN:VEVENT
DTSTART;TZID=America/Los_Angeles:20240924T070000
DTEND;TZID=America/Los_Angeles:20240924T080000
DTSTAMP:20260425T040305
CREATED:20240918T210216Z
LAST-MODIFIED:20240918T210216Z
UID:7783-1727161200-1727164800@www.vccfresno.org
SUMMARY:Men's Discipleship
DESCRIPTION:Join us every Tuesday morning from 7:00-8:00am for breakfast and the Word in the All Purpose Room. We are currently going through the “Devoted” Bible Study. Cost is $14 for the bible study booklet. Join us anytime. \nSIGN UP HERE!
URL:https://www.vccfresno.org/event/mens-discipleship/
LOCATION:Valley Christian Center\, 4649 E. Shields Ave\, Fresno\, CA\, 93726\, United States
CATEGORIES:Life Groups,Men
ATTACH;FMTTYPE=image/png:https://www.vccfresno.org/wp-content/uploads/2024/09/GH_DS-Mens-Discipleship.png
END:VEVENT
BEGIN:VEVENT
DTSTART;TZID=America/Los_Angeles:20240919T180000
DTEND;TZID=America/Los_Angeles:20240919T203000
DTSTAMP:20260425T040305
CREATED:20240819T202641Z
LAST-MODIFIED:20240819T202641Z
UID:7649-1726768800-1726777800@www.vccfresno.org
SUMMARY:Recovery Alive
DESCRIPTION:Recovery Alive! program is a practical\, powerful and proven resource combining the raw honesty of the 12 steps with the hope of Jesus Christ. Recovery Alive! helps you discover a pathway to true healing and lasting freedom from any bondage or brokenness that has kept you from experiencing the abundant life God has created for you! Recovery Alive! is for anyone. No need to register\, just show up. Childcare is provided.\nJoin us Thursday nights in room 403 at Valley Christian Center starting at 6:00pm with refreshments and then worship begins at 6:30pm. Childcare is available in room 301.
URL:https://www.vccfresno.org/event/recovery-alive-6/
LOCATION:Valley Christian Center\, 4649 E. Shields Ave\, Fresno\, CA\, 93726\, United States
CATEGORIES:Life Groups,Marriage,Men,Women,Young Adults
ATTACH;FMTTYPE=image/png:https://www.vccfresno.org/wp-content/uploads/2024/08/RECOVERY-ALIVE-WEBSITE-EVENT.png
END:VEVENT
BEGIN:VEVENT
DTSTART;TZID=America/Los_Angeles:20240919T180000
DTEND;TZID=America/Los_Angeles:20240919T203000
DTSTAMP:20260425T040305
CREATED:20240805T230141Z
LAST-MODIFIED:20240805T230141Z
UID:7591-1726768800-1726777800@www.vccfresno.org
SUMMARY:Prayer 101
DESCRIPTION:Prayer 101 is so much more than prayer. This 6-week course focuses on learning to hear Holy Spirit in your own unique way while spending time engaging Him on a regular basis. Prayer 101 will provide you with a variety of prayer options that can be used for one-on-one or group settings. You will learn about healing prayer\, prophecy and words of knowledge\, and gain confidence to pray with others. We dive into spiritual warfare to learn enemy tactics to fight with empowerment. We will enjoy learning about various signs and wonders that God has shown us in the scriptures\, that are for us today. \n\nCome join Prayer 101 and learn so much more that prayer.\nSIGN UP HERE!
URL:https://www.vccfresno.org/event/prayer-101-4/
LOCATION:Valley Christian Center\, 4649 E. Shields Ave\, Fresno\, CA\, 93726\, United States
CATEGORIES:Prayer
ATTACH;FMTTYPE=image/png:https://www.vccfresno.org/wp-content/uploads/2024/08/P.png
END:VEVENT
BEGIN:VEVENT
DTSTART;TZID=America/Los_Angeles:20240919T120000
DTEND;TZID=America/Los_Angeles:20240919T150000
DTSTAMP:20260425T040305
CREATED:20240903T193923Z
LAST-MODIFIED:20240903T193923Z
UID:7696-1726747200-1726758000@www.vccfresno.org
SUMMARY:PrimeTime 55+ Pizza and Movie Matinee
DESCRIPTION:Join us on Thursday\, September 19 from 12:00pm to 3:00pm in the Room 403 for Pizza & Movie Matinee!\nWe will be watching “The Boys in the Boat\,” a story of the University of Washington rowing team as they compete for the gold at the 1936 Olympics in Berlin. We’re having pizza & salad\, so bring your favorite movie-watching snack and join the team in Room 403!\nSIGN UP HERE!
URL:https://www.vccfresno.org/event/primetime-55-pizza-and-movie-matinee/
LOCATION:Valley Christian Center\, 4649 E. Shields Ave\, Fresno\, CA\, 93726\, United States
CATEGORIES:PrimeTime
ATTACH;FMTTYPE=image/png:https://www.vccfresno.org/wp-content/uploads/2024/09/September-19th-PT55-Pizza-Movie-Matinee-SQ.png
END:VEVENT
BEGIN:VEVENT
DTSTART;TZID=America/Los_Angeles:20240913T080000
DTEND;TZID=America/Los_Angeles:20240915T170000
DTSTAMP:20260425T040305
CREATED:20240819T194836Z
LAST-MODIFIED:20240819T200932Z
UID:7631-1726214400-1726419600@www.vccfresno.org
SUMMARY:2024 Men's Retreat
DESCRIPTION:Our annual Men Ministry Men’s Retreat in partnership with Iron Men Ministry is always an amazing event. Nothing is quite like when hundreds of men gather and fellowship in the name of Jesus.  Our keynote speaker is Pastor Glenn Shields. Up at Camp Sugar Pine there will be: Inspirational Worship\, Team Building\, Breakout Groups\, Competitive Games\, and Life Changing Messages. Registration is open now! RV: $200.00 per person or Cabin: $250.00 per person. \n  \nREGISTER HERE!
URL:https://www.vccfresno.org/event/mens-retreat/
LOCATION:Camp Sugar Pine\, 48478 Mill Canyon Rd\, Oakhurst\, CA\, 93644\, United States
CATEGORIES:Men,Young Adults
ATTACH;FMTTYPE=image/png:https://www.vccfresno.org/wp-content/uploads/2024/08/2024-Mens-Retreat-sqaure.png
END:VEVENT
BEGIN:VEVENT
DTSTART;TZID=America/Los_Angeles:20240912T180000
DTEND;TZID=America/Los_Angeles:20240912T203000
DTSTAMP:20260425T040305
CREATED:20240819T202456Z
LAST-MODIFIED:20240819T202456Z
UID:7647-1726164000-1726173000@www.vccfresno.org
SUMMARY:Recovery Alive
DESCRIPTION:Recovery Alive! program is a practical\, powerful and proven resource combining the raw honesty of the 12 steps with the hope of Jesus Christ. Recovery Alive! helps you discover a pathway to true healing and lasting freedom from any bondage or brokenness that has kept you from experiencing the abundant life God has created for you! Recovery Alive! is for anyone. No need to register\, just show up. Childcare is provided.\nJoin us Thursday nights in room 403 at Valley Christian Center starting at 6:00pm with refreshments and then worship begins at 6:30pm. Childcare is available in room 301.
URL:https://www.vccfresno.org/event/recovery-alive-5/
LOCATION:Valley Christian Center\, 4649 E. Shields Ave\, Fresno\, CA\, 93726\, United States
CATEGORIES:Life Groups,Marriage,Men,Women,Young Adults
ATTACH;FMTTYPE=image/png:https://www.vccfresno.org/wp-content/uploads/2024/08/RECOVERY-ALIVE-WEBSITE-EVENT.png
END:VEVENT
BEGIN:VEVENT
DTSTART;TZID=America/Los_Angeles:20240912T180000
DTEND;TZID=America/Los_Angeles:20240912T203000
DTSTAMP:20260425T040305
CREATED:20240819T202324Z
LAST-MODIFIED:20240819T202324Z
UID:7645-1726164000-1726173000@www.vccfresno.org
SUMMARY:Recovery Alive
DESCRIPTION:Recovery Alive! program is a practical\, powerful and proven resource combining the raw honesty of the 12 steps with the hope of Jesus Christ. Recovery Alive! helps you discover a pathway to true healing and lasting freedom from any bondage or brokenness that has kept you from experiencing the abundant life God has created for you! Recovery Alive! is for anyone. No need to register\, just show up. Childcare is provided.\nJoin us Thursday nights in room 403 at Valley Christian Center starting at 6:00pm with refreshments and then worship begins at 6:30pm. Childcare is available in room 301.
URL:https://www.vccfresno.org/event/recovery-alive-4/
LOCATION:Valley Christian Center\, 4649 E. Shields Ave\, Fresno\, CA\, 93726\, United States
CATEGORIES:Life Groups,Marriage,Men,Women,Young Adults
ATTACH;FMTTYPE=image/png:https://www.vccfresno.org/wp-content/uploads/2024/08/RECOVERY-ALIVE-WEBSITE-EVENT.png
END:VEVENT
END:VCALENDAR