BEGIN:VCALENDAR
VERSION:2.0
PRODID:-//Valley Christian Center - ECPv6.13.2.1//NONSGML v1.0//EN
CALSCALE:GREGORIAN
METHOD:PUBLISH
X-WR-CALNAME:Valley Christian Center
X-ORIGINAL-URL:https://www.vccfresno.org
X-WR-CALDESC:Events for Valley Christian Center
REFRESH-INTERVAL;VALUE=DURATION:PT1H
X-Robots-Tag:noindex
X-PUBLISHED-TTL:PT1H
BEGIN:VTIMEZONE
TZID:America/Los_Angeles
BEGIN:DAYLIGHT
TZOFFSETFROM:-0800
TZOFFSETTO:-0700
TZNAME:PDT
DTSTART:20240310T100000
END:DAYLIGHT
BEGIN:STANDARD
TZOFFSETFROM:-0700
TZOFFSETTO:-0800
TZNAME:PST
DTSTART:20241103T090000
END:STANDARD
BEGIN:DAYLIGHT
TZOFFSETFROM:-0800
TZOFFSETTO:-0700
TZNAME:PDT
DTSTART:20250309T100000
END:DAYLIGHT
BEGIN:STANDARD
TZOFFSETFROM:-0700
TZOFFSETTO:-0800
TZNAME:PST
DTSTART:20251102T090000
END:STANDARD
END:VTIMEZONE
BEGIN:VEVENT
DTSTART;TZID=America/Los_Angeles:20250126T100000
DTEND;TZID=America/Los_Angeles:20250126T110000
DTSTAMP:20260424T085627
CREATED:20250113T213836Z
LAST-MODIFIED:20250113T213836Z
UID:8084-1737885600-1737889200@www.vccfresno.org
SUMMARY:Baptism Sunday
DESCRIPTION:Baptism Sunday is here! Today is the day we celebrate those being raised to new life in Christ by way of water baptism. Those being baptized have gone through our baptism class and are ready to proclaim their faith. If you are interested in being baptized and have accepted Jesus as your Lord and Savior sign-up online today for our next baptism class and baptism Sunday. \nSIGN UP HERE!
URL:https://www.vccfresno.org/event/baptism-sunday-6/
LOCATION:Valley Christian Center\, 4649 E. Shields Ave\, Fresno\, CA\, 93726\, United States
CATEGORIES:Water Baptism
ATTACH;FMTTYPE=image/png:https://www.vccfresno.org/wp-content/uploads/2025/01/Water-Baptism-Class-SQ.png
END:VEVENT
BEGIN:VEVENT
DTSTART;TZID=America/Los_Angeles:20250125T180000
DTEND;TZID=America/Los_Angeles:20250125T190000
DTSTAMP:20260424T085627
CREATED:20241218T094612Z
LAST-MODIFIED:20241218T094949Z
UID:8051-1737828000-1737831600@www.vccfresno.org
SUMMARY:21 Days of Prayer & Fasting - Prayer Night
DESCRIPTION:Each night of the 21 Days of Prayer & Fasting we have an opportunity to gather together with others in our city at participating churches in our community for a one hour prayer and worship service in-person or online. \nJanuary 25th | Clovis Hills Church | 6:00-7:00pm \nLink to join live: https://www.clovishills.online.church
URL:https://www.vccfresno.org/event/21-days-of-prayer-fasting-prayer-night-18/
LOCATION:Clovis Hills Church\, 10590 N. Willow Ave.\, Clovis\, CA\, 93619\, United States
CATEGORIES:Prayer
ATTACH;FMTTYPE=image/png:https://www.vccfresno.org/wp-content/uploads/2024/12/CALENDAR-SQUARE.png
END:VEVENT
BEGIN:VEVENT
DTSTART;TZID=America/Los_Angeles:20250124T190000
DTEND;TZID=America/Los_Angeles:20250124T200000
DTSTAMP:20260424T085627
CREATED:20241218T094242Z
LAST-MODIFIED:20241218T094242Z
UID:8048-1737745200-1737748800@www.vccfresno.org
SUMMARY:21 Days of Prayer & Fasting - Prayer Night
DESCRIPTION:Each night of the 21 Days of Prayer & Fasting we have an opportunity to gather together with others in our city at participating churches in our community for a one hour prayer and worship service in-person or online. \nJanuary 24th | The Word / Northpark | 7:00-8:00pm \nLink to join live: https://www.youtube.com/watch?v=NGmkcpOt4bw
URL:https://www.vccfresno.org/event/21-days-of-prayer-fasting-prayer-night-17/
LOCATION:The Word/Northpark\, 2611 E. Hammond Ave\, Fresno\, CA\, 93703\, United States
CATEGORIES:Prayer
ATTACH;FMTTYPE=image/png:https://www.vccfresno.org/wp-content/uploads/2024/12/CALENDAR-SQUARE.png
END:VEVENT
BEGIN:VEVENT
DTSTART;TZID=America/Los_Angeles:20250123T190000
DTEND;TZID=America/Los_Angeles:20250123T200000
DTSTAMP:20260424T085627
CREATED:20241218T093837Z
LAST-MODIFIED:20241218T093837Z
UID:8045-1737658800-1737662400@www.vccfresno.org
SUMMARY:21 Days of Prayer & Fasting - Prayer Night
DESCRIPTION:Each night of the 21 Days of Prayer & Fasting we have an opportunity to gather together with others in our city at participating churches in our community for a one hour prayer and worship service in-person or online. \nJanuary 23rd | Cross City Christian Church | 7:00-8:00pm \nLink to join live: https://www.live.mycrosscity.com
URL:https://www.vccfresno.org/event/21-days-of-prayer-fasting-prayer-night-16/
LOCATION:Cross City Christian Church\, 2777 E. Nees Ave\, Fresno\, CA\, 93720\, United States
CATEGORIES:Prayer
ATTACH;FMTTYPE=image/png:https://www.vccfresno.org/wp-content/uploads/2024/12/CALENDAR-SQUARE.png
END:VEVENT
BEGIN:VEVENT
DTSTART;TZID=America/Los_Angeles:20250122T190000
DTEND;TZID=America/Los_Angeles:20250122T200000
DTSTAMP:20260424T085627
CREATED:20241218T093510Z
LAST-MODIFIED:20241218T093510Z
UID:8042-1737572400-1737576000@www.vccfresno.org
SUMMARY:21 Days of Prayer & Fasting - Prayer Night
DESCRIPTION:Each night of the 21 Days of Prayer & Fasting we have an opportunity to gather together with others in our city at participating churches in our community for a one hour prayer and worship service in-person or online. \nJanuary 22nd | Saint Rest Baptist Church | 7:00-8:00pm \nLink to join live: https://www.youtube.com/@saintrestbaptistchurch7799?si=VQFpHKsGDQbhKhfg
URL:https://www.vccfresno.org/event/21-days-of-prayer-fasting-prayer-night-15/
LOCATION:Saint Rest Baptist Church\, 1550 E. Rev. Chester Riggins Ave\, Fresno\, CA\, 93706\, United States
CATEGORIES:Prayer
ATTACH;FMTTYPE=image/png:https://www.vccfresno.org/wp-content/uploads/2024/12/CALENDAR-SQUARE.png
END:VEVENT
BEGIN:VEVENT
DTSTART;TZID=America/Los_Angeles:20250121T190000
DTEND;TZID=America/Los_Angeles:20250121T200000
DTSTAMP:20260424T085627
CREATED:20241218T092917Z
LAST-MODIFIED:20241218T092917Z
UID:8039-1737486000-1737489600@www.vccfresno.org
SUMMARY:21 Days of Prayer & Fasting - Prayer Night
DESCRIPTION:Each night of the 21 Days of Prayer & Fasting we have an opportunity to gather together with others in our city at participating churches in our community for a one hour prayer and worship service in-person or online. \nJanuary 21st | University Vineyard | 7:00-8:00pm \nLink to join live: https://www.univeristyvineyard.com/livestream
URL:https://www.vccfresno.org/event/21-days-of-prayer-fasting-prayer-night-14/
LOCATION:University Vineyard\, 4910 N. Woodrow\, Fresno\, CA\, 93726\, United States
CATEGORIES:Prayer
ATTACH;FMTTYPE=image/png:https://www.vccfresno.org/wp-content/uploads/2024/12/CALENDAR-SQUARE.png
END:VEVENT
BEGIN:VEVENT
DTSTART;TZID=America/Los_Angeles:20250120T190000
DTEND;TZID=America/Los_Angeles:20250120T200000
DTSTAMP:20260424T085627
CREATED:20241218T092522Z
LAST-MODIFIED:20241218T092522Z
UID:8036-1737399600-1737403200@www.vccfresno.org
SUMMARY:21 Days of Prayer & Fasting - Prayer Night
DESCRIPTION:Each night of the 21 Days of Prayer & Fasting we have an opportunity to gather together with others in our city at participating churches in our community for a one hour prayer and worship service in-person or online. \nJanuary 20th | Breaking Free Revival Center | 7:00-8:00pm \nLink to join live: https://www.youtube.com/@breakingfreerevivalcenter5577
URL:https://www.vccfresno.org/event/21-days-of-prayer-fasting-prayer-night-13/
LOCATION:Breaking Free Revival Center\, 3510 N. Millbrook ave.\, Fresno\, CA\, 93726\, United States
CATEGORIES:Prayer
ATTACH;FMTTYPE=image/png:https://www.vccfresno.org/wp-content/uploads/2024/12/CALENDAR-SQUARE.png
END:VEVENT
BEGIN:VEVENT
DTSTART;TZID=America/Los_Angeles:20250119T180000
DTEND;TZID=America/Los_Angeles:20250119T190000
DTSTAMP:20260424T085627
CREATED:20241218T092118Z
LAST-MODIFIED:20241218T092118Z
UID:8034-1737309600-1737313200@www.vccfresno.org
SUMMARY:21 Days of Prayer & Fasting - Prayer Night
DESCRIPTION:Each night of the 21 Days of Prayer & Fasting we have an opportunity to gather together with others in our city at participating churches in our community for a one hour prayer and worship service in-person or online. \nJanuary 19th | Valley Christian Center | 6:00-7:00pm \nLink to join live: https://www.youtube.com/c/Valley ChristianCenterFresno
URL:https://www.vccfresno.org/event/21-days-of-prayer-fasting-prayer-night-12/
LOCATION:Valley Christian Center\, 4649 E. Shields Ave\, Fresno\, CA\, 93726\, United States
CATEGORIES:Prayer
ATTACH;FMTTYPE=image/png:https://www.vccfresno.org/wp-content/uploads/2024/12/CALENDAR-SQUARE.png
END:VEVENT
BEGIN:VEVENT
DTSTART;TZID=America/Los_Angeles:20250119T090000
DTEND;TZID=America/Los_Angeles:20250119T093000
DTSTAMP:20260424T085627
CREATED:20250113T213628Z
LAST-MODIFIED:20250113T213628Z
UID:8082-1737277200-1737279000@www.vccfresno.org
SUMMARY:Baptism Class
DESCRIPTION:Have you accepted Jesus as your Lord and Savior? Then your next step is water baptism. It is one of the most significant next steps you can take to continue your faith journey\, and we love to celebrate with each and every person who takes this step of obedience in his or her journey to follow Jesus. Sunday\, January 19th is our next Water Baptism Class at 9:00am in Room 104. In this class you will learn 3 things: What is water baptism?\, What’s the purpose of water baptism? and What is the promise of water baptism? Followed by water baptisms on Sunday\, January 26th \nSIGN UP HERE!
URL:https://www.vccfresno.org/event/baptism-class-6/
LOCATION:Valley Christian Center\, 4649 E. Shields Ave\, Fresno\, CA\, 93726\, United States
CATEGORIES:Water Baptism
ATTACH;FMTTYPE=image/png:https://www.vccfresno.org/wp-content/uploads/2025/01/Water-Baptism-Class-SQ.png
END:VEVENT
BEGIN:VEVENT
DTSTART;TZID=America/Los_Angeles:20250118T180000
DTEND;TZID=America/Los_Angeles:20250118T190000
DTSTAMP:20260424T085627
CREATED:20241218T091714Z
LAST-MODIFIED:20241218T091714Z
UID:8031-1737223200-1737226800@www.vccfresno.org
SUMMARY:21 Days of Prayer & Fasting - Prayer Night
DESCRIPTION:Each night of the 21 Days of Prayer & Fasting we have an opportunity to gather together with others in our city at participating churches in our community for a one hour prayer and worship service in-person or online. \nJanuary 18th | Family Christian Assembly | 6:00-7:00pm \nLink to join live: https://www.youtube.com/user/ChristianTemple559
URL:https://www.vccfresno.org/event/21-days-of-prayer-fasting-prayer-night-11/
LOCATION:Family Christian Assembly\, 535 N. Cedar Ave.\, Fresno\, CA\, 93702\, United States
CATEGORIES:Prayer
ATTACH;FMTTYPE=image/png:https://www.vccfresno.org/wp-content/uploads/2024/12/CALENDAR-SQUARE.png
END:VEVENT
BEGIN:VEVENT
DTSTART;TZID=America/Los_Angeles:20250117T190000
DTEND;TZID=America/Los_Angeles:20250117T200000
DTSTAMP:20260424T085627
CREATED:20241218T091332Z
LAST-MODIFIED:20241218T091332Z
UID:8028-1737140400-1737144000@www.vccfresno.org
SUMMARY:21 Days of Prayer & Fasting - Prayer Night
DESCRIPTION:Each night of the 21 Days of Prayer & Fasting we have an opportunity to gather together with others in our city at participating churches in our community for a one hour prayer and worship service in-person or online. \nJanuary 17th | First Presbyterian Church | 7:00-8:00pm \nLink to join live: https://www.youtube.com/FirstPresFresno
URL:https://www.vccfresno.org/event/21-days-of-prayer-fasting-prayer-night-10/
LOCATION:First Presbyterian Church\, 1540 M. Street\, Fresno\, CA\, 93721\, United States
CATEGORIES:Prayer
ATTACH;FMTTYPE=image/png:https://www.vccfresno.org/wp-content/uploads/2024/12/CALENDAR-SQUARE.png
END:VEVENT
BEGIN:VEVENT
DTSTART;TZID=America/Los_Angeles:20250116T190000
DTEND;TZID=America/Los_Angeles:20250116T200000
DTSTAMP:20260424T085627
CREATED:20241218T091029Z
LAST-MODIFIED:20241218T091029Z
UID:8025-1737054000-1737057600@www.vccfresno.org
SUMMARY:21 Days of Prayer & Fasting - Prayer Night
DESCRIPTION:Each night of the 21 Days of Prayer & Fasting we have an opportunity to gather together with others in our city at participating churches in our community for a one hour prayer and worship service in-person or online. \nJanuary 16th | Saints Community COGIC | 7:00-8:00pm \nLink to join live: https://www.saintscommunity.org/watch-live/
URL:https://www.vccfresno.org/event/21-days-of-prayer-fasting-prayer-night-9/
LOCATION:Saints Community COGIC\, 3740 E. Ashlan Ave.\, Fresno\, CA\, 93726\, United States
CATEGORIES:Prayer
ATTACH;FMTTYPE=image/png:https://www.vccfresno.org/wp-content/uploads/2024/12/CALENDAR-SQUARE.png
END:VEVENT
BEGIN:VEVENT
DTSTART;TZID=America/Los_Angeles:20250115T190000
DTEND;TZID=America/Los_Angeles:20250115T200000
DTSTAMP:20260424T085627
CREATED:20241218T090629Z
LAST-MODIFIED:20241218T090629Z
UID:8022-1736967600-1736971200@www.vccfresno.org
SUMMARY:21 Days of Prayer & Fasting - Prayer Night
DESCRIPTION:Each night of the 21 Days of Prayer & Fasting we have an opportunity to gather together with others in our city at participating churches in our community for a one hour prayer and worship service in-person or online. \nJanuary 15th | Bethany Church | 7:00-8:00pm \nLink to join live: https://www.youtube.com/bethanychurchfresno
URL:https://www.vccfresno.org/event/21-days-of-prayer-fasting-prayer-night-8/
LOCATION:Bethany Church\, 9161 N. Maple Ave.\, Fresno\, CA\, 93720\, United States
CATEGORIES:Prayer
ATTACH;FMTTYPE=image/png:https://www.vccfresno.org/wp-content/uploads/2024/12/CALENDAR-SQUARE.png
END:VEVENT
BEGIN:VEVENT
DTSTART;TZID=America/Los_Angeles:20250114T190000
DTEND;TZID=America/Los_Angeles:20250114T200000
DTSTAMP:20260424T085627
CREATED:20241218T090311Z
LAST-MODIFIED:20241218T090311Z
UID:8019-1736881200-1736884800@www.vccfresno.org
SUMMARY:21 Days of Prayer & Fasting - Prayer Night
DESCRIPTION:Each night of the 21 Days of Prayer & Fasting we have an opportunity to gather together with others in our city at participating churches in our community for a one hour prayer and worship service in-person or online. \nJanuary 14th | City Center | 7:00-8:00pm \nLink to join live: https://www.citycenterfresno.org
URL:https://www.vccfresno.org/event/21-days-of-prayer-fasting-prayer-night-7/
LOCATION:City Center\, 2025 E. Dakota\, Fresno\, CA\, 93726\, United States
CATEGORIES:Prayer
ATTACH;FMTTYPE=image/png:https://www.vccfresno.org/wp-content/uploads/2024/12/CALENDAR-SQUARE.png
END:VEVENT
BEGIN:VEVENT
DTSTART;TZID=America/Los_Angeles:20250113T190000
DTEND;TZID=America/Los_Angeles:20250113T200000
DTSTAMP:20260424T085627
CREATED:20241218T085931Z
LAST-MODIFIED:20241218T085955Z
UID:8015-1736794800-1736798400@www.vccfresno.org
SUMMARY:21 Days of Prayer & Fasting - Prayer Night
DESCRIPTION:Each night of the 21 Days of Prayer & Fasting we have an opportunity to gather together with others in our city at participating churches in our community for a one hour prayer and worship service in-person or online. \nJanuary 13th | House of the Gospel | 7:00-8:00pm \nLink to join live: https://www.youtube.com/@houseofthegospel/featured \n 
URL:https://www.vccfresno.org/event/8015/
LOCATION:House of the Gospel\, 3941 E. Mono Ave.\, Fresno\, CA\, 93702\, United States
CATEGORIES:Prayer
ATTACH;FMTTYPE=image/png:https://www.vccfresno.org/wp-content/uploads/2024/12/CALENDAR-SQUARE.png
END:VEVENT
BEGIN:VEVENT
DTSTART;TZID=America/Los_Angeles:20250112T180000
DTEND;TZID=America/Los_Angeles:20250112T190000
DTSTAMP:20260424T085627
CREATED:20241218T085528Z
LAST-MODIFIED:20241218T085528Z
UID:8012-1736704800-1736708400@www.vccfresno.org
SUMMARY:21 Days of Prayer & Fasting - Prayer Night
DESCRIPTION:Each night of the 21 Days of Prayer & Fasting we have an opportunity to gather together with others in our city at participating churches in our community for a one hour prayer and worship service in-person or online. \nJanuary 12th | Mountain View Church | 6:00-7:00pm \nLink to join live: https://www.mountianview.org
URL:https://www.vccfresno.org/event/21-days-of-prayer-fasting-prayer-night-6/
LOCATION:Mountian View Church\, 3600 N. Fowler\, Fresno\, CA\, 93727\, United States
CATEGORIES:Prayer
ATTACH;FMTTYPE=image/png:https://www.vccfresno.org/wp-content/uploads/2024/12/CALENDAR-SQUARE.png
END:VEVENT
BEGIN:VEVENT
DTSTART;TZID=America/Los_Angeles:20250111T180000
DTEND;TZID=America/Los_Angeles:20250111T190000
DTSTAMP:20260424T085627
CREATED:20241218T084703Z
LAST-MODIFIED:20241218T085221Z
UID:8007-1736618400-1736622000@www.vccfresno.org
SUMMARY:21  Days of Prayer & Fasting - Prayer Night
DESCRIPTION:Each night of the 21 Days of Prayer & Fasting we have an opportunity to gather together with others in our city at participating churches in our community for a one hour prayer and worship service in-person or online. \nJanuary 11th | Northwest Church | 6:00-7:00pm \nLink to join live: https://www.nwc.org \n 
URL:https://www.vccfresno.org/event/8007/
LOCATION:Northwest Church\, 5415 N. West Ave\, Fresno\, CA\, 93711\, United States
CATEGORIES:Prayer
ATTACH;FMTTYPE=image/png:https://www.vccfresno.org/wp-content/uploads/2024/12/CALENDAR-SQUARE.png
END:VEVENT
BEGIN:VEVENT
DTSTART;TZID=America/Los_Angeles:20250110T190000
DTEND;TZID=America/Los_Angeles:20250110T200000
DTSTAMP:20260424T085627
CREATED:20241218T084344Z
LAST-MODIFIED:20241218T084344Z
UID:8004-1736535600-1736539200@www.vccfresno.org
SUMMARY:21 Days of Prayer & Fasting - Prayer Night
DESCRIPTION:Each night of the 21 Days of Prayer & Fasting we have an opportunity to gather together with others in our city at participating churches in our community for a one hour prayer and worship service in-person or online. \nJanuary 10th | Crosspoint Church | 7:00-8:00pm \nLink to join live: https://www.youtube.com/crosspointfresno \n 
URL:https://www.vccfresno.org/event/21-days-of-prayer-fasting-prayer-night-5/
LOCATION:Crosspoint Church\, 2518 N. Cedar Ave\, Fresno\, CA\, 93703\, United States
CATEGORIES:Prayer
ATTACH;FMTTYPE=image/png:https://www.vccfresno.org/wp-content/uploads/2024/12/CALENDAR-SQUARE.png
END:VEVENT
BEGIN:VEVENT
DTSTART;TZID=America/Los_Angeles:20250109T190000
DTEND;TZID=America/Los_Angeles:20250109T200000
DTSTAMP:20260424T085627
CREATED:20241218T084004Z
LAST-MODIFIED:20241218T084004Z
UID:8001-1736449200-1736452800@www.vccfresno.org
SUMMARY:21 Days of Prayer & Fasting - Prayer Night
DESCRIPTION:Each night of the 21 Days of Prayer & Fasting we have an opportunity to gather together with others in our city at participating churches in our community for a one hour prayer and worship service in-person or online. \nJanuary 9th | Clovis Christian Church | 7:00-8:00pm \nLink to join live: https://www.cloviscc.com/live-stream \n 
URL:https://www.vccfresno.org/event/21-days-of-prayer-fasting-prayer-night-4/
LOCATION:Clovis Christian Church\, 1701 Locan Ave.\, Clovis\, CA\, 93619\, United States
CATEGORIES:Prayer
ATTACH;FMTTYPE=image/png:https://www.vccfresno.org/wp-content/uploads/2024/12/CALENDAR-SQUARE.png
END:VEVENT
BEGIN:VEVENT
DTSTART;TZID=America/Los_Angeles:20250108T190000
DTEND;TZID=America/Los_Angeles:20250108T200000
DTSTAMP:20260424T085627
CREATED:20241218T095347Z
LAST-MODIFIED:20241218T095423Z
UID:8058-1736362800-1736366400@www.vccfresno.org
SUMMARY:21 Days of Prayer & Fasting - Prayer Night
DESCRIPTION:Each night of the 21 Days of Prayer & Fasting we have an opportunity to gather together with others in our city at participating churches in our community for a one hour prayer and worship service in-person or online. \nJanuary 8th | New Covenant Church | 7:00-8:00pm \nLink to join live: https://www.youtube.com/@newcovfresno/streams
URL:https://www.vccfresno.org/event/8058/
LOCATION:New Covenant Church\, 1744 E. Nees Ave\, Fresno\, CA\, 93720\, United States
CATEGORIES:Prayer
ATTACH;FMTTYPE=image/png:https://www.vccfresno.org/wp-content/uploads/2024/12/CALENDAR-SQUARE.png
END:VEVENT
BEGIN:VEVENT
DTSTART;TZID=America/Los_Angeles:20250107T190000
DTEND;TZID=America/Los_Angeles:20250107T200000
DTSTAMP:20260424T085627
CREATED:20241218T082943Z
LAST-MODIFIED:20241218T082943Z
UID:7996-1736276400-1736280000@www.vccfresno.org
SUMMARY:21 Days of Prayer & Fasting - Prayer Night
DESCRIPTION:Each night of the 21 Days of Prayer & Fasting we have an opportunity to gather together with others in our city at participating churches in our community for a one hour prayer and worship service in-person or online. \nJanuary 7th | Westside Church of God | 7:00-8:00pm \nLink to join live: https://www.wscog.org \n 
URL:https://www.vccfresno.org/event/21-days-of-prayer-fasting-prayer-night-2/
LOCATION:Westside Church of God\, 1422 W. California Ave.\, Fresno\, CA\, 93706\, United States
CATEGORIES:Prayer
ATTACH;FMTTYPE=image/png:https://www.vccfresno.org/wp-content/uploads/2024/12/CALENDAR-SQUARE.png
END:VEVENT
BEGIN:VEVENT
DTSTART;TZID=America/Los_Angeles:20250106T190000
DTEND;TZID=America/Los_Angeles:20250106T200000
DTSTAMP:20260424T085627
CREATED:20241218T082014Z
LAST-MODIFIED:20241218T082401Z
UID:7990-1736190000-1736193600@www.vccfresno.org
SUMMARY:21 Days of Prayer & Fasting - Prayer Night
DESCRIPTION:Each night of the 21 Days of Prayer & Fasting we have an opportunity to gather together with others in our city at participating churches in our community for a one hour prayer and worship service in-person or online. \nJanuary 6th | First Armenian Presbyterian | 7:00-8:00pm \nLink to join live: https://www.youtube.com/fapcfresno \n 
URL:https://www.vccfresno.org/event/21-days-of-prayer-fasting-prayer-night/
LOCATION:First Armenian Presbyterian\, 430 1st St.\, Fresno\, CA\, 93702\, United States
CATEGORIES:Prayer
ATTACH;FMTTYPE=image/png:https://www.vccfresno.org/wp-content/uploads/2024/12/CALENDAR-SQUARE.png
END:VEVENT
BEGIN:VEVENT
DTSTART;TZID=America/Los_Angeles:20241217T183000
DTEND;TZID=America/Los_Angeles:20241217T200000
DTSTAMP:20260424T085627
CREATED:20240919T185537Z
LAST-MODIFIED:20241014T191349Z
UID:7835-1734460200-1734465600@www.vccfresno.org
SUMMARY:Tuesday Night Bible Study
DESCRIPTION:Our year round Men’s Tuesday Night Bible Study Connect Crew meets every Tuesday. We are an open group\, so you can join anytime. This group is for men who would love to learn more about JESUS and what He has in store for us. The cost is usually around $8.00-$12.00 depending on the cost of the book. \nSIGN UP HERE!
URL:https://www.vccfresno.org/event/tuesday-night-bible-study-2/
LOCATION:Valley Christian Center\, 4649 E. Shields Ave\, Fresno\, CA\, 93726\, United States
ATTACH;FMTTYPE=image/png:https://www.vccfresno.org/wp-content/uploads/2024/09/FT_KO-Mens-Bible_Book-Study.png
END:VEVENT
BEGIN:VEVENT
DTSTART;TZID=America/Los_Angeles:20241217T070000
DTEND;TZID=America/Los_Angeles:20241217T080000
DTSTAMP:20260424T085627
CREATED:20240919T182755Z
LAST-MODIFIED:20241014T191053Z
UID:7808-1734418800-1734422400@www.vccfresno.org
SUMMARY:Men's Discipleship
DESCRIPTION:Join us every Tuesday morning from 7:00-8:00am for breakfast and the Word in the All Purpose Room. We are currently going through the “Devoted” Bible Study. Cost is $14 for the bible study booklet. Join us anytime. \nSIGN UP HERE!
URL:https://www.vccfresno.org/event/mens-discipleship-12/
LOCATION:Valley Christian Center\, 4649 E. Shields Ave\, Fresno\, CA\, 93726\, United States
ATTACH;FMTTYPE=image/png:https://www.vccfresno.org/wp-content/uploads/2024/09/GH_DS-Mens-Discipleship.png
END:VEVENT
BEGIN:VEVENT
DTSTART;TZID=America/Los_Angeles:20241215T140000
DTEND;TZID=America/Los_Angeles:20241215T170000
DTSTAMP:20260424T085627
CREATED:20241114T225026Z
LAST-MODIFIED:20241114T225026Z
UID:7913-1734271200-1734282000@www.vccfresno.org
SUMMARY:PrimeTime 55+ Golden Chain Theater Day
DESCRIPTION:Join us on Sunday\, December 15th at 2:00pm as we head up to Golden Chain Theater in Oakhurst for the matinee showing of Believe in Christmas – A Holiday Musical Variety Show.\nSpace is limited\, so make sure to register early for Golden Chain Theater Day!\nTicket price per person is $15.00 and all online reservations MUST be made by 5:00pm on November 24th.\nSIGN UP HERE!
URL:https://www.vccfresno.org/event/primetime-55-golden-chain-theater-day-2/
LOCATION:Golden Chain Theatre\, 42130 CA-41\, Oakhurst\, CA\, 93644\, United States
CATEGORIES:PrimeTime
ATTACH;FMTTYPE=image/png:https://www.vccfresno.org/wp-content/uploads/2024/11/PT55-Golden-Chain-Theatre-Day-12152024-SQ.png
END:VEVENT
BEGIN:VEVENT
DTSTART;TZID=America/Los_Angeles:20241210T183000
DTEND;TZID=America/Los_Angeles:20241210T203000
DTSTAMP:20260424T085627
CREATED:20240919T185355Z
LAST-MODIFIED:20241014T191405Z
UID:7833-1733855400-1733862600@www.vccfresno.org
SUMMARY:Tuesday Night Men's Bible Study
DESCRIPTION:Our year round Men’s Tuesday Night Bible Study Connect Crew meets every Tuesday. We are an open group\, so you can join anytime. This group is for men who would love to learn more about JESUS and what He has in store for us. The cost is usually around $8.00-$12.00 depending on the cost of the book. \nSIGN UP HERE!
URL:https://www.vccfresno.org/event/tuesday-night-mens-bible-study-11/
LOCATION:Valley Christian Center\, 4649 E. Shields Ave\, Fresno\, CA\, 93726\, United States
ATTACH;FMTTYPE=image/png:https://www.vccfresno.org/wp-content/uploads/2024/09/FT_KO-Mens-Bible_Book-Study.png
END:VEVENT
BEGIN:VEVENT
DTSTART;TZID=America/Los_Angeles:20241210T070000
DTEND;TZID=America/Los_Angeles:20241210T080000
DTSTAMP:20260424T085627
CREATED:20240919T182621Z
LAST-MODIFIED:20241014T191113Z
UID:7806-1733814000-1733817600@www.vccfresno.org
SUMMARY:Men's Discipleship
DESCRIPTION:Join us every Tuesday morning from 7:00-8:00am for breakfast and the Word in the All Purpose Room. We are currently going through the “Devoted” Bible Study. Cost is $14 for the bible study booklet. Join us anytime. \nSIGN UP HERE!
URL:https://www.vccfresno.org/event/mens-discipleship-11/
LOCATION:Valley Christian Center\, 4649 E. Shields Ave\, Fresno\, CA\, 93726\, United States
ATTACH;FMTTYPE=image/png:https://www.vccfresno.org/wp-content/uploads/2024/09/GH_DS-Mens-Discipleship.png
END:VEVENT
BEGIN:VEVENT
DTSTART;TZID=America/Los_Angeles:20241207T120000
DTEND;TZID=America/Los_Angeles:20241207T150000
DTSTAMP:20260424T085627
CREATED:20241114T222922Z
LAST-MODIFIED:20241114T222922Z
UID:7910-1733572800-1733583600@www.vccfresno.org
SUMMARY:PrimeTime 55+ Christmas Luncheon
DESCRIPTION:Come Celebrate Christmas With Us!\nJoin us on Saturday\, December 7th from 12:00pm to 3:00pm in the All Purpose Room for our annual Christmas Luncheon!\nWe will be enjoying a delicious lunch along with a fun time of singing Christmas carols\, playing games and celebrating the birth of Jesus together!\n\nSIGN UP HERE!
URL:https://www.vccfresno.org/event/primetime-55-christmas-luncheon-2/
LOCATION:Valley Christian Center\, 4649 E. Shields Ave\, Fresno\, CA\, 93726\, United States
CATEGORIES:PrimeTime
ATTACH;FMTTYPE=image/png:https://www.vccfresno.org/wp-content/uploads/2024/11/PT55-Christmas-Luncheon-2024-SQ.png
END:VEVENT
BEGIN:VEVENT
DTSTART;TZID=America/Los_Angeles:20241203T183000
DTEND;TZID=America/Los_Angeles:20241203T200000
DTSTAMP:20260424T085627
CREATED:20240919T185227Z
LAST-MODIFIED:20241014T191425Z
UID:7831-1733250600-1733256000@www.vccfresno.org
SUMMARY:Tuesday Night Men's Bible Study
DESCRIPTION:Our year round Men’s Tuesday Night Bible Study Connect Crew meets every Tuesday. We are an open group\, so you can join anytime. This group is for men who would love to learn more about JESUS and what He has in store for us. The cost is usually around $8.00-$12.00 depending on the cost of the book. \nSIGN UP HERE!
URL:https://www.vccfresno.org/event/tuesday-night-mens-bible-study-10/
LOCATION:Valley Christian Center\, 4649 E. Shields Ave\, Fresno\, CA\, 93726\, United States
ATTACH;FMTTYPE=image/png:https://www.vccfresno.org/wp-content/uploads/2024/09/FT_KO-Mens-Bible_Book-Study.png
END:VEVENT
BEGIN:VEVENT
DTSTART;TZID=America/Los_Angeles:20241203T070000
DTEND;TZID=America/Los_Angeles:20241203T080000
DTSTAMP:20260424T085627
CREATED:20240919T182512Z
LAST-MODIFIED:20241014T191128Z
UID:7804-1733209200-1733212800@www.vccfresno.org
SUMMARY:Men's Discipleship
DESCRIPTION:Join us every Tuesday morning from 7:00-8:00am for breakfast and the Word in the All Purpose Room. We are currently going through the “Devoted” Bible Study. Cost is $14 for the bible study booklet. Join us anytime. \nSIGN UP HERE!
URL:https://www.vccfresno.org/event/mens-discipleship-10/
LOCATION:Valley Christian Center\, 4649 E. Shields Ave\, Fresno\, CA\, 93726\, United States
ATTACH;FMTTYPE=image/png:https://www.vccfresno.org/wp-content/uploads/2024/09/GH_DS-Mens-Discipleship.png
END:VEVENT
END:VCALENDAR