BEGIN:VCALENDAR
VERSION:2.0
PRODID:-//Valley Christian Center - ECPv6.13.2.1//NONSGML v1.0//EN
CALSCALE:GREGORIAN
METHOD:PUBLISH
X-WR-CALNAME:Valley Christian Center
X-ORIGINAL-URL:https://www.vccfresno.org
X-WR-CALDESC:Events for Valley Christian Center
REFRESH-INTERVAL;VALUE=DURATION:PT1H
X-Robots-Tag:noindex
X-PUBLISHED-TTL:PT1H
BEGIN:VTIMEZONE
TZID:America/Los_Angeles
BEGIN:DAYLIGHT
TZOFFSETFROM:-0800
TZOFFSETTO:-0700
TZNAME:PDT
DTSTART:20230312T100000
END:DAYLIGHT
BEGIN:STANDARD
TZOFFSETFROM:-0700
TZOFFSETTO:-0800
TZNAME:PST
DTSTART:20231105T090000
END:STANDARD
BEGIN:DAYLIGHT
TZOFFSETFROM:-0800
TZOFFSETTO:-0700
TZNAME:PDT
DTSTART:20240310T100000
END:DAYLIGHT
BEGIN:STANDARD
TZOFFSETFROM:-0700
TZOFFSETTO:-0800
TZNAME:PST
DTSTART:20241103T090000
END:STANDARD
END:VTIMEZONE
BEGIN:VEVENT
DTSTART;TZID=America/Los_Angeles:20240218T111500
DTEND;TZID=America/Los_Angeles:20240218T120000
DTSTAMP:20260425T085428
CREATED:20240108T234629Z
LAST-MODIFIED:20240118T194803Z
UID:6683-1708254900-1708257600@www.vccfresno.org
SUMMARY:Meet & Greet
DESCRIPTION:If you are new to Valley our team would love to meet you! Join us on any of the following Sunday’s February 18th\, April 28th\, June 30th\, August 25th\, October 27th\, or December 15th right after service for a Meet & Greet in the APR. There will be snacks\, refreshments\, and information on who we are at Valley and how you can get connected. We look forward to meeting you! Click the link to reserve your spot. \nSIGN UP HERE!
URL:https://www.vccfresno.org/event/meet-greet-9/
LOCATION:Valley Christian Center\, 4649 E. Shields Ave\, Fresno\, CA\, 93726\, United States
ATTACH;FMTTYPE=image/png:https://www.vccfresno.org/wp-content/uploads/2024/01/Meet-Greet-Front.png
END:VEVENT
BEGIN:VEVENT
DTSTART;TZID=America/Los_Angeles:20240216T190000
DTEND;TZID=America/Los_Angeles:20240216T230000
DTSTAMP:20260425T085428
CREATED:20240116T232501Z
LAST-MODIFIED:20240116T232822Z
UID:6741-1708110000-1708124400@www.vccfresno.org
SUMMARY:"The Chosen" - Girl's Night Out
DESCRIPTION:Ladies\, come and join us for a Girl’s Night Out! We are meeting up to watch\, “The Chosen” at the Maya Cinemas\, located at 3090 E. Campus Point Drive\, Fresno\, CA 93710. Advance tickets are already available at the Maya Cinemas and online. No need to sign-up\, just show up with your girls. I will be waiting for you in front of the box office on Friday\, February 16th TBD.
URL:https://www.vccfresno.org/event/the-chosen-girls-night-out-2/
LOCATION:CA
CATEGORIES:Women
ATTACH;FMTTYPE=image/png:https://www.vccfresno.org/wp-content/uploads/2024/01/CHOSEN-AT-THE-MAYA-CINEMA-February-2nd-Episodes-1-3-Times-TBA-February-16th-Episodes-4-6-Times-TBA-March-8th-Episodes-7-8-Times-TBA.png
END:VEVENT
BEGIN:VEVENT
DTSTART;TZID=America/Los_Angeles:20240213T190000
DTEND;TZID=America/Los_Angeles:20240213T203000
DTSTAMP:20260425T085428
CREATED:20240118T021720Z
LAST-MODIFIED:20240212T230150Z
UID:6783-1707850800-1707856200@www.vccfresno.org
SUMMARY:Women's Deeper Bible Study
DESCRIPTION:Women Connect Deeper Bible Study is an on-going series that will lead women to go deeper in their relationship with God and His Word\, discovering what He says about our identity\, giftings\, relationships\, our place in the world and how to have courage.\nDeeper starts February 13th on Tuesday evenings from 7:00 to 8:30pm.\nSign up in the Courtyard January 21st\, 28th\, February 4th or 11th\, after Sunday Service. \nOr sign up online here. 
URL:https://www.vccfresno.org/event/womens-deeper-bible-study/
LOCATION:Valley Christian Center\, 4649 E. Shields Ave\, Fresno\, CA\, 93726\, United States
ATTACH;FMTTYPE=image/png:https://www.vccfresno.org/wp-content/uploads/2024/01/Deeper-Square.png
END:VEVENT
BEGIN:VEVENT
DTSTART;TZID=America/Los_Angeles:20240211T110000
DTEND;TZID=America/Los_Angeles:20240211T120000
DTSTAMP:20260425T085428
CREATED:20240111T002713Z
LAST-MODIFIED:20240111T002713Z
UID:6731-1707649200-1707652800@www.vccfresno.org
SUMMARY:Spring Connect Week
DESCRIPTION:Connect Week is here! We are better together! Our Spring season of Connect Week is kicking off February 4th\, and we would love for you to be a part of the growing community at Valley Christian Center. During Connect Week\, February 4th-11th you can sign up in-person or online for Connect Crews\, find opportunities to serve\, and get connected to ministries at Valley. You can also check out vccfresno.org/connect-crews/ to see a listing of Connect Crews and sign-up.
URL:https://www.vccfresno.org/event/spring-connect-week-2/
LOCATION:Valley Christian Center\, 4649 E. Shields Ave\, Fresno\, CA\, 93726\, United States
CATEGORIES:Life Groups
ATTACH;FMTTYPE=image/png:https://www.vccfresno.org/wp-content/uploads/2024/01/General_No-Pic-2.png
END:VEVENT
BEGIN:VEVENT
DTSTART;TZID=America/Los_Angeles:20240209T180000
DTEND;TZID=America/Los_Angeles:20240209T203000
DTSTAMP:20260425T085428
CREATED:20240125T185422Z
LAST-MODIFIED:20240125T185448Z
UID:6836-1707501600-1707510600@www.vccfresno.org
SUMMARY:Parents' Night Out
DESCRIPTION:Want a night alone with your sweetheart? We’ve got you covered!\nWhether you are staying in or going out for the evening\, feel confident that your little ones are safe and having a GREAT time in our hands here at VALLEY on Friday\, February 9th from 6:00pm to 8:30pm.\nYour kids will enjoy games\, crafts\, dinner and more! Your kids will not want the night to end!\nCost is $7.00 per child. Online registration is available through February 7th. \nREGISTER HERE!
URL:https://www.vccfresno.org/event/parents-night-out/
LOCATION:CA
CATEGORIES:Kids,Marriage
ATTACH;FMTTYPE=image/png:https://www.vccfresno.org/wp-content/uploads/2024/01/PNO-Banner.png
END:VEVENT
BEGIN:VEVENT
DTSTART;TZID=America/Los_Angeles:20240208T180000
DTEND;TZID=America/Los_Angeles:20240208T200000
DTSTAMP:20260425T085428
CREATED:20240118T015146Z
LAST-MODIFIED:20240118T185850Z
UID:6774-1707415200-1707422400@www.vccfresno.org
SUMMARY:Bunco Night - PrimeTime 55+
DESCRIPTION:Join us on Thursday\, February 8th from 6:00pm to 8:00pm in Room 403 for BUNCO Night!\n\nCome learn this fun\, fast-paced game with the PrimeTime 55+ gang! Bring a friend and snack to share! See you there! \nRegister Here
URL:https://www.vccfresno.org/event/bunco-night-primetime-55/
LOCATION:Valley Christian Center\, 4649 E. Shields Ave\, Fresno\, CA\, 93726\, United States
CATEGORIES:PrimeTime
ATTACH;FMTTYPE=image/png:https://www.vccfresno.org/wp-content/uploads/2023/10/PT55-10_19_2023-BUNCO-Banner-1000-×-562-px.png
END:VEVENT
BEGIN:VEVENT
DTSTART;TZID=America/Los_Angeles:20240204T113000
DTEND;TZID=America/Los_Angeles:20240204T130000
DTSTAMP:20260425T085428
CREATED:20240110T215246Z
LAST-MODIFIED:20240110T215246Z
UID:6704-1707046200-1707051600@www.vccfresno.org
SUMMARY:PrimeTime Brunch
DESCRIPTION:Come hang out with old and new friends as we enjoy brunch together! Find out all the details when you sign up in the Courtyard before service (9:30-9:55am) on February 4th.
URL:https://www.vccfresno.org/event/primetime-brunch/
LOCATION:CA
CATEGORIES:PrimeTime
ATTACH;FMTTYPE=image/png:https://www.vccfresno.org/wp-content/uploads/2024/01/PT-Brunch-After-Service-Banner.png
END:VEVENT
BEGIN:VEVENT
DTSTART;TZID=America/Los_Angeles:20240204T110000
DTEND;TZID=America/Los_Angeles:20240204T120000
DTSTAMP:20260425T085428
CREATED:20240111T002545Z
LAST-MODIFIED:20240111T002545Z
UID:6727-1707044400-1707048000@www.vccfresno.org
SUMMARY:Spring Connect Week
DESCRIPTION:Connect Week is here! We are better together! Our Spring season of Connect Week is kicking off February 4th\, and we would love for you to be a part of the growing community at Valley Christian Center. During Connect Week\, February 4th-11th you can sign up in-person or online for Connect Crews\, find opportunities to serve\, and get connected to ministries at Valley. You can also check out vccfresno.org/connect-crews/ to see a listing of Connect Crews and sign-up.
URL:https://www.vccfresno.org/event/spring-connect-week/
LOCATION:Valley Christian Center\, 4649 E. Shields Ave\, Fresno\, CA\, 93726\, United States
CATEGORIES:Life Groups
ATTACH;FMTTYPE=image/png:https://www.vccfresno.org/wp-content/uploads/2024/01/General_No-Pic-2.png
END:VEVENT
BEGIN:VEVENT
DTSTART;TZID=America/Los_Angeles:20240202T183000
DTEND;TZID=America/Los_Angeles:20240202T223000
DTSTAMP:20260425T085428
CREATED:20240116T232159Z
LAST-MODIFIED:20240116T232802Z
UID:6738-1706898600-1706913000@www.vccfresno.org
SUMMARY:"The Chosen" - Girl's Night Out
DESCRIPTION:Ladies\, come and join us for a Girl’s Night Out! We are meeting up to watch\, “The Chosen” at the Maya Cinemas\, located at 3090 E. Campus Point Drive\, Fresno\, CA 93710. Advance tickets are already available at the Maya Cinemas and online. No need to sign-up\, just show up with your girls. I will be waiting for you in front of the box office on Friday\, February 2nd at 6:30pm.
URL:https://www.vccfresno.org/event/the-chosen-girls-night-out/
LOCATION:CA
CATEGORIES:Women
ATTACH;FMTTYPE=image/png:https://www.vccfresno.org/wp-content/uploads/2024/01/CHOSEN-AT-THE-MAYA-CINEMA-February-2nd-Episodes-1-3-Times-TBA-February-16th-Episodes-4-6-Times-TBA-March-8th-Episodes-7-8-Times-TBA.png
END:VEVENT
BEGIN:VEVENT
DTSTART;TZID=America/Los_Angeles:20240128T100000
DTEND;TZID=America/Los_Angeles:20240128T113000
DTSTAMP:20260425T085428
CREATED:20240104T231651Z
LAST-MODIFIED:20240104T231651Z
UID:6672-1706436000-1706441400@www.vccfresno.org
SUMMARY:Baptism Sunday
DESCRIPTION:Baptism Sunday is here! Today is the day we celebrate those being raised to new life in Christ by way of water baptism. Those being baptized have gone through our baptism class and are ready to proclaim their faith. If you are interested in being baptized and have accepted Jesus as your Lord and Savior sign-up today for our next baptism class and baptism Sunday at vccfresno.org/baptism/.
URL:https://www.vccfresno.org/event/baptism-sunday/
LOCATION:Valley Christian Center\, 4649 E. Shields Ave\, Fresno\, CA\, 93726\, United States
CATEGORIES:Water Baptism
ATTACH;FMTTYPE=image/png:https://www.vccfresno.org/wp-content/uploads/2022/03/Water-Baptism-Class-SQ.png
END:VEVENT
BEGIN:VEVENT
DTSTART;TZID=America/Los_Angeles:20240125T120000
DTEND;TZID=America/Los_Angeles:20240125T160000
DTSTAMP:20260425T085428
CREATED:20231212T004104Z
LAST-MODIFIED:20231212T004104Z
UID:6646-1706184000-1706198400@www.vccfresno.org
SUMMARY:21 Days Ignite Prayer Stations
DESCRIPTION:Each week of the 21 Days of Prayer and Fasting\, VALLEY will have supplemental\, IGNITE\, prayer stations in the Sanctuary on Mondays through Thursdays from 12:00-4:00pm and Wednesdays from 6:00-8:00pm (January 8th – January 26th). All are welcome to come and enjoy a richer prayer experience with visual and applicable prompts.
URL:https://www.vccfresno.org/event/21-days-ignite-prayer-stations-11/
LOCATION:Valley Christian Center\, 4649 E. Shields Ave\, Fresno\, CA\, 93726\, United States
CATEGORIES:Prayer
ATTACH;FMTTYPE=image/png:https://www.vccfresno.org/wp-content/uploads/2023/12/2024-21-DAYS-SQUARE.png
END:VEVENT
BEGIN:VEVENT
DTSTART;TZID=America/Los_Angeles:20240124T120000
DTEND;TZID=America/Los_Angeles:20240124T200000
DTSTAMP:20260425T085428
CREATED:20231212T003936Z
LAST-MODIFIED:20231212T003936Z
UID:6644-1706097600-1706126400@www.vccfresno.org
SUMMARY:21 Days Ignite Prayer Stations
DESCRIPTION:Each week of the 21 Days of Prayer and Fasting\, VALLEY will have supplemental\, IGNITE\, prayer stations in the Sanctuary on Mondays through Thursdays from 12:00-4:00pm and Wednesdays from 6:00-8:00pm (January 8th – January 26th). All are welcome to come and enjoy a richer prayer experience with visual and applicable prompts.
URL:https://www.vccfresno.org/event/21-days-ignite-prayer-stations-10/
LOCATION:Valley Christian Center\, 4649 E. Shields Ave\, Fresno\, CA\, 93726\, United States
ATTACH;FMTTYPE=image/png:https://www.vccfresno.org/wp-content/uploads/2023/12/2024-21-DAYS-SQUARE.png
END:VEVENT
BEGIN:VEVENT
DTSTART;TZID=America/Los_Angeles:20240123T120000
DTEND;TZID=America/Los_Angeles:20240123T160000
DTSTAMP:20260425T085428
CREATED:20231212T003829Z
LAST-MODIFIED:20231212T003829Z
UID:6642-1706011200-1706025600@www.vccfresno.org
SUMMARY:21 Days Ignite Prayer Stations
DESCRIPTION:Each week of the 21 Days of Prayer and Fasting\, VALLEY will have supplemental\, IGNITE\, prayer stations in the Sanctuary on Mondays through Thursdays from 12:00-4:00pm and Wednesdays from 6:00-8:00pm (January 8th – January 26th). All are welcome to come and enjoy a richer prayer experience with visual and applicable prompts.
URL:https://www.vccfresno.org/event/21-days-ignite-prayer-stations-9/
LOCATION:Valley Christian Center\, 4649 E. Shields Ave\, Fresno\, CA\, 93726\, United States
ATTACH;FMTTYPE=image/png:https://www.vccfresno.org/wp-content/uploads/2023/12/2024-21-DAYS-SQUARE.png
END:VEVENT
BEGIN:VEVENT
DTSTART;TZID=America/Los_Angeles:20240122T120000
DTEND;TZID=America/Los_Angeles:20240122T160000
DTSTAMP:20260425T085428
CREATED:20231212T003714Z
LAST-MODIFIED:20231212T003714Z
UID:6640-1705924800-1705939200@www.vccfresno.org
SUMMARY:21 Days Ignite Prayer Stations
DESCRIPTION:Each week of the 21 Days of Prayer and Fasting\, VALLEY will have supplemental\, IGNITE\, prayer stations in the Sanctuary on Mondays through Thursdays from 12:00-4:00pm and Wednesdays from 6:00-8:00pm (January 8th – January 26th). All are welcome to come and enjoy a richer prayer experience with visual and applicable prompts.
URL:https://www.vccfresno.org/event/21-days-ignite-prayer-stations-8/
LOCATION:Valley Christian Center\, 4649 E. Shields Ave\, Fresno\, CA\, 93726\, United States
ATTACH;FMTTYPE=image/png:https://www.vccfresno.org/wp-content/uploads/2023/12/2024-21-DAYS-SQUARE.png
END:VEVENT
BEGIN:VEVENT
DTSTART;TZID=America/Los_Angeles:20240121T180000
DTEND;TZID=America/Los_Angeles:20240121T190000
DTSTAMP:20260425T085428
CREATED:20231212T001442Z
LAST-MODIFIED:20231212T001442Z
UID:6620-1705860000-1705863600@www.vccfresno.org
SUMMARY:Night of Prayer
DESCRIPTION:Join us from 6:00-7:00pm for a special night of multilingual prayer and worship as we continue in our 21 days of prayer and fasting. You can join us in person at Valley Christian Center or online at our YouTube channel – Valley Christian Center Fresno.
URL:https://www.vccfresno.org/event/night-of-prayer/
LOCATION:Valley Christian Center\, 4649 E. Shields Ave\, Fresno\, CA\, 93726\, United States
CATEGORIES:Prayer
ATTACH;FMTTYPE=image/png:https://www.vccfresno.org/wp-content/uploads/2023/12/EVENT-SQ-1.png
END:VEVENT
BEGIN:VEVENT
DTSTART;TZID=America/Los_Angeles:20240121T090000
DTEND;TZID=America/Los_Angeles:20240121T094500
DTSTAMP:20260425T085428
CREATED:20240104T225829Z
LAST-MODIFIED:20240104T225915Z
UID:6661-1705827600-1705830300@www.vccfresno.org
SUMMARY:Baptism Class
DESCRIPTION:Have you accepted Jesus as your Lord and Savior? Then your next step is water baptism. We believe water baptism in an outward expression of the inward work that God is doing in your life. It is one of the most significant next steps you can take to continue your faith journey\, and we love to celebrate with each and every person who takes this step of obedience in his or her journey to follow Jesus. Sunday\, January\, 21st is our next Water Baptism Class at 9:00am in Room 104. In this class you will learn 3 things: What is water baptism?\, What’s the purpose of water baptism? and What is the promise of water baptism? Followed by water baptisms on Sunday\, January 28th. Sign-up here.
URL:https://www.vccfresno.org/event/baptism-class/
LOCATION:Valley Christian Center\, 4649 E. Shields Ave\, Fresno\, CA\, 93726\, United States
CATEGORIES:Water Baptism
ATTACH;FMTTYPE=image/png:https://www.vccfresno.org/wp-content/uploads/2022/03/Water-Baptism-Class-SQ.png
END:VEVENT
BEGIN:VEVENT
DTSTART;TZID=America/Los_Angeles:20240118T120000
DTEND;TZID=America/Los_Angeles:20240118T160000
DTSTAMP:20260425T085428
CREATED:20231212T003602Z
LAST-MODIFIED:20231212T003602Z
UID:6638-1705579200-1705593600@www.vccfresno.org
SUMMARY:21 Days Ignite Prayer Stations
DESCRIPTION:Each week of the 21 Days of Prayer and Fasting\, VALLEY will have supplemental\, IGNITE\, prayer stations in the Sanctuary on Mondays through Thursdays from 12:00-4:00pm and Wednesdays from 6:00-8:00pm (January 8th – January 26th). All are welcome to come and enjoy a richer prayer experience with visual and applicable prompts.
URL:https://www.vccfresno.org/event/21-days-ignite-prayer-stations-7/
LOCATION:Valley Christian Center\, 4649 E. Shields Ave\, Fresno\, CA\, 93726\, United States
ATTACH;FMTTYPE=image/png:https://www.vccfresno.org/wp-content/uploads/2023/12/2024-21-DAYS-SQUARE.png
END:VEVENT
BEGIN:VEVENT
DTSTART;TZID=America/Los_Angeles:20240117T120000
DTEND;TZID=America/Los_Angeles:20240117T200000
DTSTAMP:20260425T085428
CREATED:20231212T003454Z
LAST-MODIFIED:20231212T003454Z
UID:6636-1705492800-1705521600@www.vccfresno.org
SUMMARY:21 Days Ignite Prayer Stations
DESCRIPTION:Each week of the 21 Days of Prayer and Fasting\, VALLEY will have supplemental\, IGNITE\, prayer stations in the Sanctuary on Mondays through Thursdays from 12:00-4:00pm and Wednesdays from 6:00-8:00pm (January 8th – January 26th). All are welcome to come and enjoy a richer prayer experience with visual and applicable prompts.
URL:https://www.vccfresno.org/event/21-days-ignite-prayer-stations-6/
LOCATION:Valley Christian Center\, 4649 E. Shields Ave\, Fresno\, CA\, 93726\, United States
ATTACH;FMTTYPE=image/png:https://www.vccfresno.org/wp-content/uploads/2023/12/2024-21-DAYS-SQUARE.png
END:VEVENT
BEGIN:VEVENT
DTSTART;TZID=America/Los_Angeles:20240116T120000
DTEND;TZID=America/Los_Angeles:20240116T160000
DTSTAMP:20260425T085428
CREATED:20231212T003336Z
LAST-MODIFIED:20231212T003336Z
UID:6634-1705406400-1705420800@www.vccfresno.org
SUMMARY:21 Days Ignite Prayer Stations
DESCRIPTION:Each week of the 21 Days of Prayer and Fasting\, VALLEY will have supplemental\, IGNITE\, prayer stations in the Sanctuary on Mondays through Thursdays from 12:00-4:00pm and Wednesdays from 6:00-8:00pm (January 8th – January 26th). All are welcome to come and enjoy a richer prayer experience with visual and applicable prompts.
URL:https://www.vccfresno.org/event/21-days-ignite-prayer-stations-5/
LOCATION:Valley Christian Center\, 4649 E. Shields Ave\, Fresno\, CA\, 93726\, United States
CATEGORIES:Prayer
ATTACH;FMTTYPE=image/png:https://www.vccfresno.org/wp-content/uploads/2023/12/2024-21-DAYS-SQUARE.png
END:VEVENT
BEGIN:VEVENT
DTSTART;TZID=America/Los_Angeles:20240115T120000
DTEND;TZID=America/Los_Angeles:20240115T160000
DTSTAMP:20260425T085428
CREATED:20231212T003217Z
LAST-MODIFIED:20231212T003217Z
UID:6632-1705320000-1705334400@www.vccfresno.org
SUMMARY:21 Days Ignite Prayer Stations
DESCRIPTION:Each week of the 21 Days of Prayer and Fasting\, VALLEY will have supplemental\, IGNITE\, prayer stations in the Sanctuary on Mondays through Thursdays from 12:00-4:00pm and Wednesdays from 6:00-8:00pm (January 8th – January 26th). All are welcome to come and enjoy a richer prayer experience with visual and applicable prompts.
URL:https://www.vccfresno.org/event/21-days-ignite-prayer-stations-4/
LOCATION:Valley Christian Center\, 4649 E. Shields Ave\, Fresno\, CA\, 93726\, United States
CATEGORIES:Prayer
ATTACH;FMTTYPE=image/png:https://www.vccfresno.org/wp-content/uploads/2023/12/2024-21-DAYS-SQUARE.png
END:VEVENT
BEGIN:VEVENT
DTSTART;TZID=America/Los_Angeles:20240111T120000
DTEND;TZID=America/Los_Angeles:20240111T160000
DTSTAMP:20260425T085428
CREATED:20231212T003042Z
LAST-MODIFIED:20231212T003042Z
UID:6630-1704974400-1704988800@www.vccfresno.org
SUMMARY:21 Days Ignite Prayer Stations
DESCRIPTION:Each week of the 21 Days of Prayer and Fasting\, VALLEY will have supplemental\, IGNITE\, prayer stations in the Sanctuary on Mondays through Thursdays from 12:00-4:00pm and Wednesdays from 6:00-8:00pm (January 8th – January 26th). All are welcome to come and enjoy a richer prayer experience with visual and applicable prompts.
URL:https://www.vccfresno.org/event/21-days-ignite-prayer-stations-3/
LOCATION:Valley Christian Center\, 4649 E. Shields Ave\, Fresno\, CA\, 93726\, United States
CATEGORIES:Prayer
ATTACH;FMTTYPE=image/png:https://www.vccfresno.org/wp-content/uploads/2023/12/2024-21-DAYS-SQUARE.png
END:VEVENT
BEGIN:VEVENT
DTSTART;TZID=America/Los_Angeles:20240110T120000
DTEND;TZID=America/Los_Angeles:20240110T200000
DTSTAMP:20260425T085428
CREATED:20231212T002928Z
LAST-MODIFIED:20231212T002928Z
UID:6628-1704888000-1704916800@www.vccfresno.org
SUMMARY:21 Days Ignite Prayer Stations
DESCRIPTION:Each week of the 21 Days of Prayer and Fasting\, VALLEY will have supplemental\, IGNITE\, prayer stations in the Sanctuary on Mondays through Thursdays from 12:00-4:00pm and Wednesdays from 6:00-8:00pm (January 8th – January 26th). All are welcome to come and enjoy a richer prayer experience with visual and applicable prompts.
URL:https://www.vccfresno.org/event/21-days-ignite-prayer-stations-2/
LOCATION:Valley Christian Center\, 4649 E. Shields Ave\, Fresno\, CA\, 93726\, United States
CATEGORIES:Prayer
ATTACH;FMTTYPE=image/png:https://www.vccfresno.org/wp-content/uploads/2023/12/2024-21-DAYS-SQUARE.png
END:VEVENT
BEGIN:VEVENT
DTSTART;TZID=America/Los_Angeles:20240109T120000
DTEND;TZID=America/Los_Angeles:20240109T160000
DTSTAMP:20260425T085428
CREATED:20231212T002717Z
LAST-MODIFIED:20231212T002717Z
UID:6626-1704801600-1704816000@www.vccfresno.org
SUMMARY:21 Days Ignite Prayer Stations
DESCRIPTION:Each week of the 21 Days of Prayer and Fasting\, VALLEY will have supplemental\, IGNITE\, prayer stations in the Sanctuary on Mondays through Thursdays from 12:00-4:00pm and Wednesdays from 6:00-8:00pm (January 8th – January 26th). All are welcome to come and enjoy a richer prayer experience with visual and applicable prompts.
URL:https://www.vccfresno.org/event/21-days-ignite-prayer-stations/
LOCATION:CA
ATTACH;FMTTYPE=image/png:https://www.vccfresno.org/wp-content/uploads/2023/12/2024-21-DAYS-SQUARE.png
END:VEVENT
BEGIN:VEVENT
DTSTART;TZID=America/Los_Angeles:20240108T120000
DTEND;TZID=America/Los_Angeles:20240108T160000
DTSTAMP:20260425T085428
CREATED:20231212T002407Z
LAST-MODIFIED:20231212T002532Z
UID:6623-1704715200-1704729600@www.vccfresno.org
SUMMARY:21 Days Prayer Stations
DESCRIPTION:Each week of the 21 Days of Prayer and Fasting\, VALLEY will have supplemental\, IGNITE\, prayer stations in the Sanctuary on Mondays through Thursdays from 12:00-4:00pm and Wednesdays from 6:00-8:00pm (January 8th – January 26th). All are welcome to come and enjoy a richer prayer experience with visual and applicable prompts.
URL:https://www.vccfresno.org/event/21-days-prayer-stations/
LOCATION:Valley Christian Center\, 4649 E. Shields Ave\, Fresno\, CA\, 93726\, United States
CATEGORIES:Prayer
ATTACH;FMTTYPE=image/png:https://www.vccfresno.org/wp-content/uploads/2023/12/2024-21-DAYS-SQUARE.png
END:VEVENT
BEGIN:VEVENT
DTSTART;TZID=America/Los_Angeles:20231224T100000
DTEND;TZID=America/Los_Angeles:20231224T111500
DTSTAMP:20260425T085428
CREATED:20231211T233329Z
LAST-MODIFIED:20231211T233505Z
UID:6617-1703412000-1703416500@www.vccfresno.org
SUMMARY:Christmas at Valley
DESCRIPTION:Join us for a special family Christmas service on Sunday\, December 24th at 10:00am. Invite your family and friends as we celebrate the birth of our Savior with a special performance from our VCC Kids. We look forward to celebrating together!
URL:https://www.vccfresno.org/event/christmas-at-valley/
LOCATION:Valley Christian Center\, 4649 E. Shields Ave\, Fresno\, CA\, 93726\, United States
END:VEVENT
BEGIN:VEVENT
DTSTART;TZID=America/Los_Angeles:20231202T120000
DTEND;TZID=America/Los_Angeles:20231202T150000
DTSTAMP:20260425T085428
CREATED:20231108T235350Z
LAST-MODIFIED:20231108T235350Z
UID:6552-1701518400-1701529200@www.vccfresno.org
SUMMARY:Primetime 55+ Christmas Luncheon
DESCRIPTION:Join us on Saturday\, December 2nd from 12:00-3:00pm in the All Purpose Room where we\nwill be enjoying a delicious lunch along with a fun time of singing Christmas carols\, playing games and celebrating the birth of Jesus together! \nSIGN UP HERE!
URL:https://www.vccfresno.org/event/primetime-55-christmas-luncheon/
LOCATION:Valley Christian Center\, 4649 E. Shields Ave\, Fresno\, CA\, 93726\, United States
CATEGORIES:PrimeTime
ATTACH;FMTTYPE=image/png:https://www.vccfresno.org/wp-content/uploads/2023/11/PrimeTime-55-Christmas-Luncheon-2023-Banner.png
END:VEVENT
BEGIN:VEVENT
DTSTART;TZID=America/Los_Angeles:20231119T140000
DTEND;TZID=America/Los_Angeles:20231119T150000
DTSTAMP:20260425T085428
CREATED:20231005T014107Z
LAST-MODIFIED:20231005T014107Z
UID:6545-1700402400-1700406000@www.vccfresno.org
SUMMARY:PrimeTime 55+ Golden Chain Theatre Day!
DESCRIPTION:We are taking reservations now for our trip to the Golden Chain Theatre (42130 CA-41\, Oakhurst) on Sunday\, November 19th where we’ll see the 2:00pm showing of A Christmas Carol.\n\nTicket price per person is $15.00 and all online reservations MUST be made by 3:00pm on October 29th.\nSIGN UP HERE!
URL:https://www.vccfresno.org/event/primetime-55-golden-chain-theatre-day/
LOCATION:CA
CATEGORIES:PrimeTime
ATTACH;FMTTYPE=image/png:https://www.vccfresno.org/wp-content/uploads/2023/10/September-2023-PrimeTime-55-November-Golden-Chain-Theatre-Day-Banner-1000x562px.png
END:VEVENT
BEGIN:VEVENT
DTSTART;TZID=America/Los_Angeles:20231119T113000
DTEND;TZID=America/Los_Angeles:20231119T130000
DTSTAMP:20260425T085428
CREATED:20231114T203404Z
LAST-MODIFIED:20231114T203404Z
UID:6563-1700393400-1700398800@www.vccfresno.org
SUMMARY:Valley Membership Class
DESCRIPTION:Are you ready to make Valley your church home? Come to the Valley Membership Class where Pastor Rene will be teaching on “what we believe” and the benefits to becoming a member of Valley. We have two days you can choose from; Tuesday\, November 14th or Sunday\, November 19th. A light meal and child care is provided \nSIGN UP HERE!
URL:https://www.vccfresno.org/event/valley-membership-class-2/
LOCATION:Valley Christian Center\, 4649 E. Shields Ave\, Fresno\, CA\, 93726\, United States
ATTACH;FMTTYPE=image/png:https://www.vccfresno.org/wp-content/uploads/2023/11/Membership-Form-Banner.png
END:VEVENT
BEGIN:VEVENT
DTSTART;TZID=America/Los_Angeles:20231114T183000
DTEND;TZID=America/Los_Angeles:20231114T203000
DTSTAMP:20260425T085428
CREATED:20231114T203224Z
LAST-MODIFIED:20231114T203224Z
UID:6555-1699986600-1699993800@www.vccfresno.org
SUMMARY:Valley Membership Class
DESCRIPTION:Are you ready to make Valley your church home? Come to the Valley Membership Class where Pastor Rene will be teaching on “what we believe” and the benefits to becoming a member of Valley. We have two days you can choose from; Tuesday\, November 14th or Sunday\, November 19th. A light meal and child care is provided \nSIGN UP HERE!
URL:https://www.vccfresno.org/event/valley-membership-class/
LOCATION:Valley Christian Center\, 4649 E. Shields Ave\, Fresno\, CA\, 93726\, United States
ATTACH;FMTTYPE=image/png:https://www.vccfresno.org/wp-content/uploads/2023/11/Membership-Form-Banner.png
END:VEVENT
BEGIN:VEVENT
DTSTART;TZID=America/Los_Angeles:20231112T100000
DTEND;TZID=America/Los_Angeles:20231112T113000
DTSTAMP:20260425T085428
CREATED:20221230T180221Z
LAST-MODIFIED:20221230T180804Z
UID:5962-1699783200-1699788600@www.vccfresno.org
SUMMARY:Water Baptism
DESCRIPTION:We believe water baptism in the outward expression of the inward work that God is doing in your life. We see baptism as one of the most significant next steps you can take to continue your spiritual journey\, and we love to celebrate with each and every person who takes this step of obedience in his or her journey to follow Jesus.\nSunday\, November 5th is our next Water Baptism Class at 9:00am in Room 104! In this class you will learn 3 things: What is water baptism?\, What’s the purpose of water baptism? and What is the promise of water baptism? Followed by water baptisms on Sunday\, November 12th. \nSign Up Here.
URL:https://www.vccfresno.org/event/water-baptism-4/
LOCATION:CA
CATEGORIES:Water Baptism
ATTACH;FMTTYPE=image/png:https://www.vccfresno.org/wp-content/uploads/2022/03/Water-Baptism-Class-SQ.png
END:VEVENT
END:VCALENDAR