BEGIN:VCALENDAR
VERSION:2.0
PRODID:-//Valley Christian Center - ECPv6.13.2.1//NONSGML v1.0//EN
CALSCALE:GREGORIAN
METHOD:PUBLISH
X-WR-CALNAME:Valley Christian Center
X-ORIGINAL-URL:https://www.vccfresno.org
X-WR-CALDESC:Events for Valley Christian Center
REFRESH-INTERVAL;VALUE=DURATION:PT1H
X-Robots-Tag:noindex
X-PUBLISHED-TTL:PT1H
BEGIN:VTIMEZONE
TZID:America/Los_Angeles
BEGIN:DAYLIGHT
TZOFFSETFROM:-0800
TZOFFSETTO:-0700
TZNAME:PDT
DTSTART:20240310T100000
END:DAYLIGHT
BEGIN:STANDARD
TZOFFSETFROM:-0700
TZOFFSETTO:-0800
TZNAME:PST
DTSTART:20241103T090000
END:STANDARD
END:VTIMEZONE
BEGIN:VEVENT
DTSTART;TZID=America/Los_Angeles:20241119T183000
DTEND;TZID=America/Los_Angeles:20241119T200000
DTSTAMP:20260425T040326
CREATED:20240919T185107Z
LAST-MODIFIED:20241014T191459Z
UID:7829-1732041000-1732046400@www.vccfresno.org
SUMMARY:Tuesday Night Bible Study
DESCRIPTION:Our year round Men’s Tuesday Night Bible Study Connect Crew meets every Tuesday. We are an open group\, so you can join anytime. This group is for men who would love to learn more about JESUS and what He has in store for us. The cost is usually around $8.00-$12.00 depending on the cost of the book. \nSIGN UP HERE!
URL:https://www.vccfresno.org/event/tuesday-night-bible-study/
LOCATION:Valley Christian Center\, 4649 E. Shields Ave\, Fresno\, CA\, 93726\, United States
ATTACH;FMTTYPE=image/png:https://www.vccfresno.org/wp-content/uploads/2024/09/FT_KO-Mens-Bible_Book-Study.png
END:VEVENT
BEGIN:VEVENT
DTSTART;TZID=America/Los_Angeles:20241119T070000
DTEND;TZID=America/Los_Angeles:20241119T080000
DTSTAMP:20260425T040327
CREATED:20240919T180358Z
LAST-MODIFIED:20241014T191221Z
UID:7800-1731999600-1732003200@www.vccfresno.org
SUMMARY:Men's Discipleship
DESCRIPTION:Join us every Tuesday morning from 7:00-8:00am for breakfast and the Word in the All Purpose Room. We are currently going through the “Devoted” Bible Study. Cost is $14 for the bible study booklet. Join us anytime. \nSIGN UP HERE!
URL:https://www.vccfresno.org/event/mens-discipleship-8/
LOCATION:Valley Christian Center\, 4649 E. Shields Ave\, Fresno\, CA\, 93726\, United States
ATTACH;FMTTYPE=image/png:https://www.vccfresno.org/wp-content/uploads/2024/09/GH_DS-Mens-Discipleship.png
END:VEVENT
BEGIN:VEVENT
DTSTART;TZID=America/Los_Angeles:20241114T183000
DTEND;TZID=America/Los_Angeles:20241114T200000
DTSTAMP:20260425T040327
CREATED:20240918T205526Z
LAST-MODIFIED:20241014T190545Z
UID:7779-1731609000-1731614400@www.vccfresno.org
SUMMARY:Gospel of John - Men's Bible Study
DESCRIPTION:September 26th – November 21st on Thursday nights from 6:30-8:00pm in room 104. \nSIGN UP HERE!
URL:https://www.vccfresno.org/event/gospel-of-john-mens-bible-study-8/
LOCATION:Valley Christian Center\, 4649 E. Shields Ave\, Fresno\, CA\, 93726\, United States
ATTACH;FMTTYPE=image/png:https://www.vccfresno.org/wp-content/uploads/2024/09/BA-Mens-Gospel-of-John-Bible-Study.png
END:VEVENT
BEGIN:VEVENT
DTSTART;TZID=America/Los_Angeles:20241113T100000
DTEND;TZID=America/Los_Angeles:20241113T120000
DTSTAMP:20260425T040327
CREATED:20240918T201914Z
LAST-MODIFIED:20241014T190040Z
UID:7739-1731492000-1731499200@www.vccfresno.org
SUMMARY:DIY Crafting & Women of the Bible
DESCRIPTION:Join us for fellowship and crafty fun. You will have a space at a table for any DIY crafting that you want to work on. Enjoy spending time with other crafters while working on your projects. Each week we will share God’s word studying the women of the Bible. Bring a friend. Make new friends. Develop new connections while enjoying your hobby with others. September 4th – November 20th from 10:00am-12:00pm in the All Purpose Room. \nSIGN UP HERE!
URL:https://www.vccfresno.org/event/7739/
LOCATION:Valley Christian Center\, 4649 E. Shields Ave\, Fresno\, CA\, 93726\, United States
ATTACH;FMTTYPE=image/png:https://www.vccfresno.org/wp-content/uploads/2024/09/CW-Ladies-DIY-Crafting.png
END:VEVENT
BEGIN:VEVENT
DTSTART;TZID=America/Los_Angeles:20241113T090000
DTEND;TZID=America/Los_Angeles:20241113T110000
DTSTAMP:20260425T040327
CREATED:20240918T203643Z
LAST-MODIFIED:20241014T185234Z
UID:7760-1731488400-1731495600@www.vccfresno.org
SUMMARY:Biblical Citizenship - Women Bible Study
DESCRIPTION:Wednesdays September 18th – November 20th from 9:00am-11:00am in room 305. \nSIGN UP HERE!
URL:https://www.vccfresno.org/event/biblical-citizenship-women-bible-study-8/
LOCATION:Valley Christian Center\, 4649 E. Shields Ave\, Fresno\, CA\, 93726\, United States
ATTACH;FMTTYPE=image/png:https://www.vccfresno.org/wp-content/uploads/2024/08/CD-Biblical-Citizenship-Study.png
END:VEVENT
BEGIN:VEVENT
DTSTART;TZID=America/Los_Angeles:20241112T183000
DTEND;TZID=America/Los_Angeles:20241112T200000
DTSTAMP:20260425T040327
CREATED:20240919T184956Z
LAST-MODIFIED:20241014T191518Z
UID:7827-1731436200-1731441600@www.vccfresno.org
SUMMARY:Tuesday Night Men's Bible Study
DESCRIPTION:Our year round Men’s Tuesday Night Bible Study Connect Crew meets every Tuesday. We are an open group\, so you can join anytime. This group is for men who would love to learn more about JESUS and what He has in store for us. The cost is usually around $8.00-$12.00 depending on the cost of the book. \nSIGN UP HERE!
URL:https://www.vccfresno.org/event/tuesday-night-mens-bible-study-9/
LOCATION:Valley Christian Center\, 4649 E. Shields Ave\, Fresno\, CA\, 93726\, United States
ATTACH;FMTTYPE=image/png:https://www.vccfresno.org/wp-content/uploads/2024/09/FT_KO-Mens-Bible_Book-Study.png
END:VEVENT
BEGIN:VEVENT
DTSTART;TZID=America/Los_Angeles:20241112T070000
DTEND;TZID=America/Los_Angeles:20241112T080000
DTSTAMP:20260425T040327
CREATED:20240919T180242Z
LAST-MODIFIED:20240919T180242Z
UID:7798-1731394800-1731398400@www.vccfresno.org
SUMMARY:Men's Dicipleship
DESCRIPTION:Join us every Tuesday morning from 7:00-8:00am for breakfast and the Word in the All Purpose Room. We are currently going through the “Devoted” Bible Study. Cost is $14 for the bible study booklet. Join us anytime. \nSIGN UP HERE!
URL:https://www.vccfresno.org/event/mens-dicipleship/
LOCATION:Valley Christian Center\, 4649 E. Shields Ave\, Fresno\, CA\, 93726\, United States
CATEGORIES:Life Groups,Men
ATTACH;FMTTYPE=image/png:https://www.vccfresno.org/wp-content/uploads/2024/09/GH_DS-Mens-Discipleship.png
END:VEVENT
BEGIN:VEVENT
DTSTART;TZID=America/Los_Angeles:20241110T090000
DTEND;TZID=America/Los_Angeles:20241110T113000
DTSTAMP:20260425T040327
CREATED:20240104T232146Z
LAST-MODIFIED:20240118T193448Z
UID:6681-1731229200-1731238200@www.vccfresno.org
SUMMARY:Baptism Sunday
DESCRIPTION:Baptism Sunday is here! Today is the day we celebrate those being raised to new life in Christ by way of water baptism. Those being baptized have gone through our baptism class and are ready to proclaim their faith. If you are interested in being baptized and have accepted Jesus as your Lord and Savior sign-up online today for our next baptism class and baptism Sunday. \nSIGN UP HERE!
URL:https://www.vccfresno.org/event/baptism-sunday-5/
LOCATION:Valley Christian Center\, 4649 E. Shields Ave\, Fresno\, CA\, 93726\, United States
CATEGORIES:Water Baptism
ATTACH;FMTTYPE=image/png:https://www.vccfresno.org/wp-content/uploads/2022/03/Water-Baptism-Class-SQ.png
END:VEVENT
BEGIN:VEVENT
DTSTART;TZID=America/Los_Angeles:20241107T183000
DTEND;TZID=America/Los_Angeles:20241107T200000
DTSTAMP:20260425T040327
CREATED:20240918T205421Z
LAST-MODIFIED:20241014T190706Z
UID:7777-1731004200-1731009600@www.vccfresno.org
SUMMARY:Gospel of John - Men's Bible Study
DESCRIPTION:September 26th – November 21st on Thursday nights from 6:30-8:00pm in room 104. \nSIGN UP HERE!
URL:https://www.vccfresno.org/event/gospel-of-john-mens-bible-study-7/
LOCATION:Valley Christian Center\, 4649 E. Shields Ave\, Fresno\, CA\, 93726\, United States
ATTACH;FMTTYPE=image/png:https://www.vccfresno.org/wp-content/uploads/2024/09/BA-Mens-Gospel-of-John-Bible-Study.png
END:VEVENT
BEGIN:VEVENT
DTSTART;TZID=America/Los_Angeles:20241107T180000
DTEND;TZID=America/Los_Angeles:20241107T200000
DTSTAMP:20260425T040327
CREATED:20241028T194000Z
LAST-MODIFIED:20241028T194000Z
UID:7894-1731002400-1731009600@www.vccfresno.org
SUMMARY:PrimeTime 55+ Bunco Night
DESCRIPTION:Join us on Thursday\, November 7th from 6:00pm to 8:00pm in the All Purpose Room for BUNCO Night!\nCome learn this fun\, fast-paced game with the PrimeTime 55+ gang! Bring a friend and snack to share! Beginners welcome! See you there!Online Registration only through November 4th.\nSIGN UP HERE!
URL:https://www.vccfresno.org/event/primetime-55-bunco-night-4/
LOCATION:Valley Christian Center\, 4649 E. Shields Ave\, Fresno\, CA\, 93726\, United States
CATEGORIES:PrimeTime
ATTACH;FMTTYPE=image/png:https://www.vccfresno.org/wp-content/uploads/2024/05/PT55-July-18th-BUNCO-SQ.png
END:VEVENT
BEGIN:VEVENT
DTSTART;TZID=America/Los_Angeles:20241106T090000
DTEND;TZID=America/Los_Angeles:20241106T110000
DTSTAMP:20260425T040327
CREATED:20240918T203525Z
LAST-MODIFIED:20241014T185406Z
UID:7758-1730883600-1730890800@www.vccfresno.org
SUMMARY:Biblical Citizenship - Women Bible Study
DESCRIPTION:Wednesdays September 18th – November 20th from 9:00am-11:00am in room 305. \nSIGN UP HERE!
URL:https://www.vccfresno.org/event/biblical-citizenship-women-bible-study-7/
LOCATION:Valley Christian Center\, 4649 E. Shields Ave\, Fresno\, CA\, 93726\, United States
ATTACH;FMTTYPE=image/png:https://www.vccfresno.org/wp-content/uploads/2024/08/CD-Biblical-Citizenship-Study.png
END:VEVENT
BEGIN:VEVENT
DTSTART;TZID=America/Los_Angeles:20241106T080000
DTEND;TZID=America/Los_Angeles:20241106T170000
DTSTAMP:20260425T040327
CREATED:20240918T201824Z
LAST-MODIFIED:20241014T190111Z
UID:7737-1730880000-1730912400@www.vccfresno.org
SUMMARY:DIY Crafting & Women of the Bible
DESCRIPTION:Join us for fellowship and crafty fun. You will have a space at a table for any DIY crafting that you want to work on. Enjoy spending time with other crafters while working on your projects. Each week we will share God’s word studying the women of the Bible. Bring a friend. Make new friends. Develop new connections while enjoying your hobby with others. September 4th – November 20th from 10:00am-12:00pm in the All Purpose Room. \nSIGN UP HERE!
URL:https://www.vccfresno.org/event/diy-crafting-women-of-the-bible-6/
LOCATION:Valley Christian Center\, 4649 E. Shields Ave\, Fresno\, CA\, 93726\, United States
ATTACH;FMTTYPE=image/png:https://www.vccfresno.org/wp-content/uploads/2024/09/CW-Ladies-DIY-Crafting.png
END:VEVENT
BEGIN:VEVENT
DTSTART;TZID=America/Los_Angeles:20241105T183000
DTEND;TZID=America/Los_Angeles:20241105T200000
DTSTAMP:20260425T040327
CREATED:20240919T184843Z
LAST-MODIFIED:20241014T191531Z
UID:7825-1730831400-1730836800@www.vccfresno.org
SUMMARY:Tuesday Night Men's Bible Study
DESCRIPTION:Our year round Men’s Tuesday Night Bible Study Connect Crew meets every Tuesday. We are an open group\, so you can join anytime. This group is for men who would love to learn more about JESUS and what He has in store for us. The cost is usually around $8.00-$12.00 depending on the cost of the book. \nSIGN UP HERE!
URL:https://www.vccfresno.org/event/tuesday-night-mens-bible-study-8/
LOCATION:Valley Christian Center\, 4649 E. Shields Ave\, Fresno\, CA\, 93726\, United States
ATTACH;FMTTYPE=image/png:https://www.vccfresno.org/wp-content/uploads/2024/09/FT_KO-Mens-Bible_Book-Study.png
END:VEVENT
BEGIN:VEVENT
DTSTART;TZID=America/Los_Angeles:20241105T070000
DTEND;TZID=America/Los_Angeles:20241105T080000
DTSTAMP:20260425T040327
CREATED:20240919T180133Z
LAST-MODIFIED:20241014T191241Z
UID:7796-1730790000-1730793600@www.vccfresno.org
SUMMARY:Men's Discipleship
DESCRIPTION:Join us every Tuesday morning from 7:00-8:00am for breakfast and the Word in the All Purpose Room. We are currently going through the “Devoted” Bible Study. Cost is $14 for the bible study booklet. Join us anytime. \nSIGN UP HERE!
URL:https://www.vccfresno.org/event/mens-discipleship-7/
LOCATION:Valley Christian Center\, 4649 E. Shields Ave\, Fresno\, CA\, 93726\, United States
ATTACH;FMTTYPE=image/png:https://www.vccfresno.org/wp-content/uploads/2024/09/GH_DS-Mens-Discipleship.png
END:VEVENT
BEGIN:VEVENT
DTSTART;TZID=America/Los_Angeles:20241103T113000
DTEND;TZID=America/Los_Angeles:20241103T130000
DTSTAMP:20260425T040327
CREATED:20240110T220252Z
LAST-MODIFIED:20240110T220252Z
UID:6723-1730633400-1730638800@www.vccfresno.org
SUMMARY:PrimeTime Brunch
DESCRIPTION:Come hang out with old and new friends as we enjoy brunch together! Find out all the details when you sign up in the Courtyard before service (9:30-9:55am) on November 3rd.
URL:https://www.vccfresno.org/event/primetime-brunch-10/
LOCATION:CA
CATEGORIES:PrimeTime
ATTACH;FMTTYPE=image/png:https://www.vccfresno.org/wp-content/uploads/2024/01/PT-Brunch-After-Service-Banner.png
END:VEVENT
BEGIN:VEVENT
DTSTART;TZID=America/Los_Angeles:20241103T090000
DTEND;TZID=America/Los_Angeles:20241103T093000
DTSTAMP:20260425T040327
CREATED:20240104T230857Z
LAST-MODIFIED:20240118T193608Z
UID:6670-1730624400-1730626200@www.vccfresno.org
SUMMARY:Baptism Class
DESCRIPTION:Have you accepted Jesus as your Lord and Savior? Then your next step is water baptism. We believe water baptism in an outward expression of the inward work that God is doing in your life. It is one of the most significant next steps you can take to continue your faith journey\, and we love to celebrate with each and every person who takes this step of obedience in his or her journey to follow Jesus. Sunday\, November 3rd is our next Water Baptism Class at 9:00am in Room 104. In this class you will learn 3 things: What is water baptism?\, What’s the purpose of water baptism? and What is the promise of water baptism? Followed by water baptisms on Sunday\, November 10th. \nSIGN UP HERE!
URL:https://www.vccfresno.org/event/baptism-class-5/
LOCATION:Valley Christian Center\, 4649 E. Shields Ave\, Fresno\, CA\, 93726\, United States
CATEGORIES:Water Baptism
ATTACH;FMTTYPE=image/png:https://www.vccfresno.org/wp-content/uploads/2022/03/Water-Baptism-Class-SQ.png
END:VEVENT
BEGIN:VEVENT
DTSTART;TZID=America/Los_Angeles:20241031T183000
DTEND;TZID=America/Los_Angeles:20241031T200000
DTSTAMP:20260425T040327
CREATED:20240918T205313Z
LAST-MODIFIED:20241014T190742Z
UID:7775-1730399400-1730404800@www.vccfresno.org
SUMMARY:Gospel of John - Men's Bible Study
DESCRIPTION:September 26th – November 21st on Thursday nights from 6:30-8:00pm in room 104. \nSIGN UP HERE!
URL:https://www.vccfresno.org/event/gospel-of-john-mens-bible-study-6/
LOCATION:Valley Christian Center\, 4649 E. Shields Ave\, Fresno\, CA\, 93726\, United States
ATTACH;FMTTYPE=image/png:https://www.vccfresno.org/wp-content/uploads/2024/09/BA-Mens-Gospel-of-John-Bible-Study.png
END:VEVENT
BEGIN:VEVENT
DTSTART;TZID=America/Los_Angeles:20241030T090000
DTEND;TZID=America/Los_Angeles:20241030T110000
DTSTAMP:20260425T040327
CREATED:20240918T203412Z
LAST-MODIFIED:20241014T185423Z
UID:7756-1730278800-1730286000@www.vccfresno.org
SUMMARY:Biblical Citizenship - Women Bible Study
DESCRIPTION:Wednesdays September 18th – November 20th from 9:00am-11:00am in room 305. \nSIGN UP HERE!
URL:https://www.vccfresno.org/event/biblical-citizenship-women-bible-study-6/
LOCATION:Valley Christian Center\, 4649 E. Shields Ave\, Fresno\, CA\, 93726\, United States
ATTACH;FMTTYPE=image/png:https://www.vccfresno.org/wp-content/uploads/2024/08/CD-Biblical-Citizenship-Study.png
END:VEVENT
BEGIN:VEVENT
DTSTART;TZID=America/Los_Angeles:20241030T080000
DTEND;TZID=America/Los_Angeles:20241030T170000
DTSTAMP:20260425T040327
CREATED:20240918T201725Z
LAST-MODIFIED:20241014T190132Z
UID:7735-1730275200-1730307600@www.vccfresno.org
SUMMARY:DIY Crafting & Women of the Bible
DESCRIPTION:Join us for fellowship and crafty fun. You will have a space at a table for any DIY crafting that you want to work on. Enjoy spending time with other crafters while working on your projects. Each week we will share God’s word studying the women of the Bible. Bring a friend. Make new friends. Develop new connections while enjoying your hobby with others. September 4th – November 20th from 10:00am-12:00pm in the All Purpose Room. \nSIGN UP HERE!
URL:https://www.vccfresno.org/event/diy-crafting-women-of-the-bible-5/
LOCATION:Valley Christian Center\, 4649 E. Shields Ave\, Fresno\, CA\, 93726\, United States
ATTACH;FMTTYPE=image/png:https://www.vccfresno.org/wp-content/uploads/2024/09/CW-Ladies-DIY-Crafting.png
END:VEVENT
BEGIN:VEVENT
DTSTART;TZID=America/Los_Angeles:20241029T183000
DTEND;TZID=America/Los_Angeles:20241029T203000
DTSTAMP:20260425T040327
CREATED:20240918T200228Z
LAST-MODIFIED:20241014T190259Z
UID:7722-1730226600-1730233800@www.vccfresno.org
SUMMARY:Warrior Bride Draw Your Sword: Women's Bible Study
DESCRIPTION:A Six-Week Bible Study Series on the Book of Ephesians and how God created Mighty Warrior Daughters for His Kingdom\, His Kingdom\, His Army and the Epic Battle we are designed to be a part of. September 10th – October 29th from 6:30-8:30pm in room 305 at Valley Christian Center. Cost is $25.00 for the study materials.
URL:https://www.vccfresno.org/event/warrior-bride-draw-your-sword-womens-bible-study-6/
LOCATION:Valley Christian Center\, 4649 E. Shields Ave\, Fresno\, CA\, 93726\, United States
ATTACH;FMTTYPE=image/png:https://www.vccfresno.org/wp-content/uploads/2024/09/Fall-Womens-Connect-Crew-Graphics-1080x18-1.png
END:VEVENT
BEGIN:VEVENT
DTSTART;TZID=America/Los_Angeles:20241029T183000
DTEND;TZID=America/Los_Angeles:20241029T200000
DTSTAMP:20260425T040327
CREATED:20240919T184733Z
LAST-MODIFIED:20241014T191547Z
UID:7823-1730226600-1730232000@www.vccfresno.org
SUMMARY:Tuesday Night Men's Bible Study
DESCRIPTION:Our year round Men’s Tuesday Night Bible Study Connect Crew meets every Tuesday. We are an open group\, so you can join anytime. This group is for men who would love to learn more about JESUS and what He has in store for us. The cost is usually around $8.00-$12.00 depending on the cost of the book. \nSIGN UP HERE!
URL:https://www.vccfresno.org/event/tuesday-night-mens-bible-study-7/
LOCATION:Valley Christian Center\, 4649 E. Shields Ave\, Fresno\, CA\, 93726\, United States
ATTACH;FMTTYPE=image/png:https://www.vccfresno.org/wp-content/uploads/2024/09/FT_KO-Mens-Bible_Book-Study.png
END:VEVENT
BEGIN:VEVENT
DTSTART;TZID=America/Los_Angeles:20241029T070000
DTEND;TZID=America/Los_Angeles:20241029T080000
DTSTAMP:20260425T040327
CREATED:20240918T210757Z
LAST-MODIFIED:20241014T191258Z
UID:7794-1730185200-1730188800@www.vccfresno.org
SUMMARY:Men's Discipleship
DESCRIPTION:Join us every Tuesday morning from 7:00-8:00am for breakfast and the Word in the All Purpose Room. We are currently going through the “Devoted” Bible Study. Cost is $14 for the bible study booklet. Join us anytime. \nSIGN UP HERE!
URL:https://www.vccfresno.org/event/mens-discipleship-6/
LOCATION:Valley Christian Center\, 4649 E. Shields Ave\, Fresno\, CA\, 93726\, United States
ATTACH;FMTTYPE=image/png:https://www.vccfresno.org/wp-content/uploads/2024/09/GH_DS-Mens-Discipleship.png
END:VEVENT
BEGIN:VEVENT
DTSTART;TZID=America/Los_Angeles:20241027T111500
DTEND;TZID=America/Los_Angeles:20241027T120000
DTSTAMP:20260425T040327
CREATED:20240108T235205Z
LAST-MODIFIED:20240118T193735Z
UID:6692-1730027700-1730030400@www.vccfresno.org
SUMMARY:Meet & Greet
DESCRIPTION:If you are new to Valley our team would love to meet you! Join us on any of the following Sunday’s October 27th\, or December 15th right after service for a Meet & Greet in the APR. There will be snacks\, refreshments\, and information on who we are at Valley and how you can get connected. We look forward to meeting you! Click the link to reserve your spot. \nSIGN UP HERE!
URL:https://www.vccfresno.org/event/meet-greet-13/
LOCATION:Valley Christian Center\, 4649 E. Shields Ave\, Fresno\, CA\, 93726\, United States
ATTACH;FMTTYPE=image/png:https://www.vccfresno.org/wp-content/uploads/2024/01/Meet-Greet-Front.png
END:VEVENT
BEGIN:VEVENT
DTSTART;TZID=America/Los_Angeles:20241025T183000
DTEND;TZID=America/Los_Angeles:20241025T203000
DTSTAMP:20260425T040327
CREATED:20240118T020133Z
LAST-MODIFIED:20240814T221157Z
UID:6781-1729881000-1729888200@www.vccfresno.org
SUMMARY:Women's 4th Annual S'mores Night
DESCRIPTION:Ladies\, come out for our 4th annual S’mores Night\, Friday\, October 25th. We’re going to have fun girls time under the stars for a little relaxation before the holidays. The event is from 6:30pm to 8:30 at Pastor Kristi’s house.\nSign up October 13th or 20th after Sunday Service in the Courtyard. \nSIGN UP HERE!
URL:https://www.vccfresno.org/event/womens-3rd-annual-smores-night/
LOCATION:CA
CATEGORIES:Women
ATTACH;FMTTYPE=image/png:https://www.vccfresno.org/wp-content/uploads/2024/01/smores.png
END:VEVENT
BEGIN:VEVENT
DTSTART;TZID=America/Los_Angeles:20241024T183000
DTEND;TZID=America/Los_Angeles:20241024T200000
DTSTAMP:20260425T040327
CREATED:20240918T205137Z
LAST-MODIFIED:20241014T190803Z
UID:7773-1729794600-1729800000@www.vccfresno.org
SUMMARY:Gospel of John - Men's Bible Study
DESCRIPTION:September 26th – November 21st on Thursday nights from 6:30-8:00pm in room 104. \nSIGN UP HERE!
URL:https://www.vccfresno.org/event/gospel-of-john-mens-bible-study-5/
LOCATION:Valley Christian Center\, 4649 E. Shields Ave\, Fresno\, CA\, 93726\, United States
ATTACH;FMTTYPE=image/png:https://www.vccfresno.org/wp-content/uploads/2024/09/BA-Mens-Gospel-of-John-Bible-Study.png
END:VEVENT
BEGIN:VEVENT
DTSTART;TZID=America/Los_Angeles:20241023T100000
DTEND;TZID=America/Los_Angeles:20241023T120000
DTSTAMP:20260425T040327
CREATED:20240918T201538Z
LAST-MODIFIED:20241014T190201Z
UID:7733-1729677600-1729684800@www.vccfresno.org
SUMMARY:DIY Crafting & Women of the Bible
DESCRIPTION:Join us for fellowship and crafty fun. You will have a space at a table for any DIY crafting that you want to work on. Enjoy spending time with other crafters while working on your projects. Each week we will share God’s word studying the women of the Bible. Bring a friend. Make new friends. Develop new connections while enjoying your hobby with others. September 4th – November 20th from 10:00am-12:00pm in the All Purpose Room. \nSIGN UP HERE!
URL:https://www.vccfresno.org/event/diy-crafting-women-of-the-bible-4/
LOCATION:Valley Christian Center\, 4649 E. Shields Ave\, Fresno\, CA\, 93726\, United States
ATTACH;FMTTYPE=image/png:https://www.vccfresno.org/wp-content/uploads/2024/09/CW-Ladies-DIY-Crafting.png
END:VEVENT
BEGIN:VEVENT
DTSTART;TZID=America/Los_Angeles:20241023T090000
DTEND;TZID=America/Los_Angeles:20241023T110000
DTSTAMP:20260425T040327
CREATED:20240918T203310Z
LAST-MODIFIED:20241014T185441Z
UID:7754-1729674000-1729681200@www.vccfresno.org
SUMMARY:Biblical Citizenship - Women Bible Study
DESCRIPTION:Wednesdays September 18th – November 20th from 9:00am-11:00am in room 305. \nSIGN UP HERE!
URL:https://www.vccfresno.org/event/biblical-citizenship-women-bible-study-5/
LOCATION:Valley Christian Center\, 4649 E. Shields Ave\, Fresno\, CA\, 93726\, United States
ATTACH;FMTTYPE=image/png:https://www.vccfresno.org/wp-content/uploads/2024/08/CD-Biblical-Citizenship-Study.png
END:VEVENT
BEGIN:VEVENT
DTSTART;TZID=America/Los_Angeles:20241022T183000
DTEND;TZID=America/Los_Angeles:20241022T203000
DTSTAMP:20260425T040327
CREATED:20240918T200114Z
LAST-MODIFIED:20241014T190319Z
UID:7720-1729621800-1729629000@www.vccfresno.org
SUMMARY:Warrior Bride Draw Your Sword: Women's Bible Study
DESCRIPTION:A Six-Week Bible Study Series on the Book of Ephesians and how God created Mighty Warrior Daughters for His Kingdom\, His Kingdom\, His Army and the Epic Battle we are designed to be a part of. September 10th – October 29th from 6:30-8:30pm in room 305 at Valley Christian Center. Cost is $25.00 for the study materials.
URL:https://www.vccfresno.org/event/warrior-bride-draw-your-sword-womens-bible-study-5/
LOCATION:Valley Christian Center\, 4649 E. Shields Ave\, Fresno\, CA\, 93726\, United States
ATTACH;FMTTYPE=image/png:https://www.vccfresno.org/wp-content/uploads/2024/09/Fall-Womens-Connect-Crew-Graphics-1080x18-1.png
END:VEVENT
BEGIN:VEVENT
DTSTART;TZID=America/Los_Angeles:20241022T183000
DTEND;TZID=America/Los_Angeles:20241022T200000
DTSTAMP:20260425T040327
CREATED:20240919T184518Z
LAST-MODIFIED:20241014T191700Z
UID:7819-1729621800-1729627200@www.vccfresno.org
SUMMARY:Tuesday Night Men's Bible Study
DESCRIPTION:Our year round Men’s Tuesday Night Bible Study Connect Crew meets every Tuesday. We are an open group\, so you can join anytime. This group is for men who would love to learn more about JESUS and what He has in store for us. The cost is usually around $8.00-$12.00 depending on the cost of the book. \nSIGN UP HERE!
URL:https://www.vccfresno.org/event/tuesday-night-mens-bible-study-5/
LOCATION:Valley Christian Center\, 4649 E. Shields Ave\, Fresno\, CA\, 93726\, United States
ATTACH;FMTTYPE=image/png:https://www.vccfresno.org/wp-content/uploads/2024/09/FT_KO-Mens-Bible_Book-Study.png
END:VEVENT
BEGIN:VEVENT
DTSTART;TZID=America/Los_Angeles:20241022T070000
DTEND;TZID=America/Los_Angeles:20241022T080000
DTSTAMP:20260425T040327
CREATED:20240918T210652Z
LAST-MODIFIED:20241014T191740Z
UID:7792-1729580400-1729584000@www.vccfresno.org
SUMMARY:Men's Discipleship
DESCRIPTION:Join us every Tuesday morning from 7:00-8:00am for breakfast and the Word in the All Purpose Room. We are currently going through the “Devoted” Bible Study. Cost is $14 for the bible study booklet. Join us anytime. \nSIGN UP HERE!
URL:https://www.vccfresno.org/event/mens-discipleship-5/
LOCATION:Valley Christian Center\, 4649 E. Shields Ave\, Fresno\, CA\, 93726\, United States
ATTACH;FMTTYPE=image/png:https://www.vccfresno.org/wp-content/uploads/2024/09/GH_DS-Mens-Discipleship.png
END:VEVENT
END:VCALENDAR