BEGIN:VCALENDAR
VERSION:2.0
PRODID:-//Valley Christian Center - ECPv6.13.2.1//NONSGML v1.0//EN
CALSCALE:GREGORIAN
METHOD:PUBLISH
X-ORIGINAL-URL:https://www.vccfresno.org
X-WR-CALDESC:Events for Valley Christian Center
REFRESH-INTERVAL;VALUE=DURATION:PT1H
X-Robots-Tag:noindex
X-PUBLISHED-TTL:PT1H
BEGIN:VTIMEZONE
TZID:America/Los_Angeles
BEGIN:DAYLIGHT
TZOFFSETFROM:-0800
TZOFFSETTO:-0700
TZNAME:PDT
DTSTART:20230312T100000
END:DAYLIGHT
BEGIN:STANDARD
TZOFFSETFROM:-0700
TZOFFSETTO:-0800
TZNAME:PST
DTSTART:20231105T090000
END:STANDARD
END:VTIMEZONE
BEGIN:VEVENT
DTSTART;TZID=America/Los_Angeles:20230702T113000
DTEND;TZID=America/Los_Angeles:20230702T130000
DTSTAMP:20260425T212030
CREATED:20230206T183553Z
LAST-MODIFIED:20230308T171821Z
UID:6165-1688297400-1688302800@www.vccfresno.org
SUMMARY:PrimeTime55+ Brunch After Church
DESCRIPTION:Come hang out with old and new friends as we enjoy brunch together! Find out all the details when you sign up in the Courtyard before service (9:30-9:55am) on July 2nd.
URL:https://www.vccfresno.org/event/primetime55-brunch-after-church-18/
CATEGORIES:PrimeTime
ATTACH;FMTTYPE=image/png:https://www.vccfresno.org/wp-content/uploads/2023/02/PT-Brunch-After-Service-Banner.png
END:VEVENT
BEGIN:VEVENT
DTSTART;TZID=America/Los_Angeles:20230713T170000
DTEND;TZID=America/Los_Angeles:20230713T200000
DTSTAMP:20260425T212030
CREATED:20230626T150136Z
LAST-MODIFIED:20230626T150136Z
UID:6380-1689267600-1689278400@www.vccfresno.org
SUMMARY:PrimeTime 55+ Pizza & Movie Night
DESCRIPTION:PrimeTime 55+ presents…Pizza & Movie Night!\n\nThursday\, July 13th from 5:00pm to 8:00pm in Rooms 402-403.\n\nDINNER: Pizza and Salad (for donation)\nMOVIE: Remember the Titans (PG): An inspiring true story of a come from behind high school football team.\n\nCome enjoy an evening of fun and fellowship!\n\nSIGN UP HERE!
URL:https://www.vccfresno.org/event/primetime-55-pizza-movie-night/
CATEGORIES:PrimeTime
ATTACH;FMTTYPE=image/png:https://www.vccfresno.org/wp-content/uploads/2023/06/PT55-July-2023-Pizza-Movie-Banner-1000x562px.png
END:VEVENT
BEGIN:VEVENT
DTSTART;VALUE=DATE:20230718
DTEND;VALUE=DATE:20230723
DTSTAMP:20260425T212030
CREATED:20230502T145413Z
LAST-MODIFIED:20230502T145721Z
UID:6285-1689638400-1690070399@www.vccfresno.org
SUMMARY:CAMP '23
DESCRIPTION:  \nSIGN UP HERE!
URL:https://www.vccfresno.org/event/camp-23/
CATEGORIES:Youth
ATTACH;FMTTYPE=image/png:https://www.vccfresno.org/wp-content/uploads/2023/05/Steadfast-Summer-Camp-Square-1.png
END:VEVENT
BEGIN:VEVENT
DTSTART;TZID=America/Los_Angeles:20230724T180000
DTEND;TZID=America/Los_Angeles:20230728T201500
DTSTAMP:20260425T212030
CREATED:20230608T214848Z
LAST-MODIFIED:20230608T223949Z
UID:6361-1690221600-1690575300@www.vccfresno.org
SUMMARY:KEEPERS OF THE KINGOM
DESCRIPTION:Grab your armor and your trusty steed and get ready for a merry time as we travel back to the time of castles and dragons! Kings\, queens\, knights\, jesters—all are welcome to attend! At VBS\, we’ll fill your tummy with fine victuals as you learn how to put on the armor of God! Keepers of the Kingdom will be an adventure filled with excitement\, so sign your pre-k through 5th grader up today! July 24th-26th from 6:00-8:15pm at Valley Christian Center.
URL:https://www.vccfresno.org/event/keepers-of-the-kingom/
CATEGORIES:Kids
ATTACH;FMTTYPE=image/png:https://www.vccfresno.org/wp-content/uploads/2023/06/kids-webiste.png
END:VEVENT
BEGIN:VEVENT
DTSTART;TZID=America/Los_Angeles:20230730T113000
DTEND;TZID=America/Los_Angeles:20230730T123000
DTSTAMP:20260425T212030
CREATED:20230114T173829Z
LAST-MODIFIED:20230120T000554Z
UID:6028-1690716600-1690720200@www.vccfresno.org
SUMMARY:Meet & Greet
DESCRIPTION:If you are new to Valley our team would love to meet you! Join us on any of the following Sunday’s February 26th\, April 30th\, July 30th\, or October 29th right after service for a Meet & Greet in the APR. There will be snacks\, refreshments\, and information on who we are at Valley and how you can get connected. We look forward to meeting you! Click the link to reserve your spot.\nSIGN UP HERE!
URL:https://www.vccfresno.org/event/meet-greet-7/
CATEGORIES:Community,Meet
ATTACH;FMTTYPE=image/png:https://www.vccfresno.org/wp-content/uploads/2023/01/2023-Meet-Greet-Invitation-SQPC-.png
END:VEVENT
END:VCALENDAR