BEGIN:VCALENDAR
VERSION:2.0
PRODID:-//Valley Christian Center - ECPv6.13.2.1//NONSGML v1.0//EN
CALSCALE:GREGORIAN
METHOD:PUBLISH
X-ORIGINAL-URL:https://www.vccfresno.org
X-WR-CALDESC:Events for Valley Christian Center
REFRESH-INTERVAL;VALUE=DURATION:PT1H
X-Robots-Tag:noindex
X-PUBLISHED-TTL:PT1H
BEGIN:VTIMEZONE
TZID:America/Los_Angeles
BEGIN:DAYLIGHT
TZOFFSETFROM:-0800
TZOFFSETTO:-0700
TZNAME:PDT
DTSTART:20230312T100000
END:DAYLIGHT
BEGIN:STANDARD
TZOFFSETFROM:-0700
TZOFFSETTO:-0800
TZNAME:PST
DTSTART:20231105T090000
END:STANDARD
END:VTIMEZONE
BEGIN:VEVENT
DTSTART;VALUE=DATE:20230806
DTEND;VALUE=DATE:20230807
DTSTAMP:20260425T195256
CREATED:20230123T181844Z
LAST-MODIFIED:20230123T181845Z
UID:6088-1691280000-1691366399@www.vccfresno.org
SUMMARY:Connect Week
DESCRIPTION:We are better together! Our spring Connect Week is August 6th-August 13th. Connect Week is an opportunity to join in the growing community at Valley by way of our Connect Crews (small groups). Stop by the tables in the courtyard or check out the crews available on our Connect Crew Webpage by clicking “Find a Crew”. Crews consist of bible studies\, classes or interest crews and last from the end of September through the end of November.
URL:https://www.vccfresno.org/event/connect-week-19/
CATEGORIES:Life Groups
ATTACH;FMTTYPE=image/png:https://www.vccfresno.org/wp-content/uploads/2023/01/Connect-Week-Banners-1.png
END:VEVENT
BEGIN:VEVENT
DTSTART;TZID=America/Los_Angeles:20230806T090000
DTEND;TZID=America/Los_Angeles:20230806T090000
DTSTAMP:20260425T195256
CREATED:20221230T173305Z
LAST-MODIFIED:20221230T180728Z
UID:5946-1691312400-1691312400@www.vccfresno.org
SUMMARY:Water Baptism Class
DESCRIPTION:We believe water baptism in the outward expression of the inward work that God is doing in your life. We see baptism as one of the most significant next steps you can take to continue your spiritual journey\, and we love to celebrate with each and every person who takes this step of obedience in his or her journey to follow Jesus.\nSunday\, August 6th is our next Water Baptism Class at 9:00am in Room 104! In this class you will learn 3 things: What is water baptism?\, What’s the purpose of water baptism? and What is the promise of water baptism? Followed by water baptisms on Sunday\, August 13th. \nSign Up Here.
URL:https://www.vccfresno.org/event/8-6-8-13-water-baptism-class-baptism/
CATEGORIES:Water Baptism
ATTACH;FMTTYPE=image/png:https://www.vccfresno.org/wp-content/uploads/2022/03/Water-Baptism-Class-SQ.png
END:VEVENT
BEGIN:VEVENT
DTSTART;TZID=America/Los_Angeles:20230806T113000
DTEND;TZID=America/Los_Angeles:20230806T130000
DTSTAMP:20260425T195256
CREATED:20230206T183631Z
LAST-MODIFIED:20230308T171841Z
UID:6167-1691321400-1691326800@www.vccfresno.org
SUMMARY:PrimeTime55+ Brunch After Church
DESCRIPTION:Come hang out with old and new friends as we enjoy brunch together! Find out all the details when you sign up in the Courtyard before service (9:30-9:55am) on August 6th.
URL:https://www.vccfresno.org/event/primetime55-brunch-after-church-19/
CATEGORIES:PrimeTime
ATTACH;FMTTYPE=image/png:https://www.vccfresno.org/wp-content/uploads/2023/02/PT-Brunch-After-Service-Banner.png
END:VEVENT
BEGIN:VEVENT
DTSTART;VALUE=DATE:20230807
DTEND;VALUE=DATE:20230808
DTSTAMP:20260425T195256
CREATED:20230123T181921Z
LAST-MODIFIED:20230123T181921Z
UID:6090-1691366400-1691452799@www.vccfresno.org
SUMMARY:Connect Week
DESCRIPTION:We are better together! Our spring Connect Week is August 6th-August 13th. Connect Week is an opportunity to join in the growing community at Valley by way of our Connect Crews (small groups). Stop by the tables in the courtyard or check out the crews available on our Connect Crew Webpage by clicking “Find a Crew”. Crews consist of bible studies\, classes or interest crews and last from the end of September through the end of November.
URL:https://www.vccfresno.org/event/connect-week-20/
CATEGORIES:Life Groups
ATTACH;FMTTYPE=image/png:https://www.vccfresno.org/wp-content/uploads/2023/01/Connect-Week-Banners-1.png
END:VEVENT
BEGIN:VEVENT
DTSTART;VALUE=DATE:20230808
DTEND;VALUE=DATE:20230809
DTSTAMP:20260425T195256
CREATED:20230123T181958Z
LAST-MODIFIED:20230123T181959Z
UID:6092-1691452800-1691539199@www.vccfresno.org
SUMMARY:Connect Week
DESCRIPTION:We are better together! Our spring Connect Week is August 6th-August 13th. Connect Week is an opportunity to join in the growing community at Valley by way of our Connect Crews (small groups). Stop by the tables in the courtyard or check out the crews available on our Connect Crew Webpage by clicking “Find a Crew”. Crews consist of bible studies\, classes or interest crews and last from the end of September through the end of November.
URL:https://www.vccfresno.org/event/connect-week-21/
CATEGORIES:Life Groups
ATTACH;FMTTYPE=image/png:https://www.vccfresno.org/wp-content/uploads/2023/01/Connect-Week-Banners-1.png
END:VEVENT
BEGIN:VEVENT
DTSTART;TZID=America/Los_Angeles:20230808T190000
DTEND;TZID=America/Los_Angeles:20230808T203000
DTSTAMP:20260425T195256
CREATED:20230712T151557Z
LAST-MODIFIED:20230718T204117Z
UID:6389-1691521200-1691526600@www.vccfresno.org
SUMMARY:Get In The Game
DESCRIPTION:Couples Connection: GET IN THE GAME\nDon’t Sit On The Sidelines…\nGET IN THE GAME!\nMarriage isn’t for the faint of heart. Anything worth having is worth working for.\nJoin in this 4-week study to improve connection and communication with your significant other\, starting on Tuesday evenings from August 8th through 29th\, 7:00pm-8:30pm in the All Purpose Room.\nChildcare is available upon request.\nSpace is limited so be sure to sign up online today or in the Courtyard after Sunday service on July 16th\, 23rd or 30th.\n\nSIGN UP HERE!
URL:https://www.vccfresno.org/event/get-in-the-game/
CATEGORIES:Marriage
ATTACH;FMTTYPE=image/png:https://www.vccfresno.org/wp-content/uploads/2023/07/Get-in-the-Game-2.png
END:VEVENT
BEGIN:VEVENT
DTSTART;VALUE=DATE:20230809
DTEND;VALUE=DATE:20230810
DTSTAMP:20260425T195256
CREATED:20230123T182127Z
LAST-MODIFIED:20230123T182140Z
UID:6094-1691539200-1691625599@www.vccfresno.org
SUMMARY:Connect Week
DESCRIPTION:We are better together! Our spring Connect Week is August 6th-August 13th. Connect Week is an opportunity to join in the growing community at Valley by way of our Connect Crews (small groups). Stop by the tables in the courtyard or check out the crews available on our Connect Crew Webpage by clicking “Find a Crew”. Crews consist of bible studies\, classes or interest crews and last from the end of September through the end of November.
URL:https://www.vccfresno.org/event/connect-week-22/
CATEGORIES:Life Groups
ATTACH;FMTTYPE=image/png:https://www.vccfresno.org/wp-content/uploads/2023/01/Connect-Week-Banners-1.png
END:VEVENT
BEGIN:VEVENT
DTSTART;VALUE=DATE:20230810
DTEND;VALUE=DATE:20230811
DTSTAMP:20260425T195256
CREATED:20230123T182208Z
LAST-MODIFIED:20230123T182422Z
UID:6096-1691625600-1691711999@www.vccfresno.org
SUMMARY:Connect Week
DESCRIPTION:We are better together! Our spring Connect Week is August 6th-August 13th. Connect Week is an opportunity to join in the growing community at Valley by way of our Connect Crews (small groups). Stop by the tables in the courtyard or check out the crews available on our Connect Crew Webpage by clicking “Find a Crew”. Crews consist of bible studies\, classes or interest crews and last from the end of September through the end of November.
URL:https://www.vccfresno.org/event/connect-crews/
CATEGORIES:Life Groups
ATTACH;FMTTYPE=image/png:https://www.vccfresno.org/wp-content/uploads/2023/01/Connect-Week-Banners-1.png
END:VEVENT
BEGIN:VEVENT
DTSTART;VALUE=DATE:20230811
DTEND;VALUE=DATE:20230812
DTSTAMP:20260425T195256
CREATED:20230123T182327Z
LAST-MODIFIED:20230123T182442Z
UID:6098-1691712000-1691798399@www.vccfresno.org
SUMMARY:Connect Week
DESCRIPTION:We are better together! Our spring Connect Week is August 6th-August 13th. Connect Week is an opportunity to join in the growing community at Valley by way of our Connect Crews (small groups). Stop by the tables in the courtyard or check out the crews available on our Connect Crew Webpage by clicking “Find a Crew”. Crews consist of bible studies\, classes or interest crews and last from the end of September through the end of November.
URL:https://www.vccfresno.org/event/connect-crew/
CATEGORIES:Life Groups
ATTACH;FMTTYPE=image/png:https://www.vccfresno.org/wp-content/uploads/2023/01/Connect-Week-Banners-1.png
END:VEVENT
BEGIN:VEVENT
DTSTART;VALUE=DATE:20230812
DTEND;VALUE=DATE:20230813
DTSTAMP:20260425T195256
CREATED:20230123T182513Z
LAST-MODIFIED:20230123T182513Z
UID:6104-1691798400-1691884799@www.vccfresno.org
SUMMARY:Connect Week
DESCRIPTION:We are better together! Our spring Connect Week is August 6th-August 13th. Connect Week is an opportunity to join in the growing community at Valley by way of our Connect Crews (small groups). Stop by the tables in the courtyard or check out the crews available on our Connect Crew Webpage by clicking “Find a Crew”. Crews consist of bible studies\, classes or interest crews and last from the end of September through the end of November.
URL:https://www.vccfresno.org/event/connect-week-23/
CATEGORIES:Life Groups
ATTACH;FMTTYPE=image/png:https://www.vccfresno.org/wp-content/uploads/2023/01/Connect-Week-Banners-1.png
END:VEVENT
BEGIN:VEVENT
DTSTART;VALUE=DATE:20230812
DTEND;VALUE=DATE:20230813
DTSTAMP:20260425T195256
CREATED:20230123T182542Z
LAST-MODIFIED:20230123T182544Z
UID:6106-1691798400-1691884799@www.vccfresno.org
SUMMARY:Connect Week
DESCRIPTION:We are better together! Our spring Connect Week is August 6th-August 13th. Connect Week is an opportunity to join in the growing community at Valley by way of our Connect Crews (small groups). Stop by the tables in the courtyard or check out the crews available on our Connect Crew Webpage by clicking “Find a Crew”. Crews consist of bible studies\, classes or interest crews and last from the end of September through the end of November.
URL:https://www.vccfresno.org/event/connect-week-24/
CATEGORIES:Life Groups
ATTACH;FMTTYPE=image/png:https://www.vccfresno.org/wp-content/uploads/2023/01/Connect-Week-Banners-1.png
END:VEVENT
BEGIN:VEVENT
DTSTART;TZID=America/Los_Angeles:20230812T100000
DTEND;TZID=America/Los_Angeles:20230812T150000
DTSTAMP:20260425T195256
CREATED:20230601T162940Z
LAST-MODIFIED:20230601T162940Z
UID:6350-1691834400-1691852400@www.vccfresno.org
SUMMARY:Hearing the Voice of God
DESCRIPTION:HEARING THE VOICE OF GOD Communicating with Holy Spirit\nAn exclusive 1-day event for Valley Christian Center Women to discover and improve communication with Holy Spirit.\nJoin us on Saturday\, August 12th from 10:00am-3:00pm in the All Purpose Room.\nChildcare is available upon request.\nSpace is limited so be sure to sign up online today or in the Courtyard after Sunday service on July 30th or August 6th.\n\nSIGN UP HERE!
URL:https://www.vccfresno.org/event/hearing-the-voice-of-god/
CATEGORIES:Women
ATTACH;FMTTYPE=image/png:https://www.vccfresno.org/wp-content/uploads/2023/06/AUGUST-12TH.png
END:VEVENT
BEGIN:VEVENT
DTSTART;TZID=America/Los_Angeles:20230813T100000
DTEND;TZID=America/Los_Angeles:20230813T113000
DTSTAMP:20260425T195256
CREATED:20221230T180102Z
LAST-MODIFIED:20221230T180740Z
UID:5960-1691920800-1691926200@www.vccfresno.org
SUMMARY:Water Baptism
DESCRIPTION:We believe water baptism in the outward expression of the inward work that God is doing in your life. We see baptism as one of the most significant next steps you can take to continue your spiritual journey\, and we love to celebrate with each and every person who takes this step of obedience in his or her journey to follow Jesus.\nSunday\, August 6th is our next Water Baptism Class at 9:00am in Room 104! In this class you will learn 3 things: What is water baptism?\, What’s the purpose of water baptism? and What is the promise of water baptism? Followed by water baptisms on Sunday\, August 13th. \nSign Up Here.
URL:https://www.vccfresno.org/event/water-baptism-3/
CATEGORIES:Water Baptism
ATTACH;FMTTYPE=image/png:https://www.vccfresno.org/wp-content/uploads/2022/03/Water-Baptism-Class-SQ.png
END:VEVENT
BEGIN:VEVENT
DTSTART;TZID=America/Los_Angeles:20230817T180000
DTEND;TZID=America/Los_Angeles:20230817T200000
DTSTAMP:20260425T195256
CREATED:20230802T143844Z
LAST-MODIFIED:20230802T143844Z
UID:6436-1692295200-1692302400@www.vccfresno.org
SUMMARY:PrimeTime 55+ Game Night!
DESCRIPTION:Join us on Thursday\, August 17th from 6:00-8:00pm in the ALL Purpose Room for Game Night!.\nBring your favorite card or board game and snack to share!\nSee you there!\nSIGN UP HERE!
URL:https://www.vccfresno.org/event/primetime-55-game-night-2/
CATEGORIES:PrimeTime
ATTACH;FMTTYPE=image/png:https://www.vccfresno.org/wp-content/uploads/2023/08/PT55-August-2023-Game-Night-Banner.png
END:VEVENT
END:VCALENDAR