BEGIN:VCALENDAR
VERSION:2.0
PRODID:-//Valley Christian Center - ECPv6.13.2.1//NONSGML v1.0//EN
CALSCALE:GREGORIAN
METHOD:PUBLISH
X-ORIGINAL-URL:https://www.vccfresno.org
X-WR-CALDESC:Events for Valley Christian Center
REFRESH-INTERVAL;VALUE=DURATION:PT1H
X-Robots-Tag:noindex
X-PUBLISHED-TTL:PT1H
BEGIN:VTIMEZONE
TZID:America/Los_Angeles
BEGIN:DAYLIGHT
TZOFFSETFROM:-0800
TZOFFSETTO:-0700
TZNAME:PDT
DTSTART:20230312T100000
END:DAYLIGHT
BEGIN:STANDARD
TZOFFSETFROM:-0700
TZOFFSETTO:-0800
TZNAME:PST
DTSTART:20231105T090000
END:STANDARD
END:VTIMEZONE
BEGIN:VEVENT
DTSTART;TZID=America/Los_Angeles:20230903T113000
DTEND;TZID=America/Los_Angeles:20230903T130000
DTSTAMP:20260425T182014
CREATED:20230206T183847Z
LAST-MODIFIED:20230308T171912Z
UID:6169-1693740600-1693746000@www.vccfresno.org
SUMMARY:PrimeTime55+ Brunch After Church
DESCRIPTION:Come hang out with old and new friends as we enjoy brunch together! Find out all the details when you sign up in the Courtyard before service (9:30-9:55am) on September 3rd.
URL:https://www.vccfresno.org/event/primetime55-brunch-after-church-20/
CATEGORIES:PrimeTime
ATTACH;FMTTYPE=image/png:https://www.vccfresno.org/wp-content/uploads/2023/02/PT-Brunch-After-Service-Banner.png
END:VEVENT
BEGIN:VEVENT
DTSTART;TZID=America/Los_Angeles:20230921T120000
DTEND;TZID=America/Los_Angeles:20230921T150000
DTSTAMP:20260425T182014
CREATED:20230830T162625Z
LAST-MODIFIED:20230830T162625Z
UID:6511-1695297600-1695308400@www.vccfresno.org
SUMMARY:PrimeTime 55+ Pizza & Movie Matinee
DESCRIPTION:PrimeTime 55+ presents…Pizza & Movie Matinee!\n\nCome enjoy and afternoon of fun on Thursday\, September 21st from 12:00pm to 3:00pm in Rooms 402-403.\n\nDINNER: Pizza and Salad (for donation)\nMOVIE: McFarland\, USA (PG): An inspiring true story of the 1987 McFarland high school track team.\n\nWe’re having pizza\, so bring your favorite movie-watching snack and join the team in Room 402!\n\n  \n    Register Here
URL:https://www.vccfresno.org/event/primetime-55-pizza-movie-matinee/
CATEGORIES:PrimeTime
ATTACH;FMTTYPE=image/png:https://www.vccfresno.org/wp-content/uploads/2023/08/PT55-September-2023-Pizza-Movie-Matinee-Banner.png
END:VEVENT
BEGIN:VEVENT
DTSTART;TZID=America/Los_Angeles:20230923T083000
DTEND;TZID=America/Los_Angeles:20230923T100000
DTSTAMP:20260425T182014
CREATED:20230725T160731Z
LAST-MODIFIED:20230725T160928Z
UID:6421-1695457800-1695463200@www.vccfresno.org
SUMMARY:Mens: EMPOWERED BREAKFAST
DESCRIPTION:SIGN UP HERE!
URL:https://www.vccfresno.org/event/empowered-breakfast/
CATEGORIES:Men
ATTACH;FMTTYPE=image/png:https://www.vccfresno.org/wp-content/uploads/2023/07/WU-PCCMenEmpoweredEvent-9232023-SQ-1.png
END:VEVENT
END:VCALENDAR