BEGIN:VCALENDAR
VERSION:2.0
PRODID:-//Valley Christian Center - ECPv6.13.2.1//NONSGML v1.0//EN
CALSCALE:GREGORIAN
METHOD:PUBLISH
X-WR-CALNAME:Valley Christian Center
X-ORIGINAL-URL:https://www.vccfresno.org
X-WR-CALDESC:Events for Valley Christian Center
REFRESH-INTERVAL;VALUE=DURATION:PT1H
X-Robots-Tag:noindex
X-PUBLISHED-TTL:PT1H
BEGIN:VTIMEZONE
TZID:America/Los_Angeles
BEGIN:DAYLIGHT
TZOFFSETFROM:-0800
TZOFFSETTO:-0700
TZNAME:PDT
DTSTART:20240310T100000
END:DAYLIGHT
BEGIN:STANDARD
TZOFFSETFROM:-0700
TZOFFSETTO:-0800
TZNAME:PST
DTSTART:20241103T090000
END:STANDARD
END:VTIMEZONE
BEGIN:VEVENT
DTSTART;TZID=America/Los_Angeles:20240302T090000
DTEND;TZID=America/Los_Angeles:20240302T150000
DTSTAMP:20260425T064507
CREATED:20240118T012752Z
LAST-MODIFIED:20240222T012212Z
UID:6772-1709370000-1709391600@www.vccfresno.org
SUMMARY:2024 Women Connect Day Retreat - Ready and Waiting
DESCRIPTION:Ladies\,\nI am so excited to invite you to our very first Women’s Day Retreat at Valley!\nWe will be meeting at the Valley Dream Center on Saturday\, March 2nd from 9:00 am to 3:00 pm.\nWe have a dynamic guest speaker\, Yvette Shields\, who brings the Word of God with great insight and humor.  We will discover what Jesus meant when He told us to be “Ready and Waiting.”  How should we get ready and what are we waiting for? We will worship\, be challenged by our speaker\, go deeper into the Word and make lasting connections with other women.\nI hope you will join me.\n\nI love you dearly\,\nPastor Kristi\n\nSign up in the Courtyard February 4th\, 11th\, 18th or 25th after Sunday Service.\nOr you can sign up online here.
URL:https://www.vccfresno.org/event/2024-women-connect-day-retreat-ready-and-waiting/
LOCATION:Valley Dream Center\, 1835 N Winery Ave\, Fresno\, CA\, 93703\, United States
END:VEVENT
BEGIN:VEVENT
DTSTART;TZID=America/Los_Angeles:20240303T113000
DTEND;TZID=America/Los_Angeles:20240303T130000
DTSTAMP:20260425T064508
CREATED:20240110T215411Z
LAST-MODIFIED:20240110T215411Z
UID:6707-1709465400-1709470800@www.vccfresno.org
SUMMARY:PrimeTime Brunch
DESCRIPTION:Come hang out with old and new friends as we enjoy brunch together! Find out all the details when you sign up in the Courtyard before service (9:30-9:55am) on March 3rd.
URL:https://www.vccfresno.org/event/primetime-brunch-2/
CATEGORIES:PrimeTime
ATTACH;FMTTYPE=image/png:https://www.vccfresno.org/wp-content/uploads/2024/01/PT-Brunch-After-Service-Banner.png
END:VEVENT
BEGIN:VEVENT
DTSTART;TZID=America/Los_Angeles:20240305T183000
DTEND;TZID=America/Los_Angeles:20240305T200000
DTSTAMP:20260425T064508
CREATED:20240118T022154Z
LAST-MODIFIED:20240222T012346Z
UID:6790-1709663400-1709668800@www.vccfresno.org
SUMMARY:Women's Deeper Bible Study
DESCRIPTION:Women Connect Deeper Bible Study is an on-going series that will lead women to go deeper in their relationship with God and His Word\, discovering what He says about our identity\, giftings\, relationships\, our place in the world and how to have courage.\nDeeper starts February 13th on Tuesday evenings from 6:30-8:00pm. \nSign up online here. 
URL:https://www.vccfresno.org/event/womens-deeper-bible-study-4/
LOCATION:Valley Christian Center\, 4649 E. Shields Ave\, Fresno\, CA\, 93726\, United States
ATTACH;FMTTYPE=image/png:https://www.vccfresno.org/wp-content/uploads/2024/01/Deeper-Square.png
END:VEVENT
BEGIN:VEVENT
DTSTART;TZID=America/Los_Angeles:20240308T190000
DTEND;TZID=America/Los_Angeles:20240308T230000
DTSTAMP:20260425T064508
CREATED:20240116T232729Z
LAST-MODIFIED:20240116T232729Z
UID:6743-1709924400-1709938800@www.vccfresno.org
SUMMARY:"The Chosen" - Girl's Night Out
DESCRIPTION:Ladies\, come and join us for a Girl’s Night Out! We are meeting up to watch\, “The Chosen” at the Maya Cinemas\, located at 3090 E. Campus Point Drive\, Fresno\, CA 93710. Advance tickets are already available at the Maya Cinemas and online. No need to sign-up\, just show up with your girls. I will be waiting for you in front of the box office on Friday\, March 8th TBD.
URL:https://www.vccfresno.org/event/the-chosen-girls-night-out-3/
CATEGORIES:Women
ATTACH;FMTTYPE=image/png:https://www.vccfresno.org/wp-content/uploads/2024/01/CHOSEN-AT-THE-MAYA-CINEMA-February-2nd-Episodes-1-3-Times-TBA-February-16th-Episodes-4-6-Times-TBA-March-8th-Episodes-7-8-Times-TBA.png
END:VEVENT
BEGIN:VEVENT
DTSTART;TZID=America/Los_Angeles:20240312T183000
DTEND;TZID=America/Los_Angeles:20240312T200000
DTSTAMP:20260425T064508
CREATED:20240118T022249Z
LAST-MODIFIED:20240222T012417Z
UID:6792-1710268200-1710273600@www.vccfresno.org
SUMMARY:Women's Deeper Bible Study
DESCRIPTION:Women Connect Deeper Bible Study is an on-going series that will lead women to go deeper in their relationship with God and His Word\, discovering what He says about our identity\, giftings\, relationships\, our place in the world and how to have courage.\nDeeper starts February 13th on Tuesday evenings from 6:30-8:00pm. \nSign up online here. 
URL:https://www.vccfresno.org/event/womens-deeper-bible-study-5/
LOCATION:Valley Christian Center\, 4649 E. Shields Ave\, Fresno\, CA\, 93726\, United States
ATTACH;FMTTYPE=image/png:https://www.vccfresno.org/wp-content/uploads/2024/01/Deeper-Square.png
END:VEVENT
BEGIN:VEVENT
DTSTART;TZID=America/Los_Angeles:20240319T183000
DTEND;TZID=America/Los_Angeles:20240319T200000
DTSTAMP:20260425T064508
CREATED:20240118T022406Z
LAST-MODIFIED:20240222T012452Z
UID:6794-1710873000-1710878400@www.vccfresno.org
SUMMARY:Women's Deeper Bible Study
DESCRIPTION:Women Connect Deeper Bible Study is an on-going series that will lead women to go deeper in their relationship with God and His Word\, discovering what He says about our identity\, giftings\, relationships\, our place in the world and how to have courage.\nDeeper starts February 13th on Tuesday evenings from 6:30-8:00pm. \nSign up online here. 
URL:https://www.vccfresno.org/event/womens-deeper-bible-study-6/
LOCATION:Valley Christian Center\, 4649 E. Shields Ave\, Fresno\, CA\, 93726\, United States
ATTACH;FMTTYPE=image/png:https://www.vccfresno.org/wp-content/uploads/2024/01/Deeper-Square.png
END:VEVENT
BEGIN:VEVENT
DTSTART;TZID=America/Los_Angeles:20240321T120000
DTEND;TZID=America/Los_Angeles:20240321T150000
DTSTAMP:20260425T064508
CREATED:20240304T220713Z
LAST-MODIFIED:20240304T220713Z
UID:6944-1711022400-1711033200@www.vccfresno.org
SUMMARY:PrimeTime 55+ Pizza & Movie Matinee
DESCRIPTION:Join us Thursday\, March 21st from 12:00-3:00pm for our matinee showing of Apollo 13\, where NASA must devise a strategy to return Apollo 13 to Earth safely after the spacecraft undergoes massive internal damage.\nWe’re having pizza & salad\, so bring your favorite movie-watching snack and join the team in Room 402!\nSIGN UP HERE!
URL:https://www.vccfresno.org/event/primetime-55-pizza-movie-matinee-2/
LOCATION:Valley Christian Center\, 4649 E. Shields Ave\, Fresno\, CA\, 93726\, United States
CATEGORIES:PrimeTime
ATTACH;FMTTYPE=image/png:https://www.vccfresno.org/wp-content/uploads/2024/03/PT55-March-2024-Pizza-Movie-Matinee-SQ.png
END:VEVENT
BEGIN:VEVENT
DTSTART;TZID=America/Los_Angeles:20240324T090000
DTEND;TZID=America/Los_Angeles:20240324T093000
DTSTAMP:20260425T064508
CREATED:20240104T230417Z
LAST-MODIFIED:20240118T194641Z
UID:6664-1711270800-1711272600@www.vccfresno.org
SUMMARY:Baptism Class
DESCRIPTION:Have you accepted Jesus as your Lord and Savior? Then your next step is water baptism. We believe water baptism in an outward expression of the inward work that God is doing in your life. It is one of the most significant next steps you can take to continue your faith journey\, and we love to celebrate with each and every person who takes this step of obedience in his or her journey to follow Jesus. Sunday\, March 24th is our next Water Baptism Class at 9:00am in Room 104. In this class you will learn 3 things: What is water baptism?\, What’s the purpose of water baptism? and What is the promise of water baptism? Followed by water baptisms on Sunday\, March 31st. \nSIGN UP HERE!
URL:https://www.vccfresno.org/event/baptism-class-2/
LOCATION:Valley Christian Center\, 4649 E. Shields Ave\, Fresno\, CA\, 93726\, United States
CATEGORIES:Water Baptism
ATTACH;FMTTYPE=image/png:https://www.vccfresno.org/wp-content/uploads/2022/03/Water-Baptism-Class-SQ.png
END:VEVENT
BEGIN:VEVENT
DTSTART;TZID=America/Los_Angeles:20240326T183000
DTEND;TZID=America/Los_Angeles:20240326T200000
DTSTAMP:20260425T064508
CREATED:20240118T022505Z
LAST-MODIFIED:20240222T012524Z
UID:6796-1711477800-1711483200@www.vccfresno.org
SUMMARY:Women's Deeper Bible Study
DESCRIPTION:Women Connect Deeper Bible Study is an on-going series that will lead women to go deeper in their relationship with God and His Word\, discovering what He says about our identity\, giftings\, relationships\, our place in the world and how to have courage.\nDeeper starts February 13th on Tuesday evenings from 6:30-8:00pm. \nSign up online here. 
URL:https://www.vccfresno.org/event/womens-deeper-bible-study-7/
LOCATION:Valley Christian Center\, 4649 E. Shields Ave\, Fresno\, CA\, 93726\, United States
ATTACH;FMTTYPE=image/png:https://www.vccfresno.org/wp-content/uploads/2024/01/Deeper-Square.png
END:VEVENT
BEGIN:VEVENT
DTSTART;TZID=America/Los_Angeles:20240326T183000
DTEND;TZID=America/Los_Angeles:20240326T203000
DTSTAMP:20260425T064508
CREATED:20240304T211124Z
LAST-MODIFIED:20240304T213958Z
UID:6933-1711477800-1711485000@www.vccfresno.org
SUMMARY:Steadfast Youth - Pizza & Skate
DESCRIPTION:Pizza & Skate at United Skates on Peach & Gettysburg is for students in 6th-12th grade. Pick up and drop off will be at United Skates. Cost is $15 – includes a slice of pizza\, drink and skate rental. Please make sure you go to United Skates website  to complete a waiver for skating\, this must be done in order to skate that night.
URL:https://www.vccfresno.org/event/steadfast-youth-pizza-skate/
LOCATION:United Skates\, 2881 Peach Ave\, Clovis\, CA\, 93612
CATEGORIES:Youth
ATTACH;FMTTYPE=image/png:https://www.vccfresno.org/wp-content/uploads/2024/03/SFY-PIZZA-SKATE-SQUARE-2.png
END:VEVENT
BEGIN:VEVENT
DTSTART;TZID=America/Los_Angeles:20240331T100000
DTEND;TZID=America/Los_Angeles:20240331T113000
DTSTAMP:20260425T064508
CREATED:20240104T231802Z
LAST-MODIFIED:20240104T231802Z
UID:6675-1711879200-1711884600@www.vccfresno.org
SUMMARY:Baptism Sunday
DESCRIPTION:Baptism Sunday is here! Today is the day we celebrate those being raised to new life in Christ by way of water baptism. Those being baptized have gone through our baptism class and are ready to proclaim their faith. If you are interested in being baptized and have accepted Jesus as your Lord and Savior sign-up today for our next baptism class and baptism Sunday at vccfresno.org/baptism/.
URL:https://www.vccfresno.org/event/baptism-sunday-2/
LOCATION:Valley Christian Center\, 4649 E. Shields Ave\, Fresno\, CA\, 93726\, United States
CATEGORIES:Water Baptism
ATTACH;FMTTYPE=image/png:https://www.vccfresno.org/wp-content/uploads/2022/03/Water-Baptism-Class-SQ.png
END:VEVENT
END:VCALENDAR