BEGIN:VCALENDAR
VERSION:2.0
PRODID:-//Valley Christian Center - ECPv6.13.2.1//NONSGML v1.0//EN
CALSCALE:GREGORIAN
METHOD:PUBLISH
X-WR-CALNAME:Valley Christian Center
X-ORIGINAL-URL:https://www.vccfresno.org
X-WR-CALDESC:Events for Valley Christian Center
REFRESH-INTERVAL;VALUE=DURATION:PT1H
X-Robots-Tag:noindex
X-PUBLISHED-TTL:PT1H
BEGIN:VTIMEZONE
TZID:America/Los_Angeles
BEGIN:DAYLIGHT
TZOFFSETFROM:-0800
TZOFFSETTO:-0700
TZNAME:PDT
DTSTART:20240310T100000
END:DAYLIGHT
BEGIN:STANDARD
TZOFFSETFROM:-0700
TZOFFSETTO:-0800
TZNAME:PST
DTSTART:20241103T090000
END:STANDARD
END:VTIMEZONE
BEGIN:VEVENT
DTSTART;TZID=America/Los_Angeles:20240702T183000
DTEND;TZID=America/Los_Angeles:20240702T200000
DTSTAMP:20260424T193139
CREATED:20240501T204905Z
LAST-MODIFIED:20240501T204905Z
UID:7219-1719945000-1719950400@www.vccfresno.org
SUMMARY:Kingdom Marriage Connect Crew
DESCRIPTION:A Kingdom-minded couple allows the Lord Jesus Christ to rule and reign in every area of their lives…especially with one another. Join us as we discover ways to… Be victorious over conflict\, Grow closer to God and to each other\, Maintain the spark of intimacy\, Impact the world around you as a couple. \nThe journey begins Tuesday\, June 11th\, from 6:30 to 8:00pm. Be sure to sign you and your partner up here online\, Or in the Courtyard after Sunday service on June 2nd or 9th. \nSIGN UP HERE!
URL:https://www.vccfresno.org/event/kingdom-marriage-connect-crew-4/
LOCATION:Valley Christian Center\, 4649 E. Shields Ave\, Fresno\, CA\, 93726\, United States
CATEGORIES:Life Groups,Marriage
ATTACH;FMTTYPE=image/png:https://www.vccfresno.org/wp-content/uploads/2024/04/Kingdom-Marriage-Square.png
END:VEVENT
BEGIN:VEVENT
DTSTART;TZID=America/Los_Angeles:20240707T113000
DTEND;TZID=America/Los_Angeles:20240707T130000
DTSTAMP:20260424T193139
CREATED:20240110T215824Z
LAST-MODIFIED:20240110T215824Z
UID:6715-1720351800-1720357200@www.vccfresno.org
SUMMARY:PrimeTime Brunch
DESCRIPTION:Come hang out with old and new friends as we enjoy brunch together! Find out all the details when you sign up in the Courtyard before service (9:30-9:55am) on July 7th.
URL:https://www.vccfresno.org/event/primetime-brunch-6/
CATEGORIES:PrimeTime
ATTACH;FMTTYPE=image/png:https://www.vccfresno.org/wp-content/uploads/2024/01/PT-Brunch-After-Service-Banner.png
END:VEVENT
BEGIN:VEVENT
DTSTART;TZID=America/Los_Angeles:20240709T183000
DTEND;TZID=America/Los_Angeles:20240709T200000
DTSTAMP:20260424T193139
CREATED:20240501T205019Z
LAST-MODIFIED:20240501T205019Z
UID:7221-1720549800-1720555200@www.vccfresno.org
SUMMARY:Kingdom Marriage Connect Crew
DESCRIPTION:A Kingdom-minded couple allows the Lord Jesus Christ to rule and reign in every area of their lives…especially with one another. Join us as we discover ways to… Be victorious over conflict\, Grow closer to God and to each other\, Maintain the spark of intimacy\, Impact the world around you as a couple. \nThe journey begins Tuesday\, June 11th\, from 6:30 to 8:00pm. Be sure to sign you and your partner up here online\, Or in the Courtyard after Sunday service on June 2nd or 9th. \nSIGN UP HERE!
URL:https://www.vccfresno.org/event/kingdom-marriage-connect-crew-5/
LOCATION:Valley Christian Center\, 4649 E. Shields Ave\, Fresno\, CA\, 93726\, United States
CATEGORIES:Life Groups,Marriage
ATTACH;FMTTYPE=image/png:https://www.vccfresno.org/wp-content/uploads/2024/04/Kingdom-Marriage-Square.png
END:VEVENT
BEGIN:VEVENT
DTSTART;TZID=America/Los_Angeles:20240715T130000
DTEND;TZID=America/Los_Angeles:20240719T130000
DTSTAMP:20260424T193139
CREATED:20240515T232401Z
LAST-MODIFIED:20240515T232401Z
UID:7298-1721048400-1721394000@www.vccfresno.org
SUMMARY:Steadfast Youth Summer Camp
DESCRIPTION:2024 Summer Camp is almost here!!! We are so excited for another summer filled with worship\, speakers\, prayer\, games\, fun and most importantly and opportunity to encounter Jesus. You don’t want to miss it! Camp Dates: July 15th-19th at Old Oak Ranch\nApplications are available at youth group or you can download here. Applications and a non-refundable deposit of $75 are DUE to secure your spot by June 2nd. Final payments and applications are due by June 30th.
URL:https://www.vccfresno.org/event/steadfast-youth-summer-camp/
LOCATION:old oak ranch
CATEGORIES:Youth
ATTACH;FMTTYPE=image/png:https://www.vccfresno.org/wp-content/uploads/2024/05/SF-ComboSumCmp2024-CmprReg-square-1.png
END:VEVENT
BEGIN:VEVENT
DTSTART;TZID=America/Los_Angeles:20240718T183000
DTEND;TZID=America/Los_Angeles:20240718T203000
DTSTAMP:20260424T193139
CREATED:20240627T203053Z
LAST-MODIFIED:20240627T203053Z
UID:7521-1721327400-1721334600@www.vccfresno.org
SUMMARY:Dreams\, Visions and Interpretations
DESCRIPTION:Let’s take the confusion out of dreams and vision and where they come from.\nLearn how to determine when a dream or vision is from the Lord and how to properly interpret them through scripture and Biblical principles. This 2-week course is on Thursdays\, July 18th and July 25th from 6:00pm to 8:30pm in Room 308. Register in the Courtyard after Sunday service on June 30th\, July 7th or July 14th. Register online here through July 14th.
URL:https://www.vccfresno.org/event/dreams-visions-and-interpretations/
LOCATION:Valley Christian Center\, 4649 E. Shields Ave\, Fresno\, CA\, 93726\, United States
CATEGORIES:Prayer
ATTACH;FMTTYPE=image/png:https://www.vccfresno.org/wp-content/uploads/2024/06/Dreams-Visions-and-Interpretations.png
END:VEVENT
BEGIN:VEVENT
DTSTART;TZID=America/Los_Angeles:20240725T183000
DTEND;TZID=America/Los_Angeles:20240725T203000
DTSTAMP:20260424T193139
CREATED:20240627T203205Z
LAST-MODIFIED:20240627T203205Z
UID:7524-1721932200-1721939400@www.vccfresno.org
SUMMARY:Dreams\, Visions and Interpretations
DESCRIPTION:Let’s take the confusion out of dreams and vision and where they come from.\nLearn how to determine when a dream or vision is from the Lord and how to properly interpret them through scripture and Biblical principles. This 2-week course is on Thursdays\, July 18th and July 25th from 6:00pm to 8:30pm in Room 308. Register in the Courtyard after Sunday service on June 30th\, July 7th or July 14th. Register online here through July 14th.
URL:https://www.vccfresno.org/event/dreams-visions-and-interpretations-2/
LOCATION:Valley Christian Center\, 4649 E. Shields Ave\, Fresno\, CA\, 93726\, United States
CATEGORIES:Prayer
ATTACH;FMTTYPE=image/png:https://www.vccfresno.org/wp-content/uploads/2024/06/Dreams-Visions-and-Interpretations.png
END:VEVENT
BEGIN:VEVENT
DTSTART;TZID=America/Los_Angeles:20240728T100000
DTEND;TZID=America/Los_Angeles:20240728T110000
DTSTAMP:20260424T193139
CREATED:20240125T191602Z
LAST-MODIFIED:20240125T191602Z
UID:6842-1722160800-1722164400@www.vccfresno.org
SUMMARY:Child Dedication
DESCRIPTION:Have you thought about dedicating your little one to the Lord? \nOur next child dedication will take place Sunday\, July 28th during service. Child dedications are a time for parents\, the church\, and God Himself to partner in raising your child to live a Godly life. If you’d like to dedicate your child\, simply follow the link to our registration form and the Children’s Director will connect with you. \nREGISTER HERE
URL:https://www.vccfresno.org/event/child-dedication-2/
LOCATION:Valley Christian Center\, 4649 E. Shields Ave\, Fresno\, CA\, 93726\, United States
CATEGORIES:Kids
ATTACH;FMTTYPE=image/jpeg:https://www.vccfresno.org/wp-content/uploads/2024/01/Child-Dedication-SQ.jpg
END:VEVENT
BEGIN:VEVENT
DTSTART;TZID=America/Los_Angeles:20240730T183000
DTEND;TZID=America/Los_Angeles:20240730T200000
DTSTAMP:20260424T193139
CREATED:20240501T205134Z
LAST-MODIFIED:20240501T205134Z
UID:7223-1722364200-1722369600@www.vccfresno.org
SUMMARY:Kingdom Marriage Connect Crew
DESCRIPTION:A Kingdom-minded couple allows the Lord Jesus Christ to rule and reign in every area of their lives…especially with one another. Join us as we discover ways to… Be victorious over conflict\, Grow closer to God and to each other\, Maintain the spark of intimacy\, Impact the world around you as a couple. \nThe journey begins Tuesday\, June 11th\, from 6:30 to 8:00pm. Be sure to sign you and your partner up here online\, Or in the Courtyard after Sunday service on June 2nd or 9th. \nSIGN UP HERE!
URL:https://www.vccfresno.org/event/kingdom-marriage-connect-crew-6/
LOCATION:Valley Christian Center\, 4649 E. Shields Ave\, Fresno\, CA\, 93726\, United States
CATEGORIES:Life Groups,Marriage
ATTACH;FMTTYPE=image/png:https://www.vccfresno.org/wp-content/uploads/2024/04/Kingdom-Marriage-Square.png
END:VEVENT
END:VCALENDAR