BEGIN:VCALENDAR
VERSION:2.0
PRODID:-//Valley Christian Center - ECPv6.13.2.1//NONSGML v1.0//EN
CALSCALE:GREGORIAN
METHOD:PUBLISH
X-ORIGINAL-URL:https://www.vccfresno.org
X-WR-CALDESC:Events for Valley Christian Center
REFRESH-INTERVAL;VALUE=DURATION:PT1H
X-Robots-Tag:noindex
X-PUBLISHED-TTL:PT1H
BEGIN:VTIMEZONE
TZID:America/Los_Angeles
BEGIN:DAYLIGHT
TZOFFSETFROM:-0800
TZOFFSETTO:-0700
TZNAME:PDT
DTSTART:20250309T100000
END:DAYLIGHT
BEGIN:STANDARD
TZOFFSETFROM:-0700
TZOFFSETTO:-0800
TZNAME:PST
DTSTART:20251102T090000
END:STANDARD
END:VTIMEZONE
BEGIN:VEVENT
DTSTART;TZID=America/Los_Angeles:20250301T090000
DTEND;TZID=America/Los_Angeles:20250301T110000
DTSTAMP:20260424T051811
CREATED:20250124T064235Z
LAST-MODIFIED:20250124T064235Z
UID:8175-1740819600-1740826800@www.vccfresno.org
SUMMARY:Women Connect Breakfast
DESCRIPTION:Please join us on Saturday\, March 1st\, from 9:00 am to 11:00 am. We will have breakfast\, enjoy some girl time together and discover what Jesus has to say about a life of prayer. Registration will be February 16th and 23rd. Cost is $10.00 per person.\nREGISTER HERE!
URL:https://www.vccfresno.org/event/women-connect-breakfast/
LOCATION:Valley Christian Center\, 4649 E. Shields Ave\, Fresno\, CA\, 93726\, United States
CATEGORIES:Women
ATTACH;FMTTYPE=image/png:https://www.vccfresno.org/wp-content/uploads/2025/01/Womens-Breakfast-1080x1080-1.png
END:VEVENT
BEGIN:VEVENT
DTSTART;TZID=America/Los_Angeles:20250305T183000
DTEND;TZID=America/Los_Angeles:20250305T200000
DTSTAMP:20260424T051811
CREATED:20250117T091450Z
LAST-MODIFIED:20250117T091450Z
UID:8122-1741199400-1741204800@www.vccfresno.org
SUMMARY:following JESUS: foundations for faith
DESCRIPTION:If you have recently accepted Jesus as your Lord and Savior\, we would like to invite you to our class\, following JESUS: foundations for faith. Christianity is a day by day personal relationship with Jesus Christ. We would love to walk with you as you begin this journey. \n\nEach 8-week session will meet on Wednesday nights from 6:30pm to 8:00pm in Room 305. Childcare is available upon request for ages birth through 12 years old.\n\nSIGN UP HERE!
URL:https://www.vccfresno.org/event/following-jesus-foundations-for-faith-5/
LOCATION:Valley Christian Center\, 4649 E. Shields Ave\, Fresno\, CA\, 93726\, United States
ATTACH;FMTTYPE=image/png:https://www.vccfresno.org/wp-content/uploads/2025/01/Following-Jesus-SQ.png
END:VEVENT
BEGIN:VEVENT
DTSTART;TZID=America/Los_Angeles:20250312T183000
DTEND;TZID=America/Los_Angeles:20250312T200000
DTSTAMP:20260424T051811
CREATED:20250117T091612Z
LAST-MODIFIED:20250117T091612Z
UID:8124-1741804200-1741809600@www.vccfresno.org
SUMMARY:following JESUS: foundations for faith
DESCRIPTION:If you have recently accepted Jesus as your Lord and Savior\, we would like to invite you to our class\, following JESUS: foundations for faith. Christianity is a day by day personal relationship with Jesus Christ. We would love to walk with you as you begin this journey. \n\nEach 8-week session will meet on Wednesday nights from 6:30pm to 8:00pm in Room 305. Childcare is available upon request for ages birth through 12 years old.\n\nSIGN UP HERE!
URL:https://www.vccfresno.org/event/following-jesus-foundations-for-faith-6/
LOCATION:Valley Christian Center\, 4649 E. Shields Ave\, Fresno\, CA\, 93726\, United States
ATTACH;FMTTYPE=image/png:https://www.vccfresno.org/wp-content/uploads/2025/01/Following-Jesus-SQ.png
END:VEVENT
BEGIN:VEVENT
DTSTART;TZID=America/Los_Angeles:20250319T183000
DTEND;TZID=America/Los_Angeles:20250319T200000
DTSTAMP:20260424T051811
CREATED:20250117T091708Z
LAST-MODIFIED:20250117T091708Z
UID:8126-1742409000-1742414400@www.vccfresno.org
SUMMARY:following JESUS: foundations for faith
DESCRIPTION:If you have recently accepted Jesus as your Lord and Savior\, we would like to invite you to our class\, following JESUS: foundations for faith. Christianity is a day by day personal relationship with Jesus Christ. We would love to walk with you as you begin this journey. \n\nEach 8-week session will meet on Wednesday nights from 6:30pm to 8:00pm in Room 305. Childcare is available upon request for ages birth through 12 years old.\n\nSIGN UP HERE!
URL:https://www.vccfresno.org/event/following-jesus-foundations-for-faith-7/
LOCATION:Valley Christian Center\, 4649 E. Shields Ave\, Fresno\, CA\, 93726\, United States
ATTACH;FMTTYPE=image/png:https://www.vccfresno.org/wp-content/uploads/2025/01/Following-Jesus-SQ.png
END:VEVENT
BEGIN:VEVENT
DTSTART;TZID=America/Los_Angeles:20250323T113000
DTEND;TZID=America/Los_Angeles:20250323T120000
DTSTAMP:20260424T051811
CREATED:20250310T204923Z
LAST-MODIFIED:20250310T204923Z
UID:8282-1742729400-1742731200@www.vccfresno.org
SUMMARY:Prayer Against Child Trafficking
DESCRIPTION:We will gather to pray against child and human trafficking in Fresno and the Central Valley. \nMeeting Dates: 2nd & 4th Sundays | February 23rd – May 25th \nMeeting Time: 11:30am – 12:00pm \nLocation: Room 104 | VALLEY
URL:https://www.vccfresno.org/event/prayer-against-child-trafficking/
LOCATION:Valley Christian Center\, 4649 E. Shields Ave\, Fresno\, CA\, 93726\, United States
CATEGORIES:Life Groups,Prayer
ATTACH;FMTTYPE=image/png:https://www.vccfresno.org/wp-content/uploads/2025/01/BB_RA_AA-PrayerAgainstChildTrafficking-1.png
END:VEVENT
BEGIN:VEVENT
DTSTART;TZID=America/Los_Angeles:20250323T170000
DTEND;TZID=America/Los_Angeles:20250323T190000
DTSTAMP:20260424T051811
CREATED:20250310T204556Z
LAST-MODIFIED:20250310T204556Z
UID:8276-1742749200-1742756400@www.vccfresno.org
SUMMARY:Dinner with Friends - Connect Crew
DESCRIPTION:Dinner with Friends Connect Crew is for adults only\, ages 30-55. Come hang out and meet new friends\, dinner is potluck style! \nDates: Sundays | February 16th\, March 9th\, March 23rd\, April 13th and April 27th. \nTime: 5:00pm to 7:00pm \nWhere: Tejeda Home (leader to provide upon registration) Childcare is not provided for this Connect Crew. \nSIGN UP HERE!
URL:https://www.vccfresno.org/event/dinner-with-friends-connect-crew/
CATEGORIES:Life Groups
ATTACH;FMTTYPE=image/png:https://www.vccfresno.org/wp-content/uploads/2025/01/MT_JT-Dinner-with-Friends.png
END:VEVENT
BEGIN:VEVENT
DTSTART;TZID=America/Los_Angeles:20250325T180000
DTEND;TZID=America/Los_Angeles:20250325T200000
DTSTAMP:20260424T051811
CREATED:20250312T110348Z
LAST-MODIFIED:20250312T110348Z
UID:8309-1742925600-1742932800@www.vccfresno.org
SUMMARY:PrimeTime 55+ BUNCO Night!
DESCRIPTION:Join us on Tuesday\, March 25th from 6:00pm to 8:00pm in the All Purpose Room for BUNCO Night!\nCome learn this fun\, fast-paced game with the PrimeTime 55+ gang! Bring a friend and snack to share! Beginners welcome! See you there!\nOnline Registration only through March 23rd.\nSIGN UP HERE!
URL:https://www.vccfresno.org/event/primetime-55-bunco-night-5/
LOCATION:Valley Christian Center\, 4649 E. Shields Ave\, Fresno\, CA\, 93726\, United States
CATEGORIES:PrimeTime
ATTACH;FMTTYPE=image/png:https://www.vccfresno.org/wp-content/uploads/2025/03/PT55-3252025-BUNCO-Night-SQ.png
END:VEVENT
BEGIN:VEVENT
DTSTART;TZID=America/Los_Angeles:20250326T183000
DTEND;TZID=America/Los_Angeles:20250326T200000
DTSTAMP:20260424T051811
CREATED:20250117T091850Z
LAST-MODIFIED:20250117T091850Z
UID:8128-1743013800-1743019200@www.vccfresno.org
SUMMARY:following JESUS: foundations for faith
DESCRIPTION:If you have recently accepted Jesus as your Lord and Savior\, we would like to invite you to our class\, following JESUS: foundations for faith. Christianity is a day by day personal relationship with Jesus Christ. We would love to walk with you as you begin this journey. \n\nEach 8-week session will meet on Wednesday nights from 6:30pm to 8:00pm in Room 305. Childcare is available upon request for ages birth through 12 years old.\n\nSIGN UP HERE!
URL:https://www.vccfresno.org/event/following-jesus-foundations-for-faith-8/
LOCATION:Valley Christian Center\, 4649 E. Shields Ave\, Fresno\, CA\, 93726\, United States
ATTACH;FMTTYPE=image/png:https://www.vccfresno.org/wp-content/uploads/2025/01/Following-Jesus-SQ.png
END:VEVENT
BEGIN:VEVENT
DTSTART;TZID=America/Los_Angeles:20250329T100000
DTEND;TZID=America/Los_Angeles:20250329T120000
DTSTAMP:20260424T051811
CREATED:20250306T155735Z
LAST-MODIFIED:20250306T155735Z
UID:8273-1743242400-1743249600@www.vccfresno.org
SUMMARY:Beautify Fresno Serve Day
DESCRIPTION:Join us for a VALLEY Serve Day on Saturday\, March 29th from 10:00am to 12:00pm as we partner with Beautify Fresno to do gardening\, plant trees and do litter cleanup in the Hidalgo Elementary neighborhood and at the community garden at Romain Park. \nWe will meet in the Hidalgo Elementary parking lot (3550 E. Thomas Ave.\, Fresno) by 9:45am for check-in and a brief orientation. Beautify Fresno will provide landscaping and gardening equipment\, safety vests\, paper pickers\, gloves and trash bags. \nSIGN UP HERE!
URL:https://www.vccfresno.org/event/beautify-fresno-serve-day/
CATEGORIES:Missions
ATTACH;FMTTYPE=image/png:https://www.vccfresno.org/wp-content/uploads/2025/03/3292025-BeautifyFresno-SQ.png
END:VEVENT
END:VCALENDAR