BEGIN:VCALENDAR
VERSION:2.0
PRODID:-//Valley Christian Center - ECPv6.13.2.1//NONSGML v1.0//EN
CALSCALE:GREGORIAN
METHOD:PUBLISH
X-ORIGINAL-URL:https://www.vccfresno.org
X-WR-CALDESC:Events for Valley Christian Center
REFRESH-INTERVAL;VALUE=DURATION:PT1H
X-Robots-Tag:noindex
X-PUBLISHED-TTL:PT1H
BEGIN:VTIMEZONE
TZID:America/Los_Angeles
BEGIN:DAYLIGHT
TZOFFSETFROM:-0800
TZOFFSETTO:-0700
TZNAME:PDT
DTSTART:20250309T100000
END:DAYLIGHT
BEGIN:STANDARD
TZOFFSETFROM:-0700
TZOFFSETTO:-0800
TZNAME:PST
DTSTART:20251102T090000
END:STANDARD
END:VTIMEZONE
BEGIN:VEVENT
DTSTART;TZID=America/Los_Angeles:20250702T183000
DTEND;TZID=America/Los_Angeles:20250702T200000
DTSTAMP:20260423T214308
CREATED:20250117T094042Z
LAST-MODIFIED:20250117T094042Z
UID:8158-1751481000-1751486400@www.vccfresno.org
SUMMARY:following JESUS: foundation for faith
DESCRIPTION:If you have recently accepted Jesus as your Lord and Savior\, we would like to invite you to our class\, following JESUS: foundations for faith. Christianity is a day by day personal relationship with Jesus Christ. We would love to walk with you as you begin this journey. \n\nEach 8-week session will meet on Wednesday nights from 6:30pm to 8:00pm in Room 305. Childcare is available upon request for ages birth through 12 years old.\n\nSIGN UP HERE!
URL:https://www.vccfresno.org/event/following-jesus-foundation-for-faith/
LOCATION:Valley Christian Center\, 4649 E. Shields Ave\, Fresno\, CA\, 93726\, United States
ATTACH;FMTTYPE=image/png:https://www.vccfresno.org/wp-content/uploads/2025/01/Following-Jesus-SQ.png
END:VEVENT
BEGIN:VEVENT
DTSTART;TZID=America/Los_Angeles:20250702T183000
DTEND;TZID=America/Los_Angeles:20250702T203000
DTSTAMP:20260423T214308
CREATED:20250525T011405Z
LAST-MODIFIED:20250525T011405Z
UID:8536-1751481000-1751488200@www.vccfresno.org
SUMMARY:Steadfast Youth Color War
DESCRIPTION:
URL:https://www.vccfresno.org/event/steadfast-youth-color-war/
LOCATION:Valley Christian Center\, 4649 E. Shields Ave\, Fresno\, CA\, 93726\, United States
CATEGORIES:Youth
ATTACH;FMTTYPE=image/png:https://www.vccfresno.org/wp-content/uploads/2025/05/color-war-steadfast.png
END:VEVENT
BEGIN:VEVENT
DTSTART;TZID=America/Los_Angeles:20250706T110000
DTEND;TZID=America/Los_Angeles:20250706T130000
DTSTAMP:20260423T214308
CREATED:20250525T010218Z
LAST-MODIFIED:20250525T010218Z
UID:8519-1751799600-1751806800@www.vccfresno.org
SUMMARY:PrimeTime Brunch
DESCRIPTION:Come hang out with old and new friends as we enjoy brunch together! Find out all the details when you sign up in the Courtyard before service (9:30-9:55am) on June 29th.
URL:https://www.vccfresno.org/event/primetime-brunch-12/
CATEGORIES:PrimeTime
ATTACH;FMTTYPE=image/png:https://www.vccfresno.org/wp-content/uploads/2024/05/PT-Brunch-NewLogo.png
END:VEVENT
BEGIN:VEVENT
DTSTART;TZID=America/Los_Angeles:20250709T183000
DTEND;TZID=America/Los_Angeles:20250709T200000
DTSTAMP:20260423T214308
CREATED:20250117T094201Z
LAST-MODIFIED:20250117T094201Z
UID:8160-1752085800-1752091200@www.vccfresno.org
SUMMARY:following JESUS: foundations for faith
DESCRIPTION:If you have recently accepted Jesus as your Lord and Savior\, we would like to invite you to our class\, following JESUS: foundations for faith. Christianity is a day by day personal relationship with Jesus Christ. We would love to walk with you as you begin this journey. \n\nEach 8-week session will meet on Wednesday nights from 6:30pm to 8:00pm in Room 305. Childcare is available upon request for ages birth through 12 years old.\n\nSIGN UP HERE!
URL:https://www.vccfresno.org/event/following-jesus-foundations-for-faith-23/
LOCATION:Valley Christian Center\, 4649 E. Shields Ave\, Fresno\, CA\, 93726\, United States
ATTACH;FMTTYPE=image/png:https://www.vccfresno.org/wp-content/uploads/2025/01/Following-Jesus-SQ.png
END:VEVENT
BEGIN:VEVENT
DTSTART;TZID=America/Los_Angeles:20250710T183000
DTEND;TZID=America/Los_Angeles:20250710T203000
DTSTAMP:20260423T214308
CREATED:20250617T233547Z
LAST-MODIFIED:20250617T233547Z
UID:8575-1752172200-1752179400@www.vccfresno.org
SUMMARY:The Power In Forgiveness
DESCRIPTION:Forgiving is hard. It’s hard when hurt\, pain and trauma are multifaceted. There is much more involved regarding pain that comes from an event or an offense. Pain is a mixture of emotions that are attached to hurtful memories\, at various ages in our lives\, making it complex and hard to navigate alone. The best part is that we get the opportunity to allow the Lord to lovingly breath new life on those areas of pain\, giving us freedom to live the life God intended. \nThe Power in Forgiveness is a 4-week Scripture-based course utilizing connection with Holy Spirit and connection with others. \nSIGN UP HERE!
URL:https://www.vccfresno.org/event/the-power-in-forgiveness/
LOCATION:Valley Christian Center\, 4649 E. Shields Ave\, Fresno\, CA\, 93726\, United States
ATTACH;FMTTYPE=image/png:https://www.vccfresno.org/wp-content/uploads/2025/06/Copy-of-The-Power-In-Forgiveness-Banner.png
END:VEVENT
BEGIN:VEVENT
DTSTART;TZID=America/Los_Angeles:20250713T140000
DTEND;TZID=America/Los_Angeles:20250713T170000
DTSTAMP:20260423T214308
CREATED:20250605T082119Z
LAST-MODIFIED:20250605T082119Z
UID:8553-1752415200-1752426000@www.vccfresno.org
SUMMARY:PrimeTime 55+ Golden Chain Theater
DESCRIPTION:We are taking reservations now for our trip to the Golden Chain Theatre (42130 CA-41\, Oakhurst) on Sunday\, July 13th where we’ll see the 2:00pm showing of Li’l Abner.\n\nABOUT THE SHOW:\nGet ready for a hilarious\, toe-tapping adventure with this lively mountain musical melodrama that is packed with quirky characters\, big laughs\, and catchy tunes. Set in the eccentric town of Dogpatch\, USA\, the show spoofs American politics\, romance\, and small-town antics in a fun\, family-friendly performance.\n\nTicket price per person is $15.00 and all online reservations MUST be made by 2:00pm on June 29th.\n\nSIGN UP HERE!
URL:https://www.vccfresno.org/event/primetime-55-golden-chain-theater/
LOCATION:Golden Chain Theatre\, 42130 CA-41\, Oakhurst\, CA\, 93644\, United States
CATEGORIES:PrimeTime
ATTACH;FMTTYPE=image/png:https://www.vccfresno.org/wp-content/uploads/2025/06/PT55-7132025-Golden-Chain-Theatre-Day-SQ-1.png
END:VEVENT
BEGIN:VEVENT
DTSTART;TZID=America/Los_Angeles:20250714T130000
DTEND;TZID=America/Los_Angeles:20250718T150000
DTSTAMP:20260423T214308
CREATED:20250401T220323Z
LAST-MODIFIED:20250401T220323Z
UID:8401-1752498000-1752850800@www.vccfresno.org
SUMMARY:Steadfast Youth Summer Camp
DESCRIPTION:Ready for an unforgettable summer? Join us at Unafraid Youth Summer Camp from July 14-18\, 2025\, at Old Oak Ranch in Sonora\, CA! \nStudents (7th-12th grade) will learn that God can turn fear into courage\, hurt into hope\, turn wrongs into rights\, and transform worry into trust.  Throughout the week\, you’ll engage in dynamic worship\, thrilling activities\, and meaningful discussions with fellow believers. Plus\, you’ll build friendships that last a lifetime! Not only that —it’s also packed with adventure and classic summer camp fun! From swimming and zip-lining to paintball\, and high-energy large group games\, campers will experience the thrill of outdoor activities and the simple joys of camp life. \nCamp Scripture: Romans 15:13 says “May the God of hope fill you with all joy and peace as you trust in him\, so that you may overflow with hope by the power of the Holy Spirit.” \nPick-up & turn in your students camp application all month long in April in the courtyard on Sundays after service. You can also get more info\, download the application and make a payment at vccfresno.org/youth/.
URL:https://www.vccfresno.org/event/steadfast-youth-summer-camp-2/
LOCATION:old oak ranch
CATEGORIES:Youth
ATTACH;FMTTYPE=image/png:https://www.vccfresno.org/wp-content/uploads/2025/04/SF-ComboSumCmp2025-SQ.png
END:VEVENT
BEGIN:VEVENT
DTSTART;TZID=America/Los_Angeles:20250716T183000
DTEND;TZID=America/Los_Angeles:20250716T200000
DTSTAMP:20260423T214308
CREATED:20250117T094259Z
LAST-MODIFIED:20250117T094259Z
UID:8162-1752690600-1752696000@www.vccfresno.org
SUMMARY:following JESUS: foundations for faith
DESCRIPTION:If you have recently accepted Jesus as your Lord and Savior\, we would like to invite you to our class\, following JESUS: foundations for faith. Christianity is a day by day personal relationship with Jesus Christ. We would love to walk with you as you begin this journey. \n\nEach 8-week session will meet on Wednesday nights from 6:30pm to 8:00pm in Room 305. Childcare is available upon request for ages birth through 12 years old.\n\nSIGN UP HERE!
URL:https://www.vccfresno.org/event/following-jesus-foundations-for-faith-24/
LOCATION:Valley Christian Center\, 4649 E. Shields Ave\, Fresno\, CA\, 93726\, United States
ATTACH;FMTTYPE=image/png:https://www.vccfresno.org/wp-content/uploads/2025/01/Following-Jesus-SQ.png
END:VEVENT
BEGIN:VEVENT
DTSTART;TZID=America/Los_Angeles:20250717T183000
DTEND;TZID=America/Los_Angeles:20250717T203000
DTSTAMP:20260423T214308
CREATED:20250617T233644Z
LAST-MODIFIED:20250617T233644Z
UID:8578-1752777000-1752784200@www.vccfresno.org
SUMMARY:The Power In Forgiveness
DESCRIPTION:Forgiving is hard. It’s hard when hurt\, pain and trauma are multifaceted. There is much more involved regarding pain that comes from an event or an offense. Pain is a mixture of emotions that are attached to hurtful memories\, at various ages in our lives\, making it complex and hard to navigate alone. The best part is that we get the opportunity to allow the Lord to lovingly breath new life on those areas of pain\, giving us freedom to live the life God intended. \nThe Power in Forgiveness is a 4-week Scripture-based course utilizing connection with Holy Spirit and connection with others. \nSIGN UP HERE!
URL:https://www.vccfresno.org/event/the-power-in-forgiveness-2/
LOCATION:Valley Christian Center\, 4649 E. Shields Ave\, Fresno\, CA\, 93726\, United States
ATTACH;FMTTYPE=image/png:https://www.vccfresno.org/wp-content/uploads/2025/06/Copy-of-The-Power-In-Forgiveness-Banner.png
END:VEVENT
BEGIN:VEVENT
DTSTART;TZID=America/Los_Angeles:20250720T090000
DTEND;TZID=America/Los_Angeles:20250720T093000
DTSTAMP:20260423T214308
CREATED:20250706T194115Z
LAST-MODIFIED:20250706T194115Z
UID:8596-1753002000-1753003800@www.vccfresno.org
SUMMARY:Child Dedication Class & Dedication Sunday
DESCRIPTION:Have you thought about dedicating your little one to the Lord?\nOur next child dedication class will take place Sunday\, July 20th at 9:00am in room 104. Child Dedication Sunday will be on Sunday\, July 27th. Child dedications are a time for parents\, the church\, and God Himself to partner in raising your child to live a Godly life. If you’d like to dedicate your child\, simply follow the link to our registration form and the Children’s Director will connect with you. \n  \nREGISTER HERE!
URL:https://www.vccfresno.org/event/child-dedication-class-dedication-sunday/
LOCATION:Valley Christian Center\, 4649 E. Shields Ave\, Fresno\, CA\, 93726\, United States
CATEGORIES:Kids
ATTACH;FMTTYPE=image/png:https://www.vccfresno.org/wp-content/uploads/2025/07/Child-Dedication-ClassDedication-Sunday.png
END:VEVENT
BEGIN:VEVENT
DTSTART;TZID=America/Los_Angeles:20250723T183000
DTEND;TZID=America/Los_Angeles:20250723T200000
DTSTAMP:20260423T214308
CREATED:20250117T094401Z
LAST-MODIFIED:20250117T094401Z
UID:8164-1753295400-1753300800@www.vccfresno.org
SUMMARY:following JESUS: foundations for faith
DESCRIPTION:If you have recently accepted Jesus as your Lord and Savior\, we would like to invite you to our class\, following JESUS: foundations for faith. Christianity is a day by day personal relationship with Jesus Christ. We would love to walk with you as you begin this journey. \n\nEach 8-week session will meet on Wednesday nights from 6:30pm to 8:00pm in Room 305. Childcare is available upon request for ages birth through 12 years old.\n\nSIGN UP HERE!
URL:https://www.vccfresno.org/event/following-jesus-foundations-for-faith-25/
LOCATION:Valley Christian Center\, 4649 E. Shields Ave\, Fresno\, CA\, 93726\, United States
ATTACH;FMTTYPE=image/png:https://www.vccfresno.org/wp-content/uploads/2025/01/Following-Jesus-SQ.png
END:VEVENT
BEGIN:VEVENT
DTSTART;TZID=America/Los_Angeles:20250724T183000
DTEND;TZID=America/Los_Angeles:20250724T203000
DTSTAMP:20260423T214308
CREATED:20250617T233839Z
LAST-MODIFIED:20250617T234811Z
UID:8580-1753381800-1753389000@www.vccfresno.org
SUMMARY:The Power In Forgiveness
DESCRIPTION:Forgiving is hard. It’s hard when hurt\, pain and trauma are multifaceted. There is much more involved regarding pain that comes from an event or an offense. Pain is a mixture of emotions that are attached to hurtful memories\, at various ages in our lives\, making it complex and hard to navigate alone. The best part is that we get the opportunity to allow the Lord to lovingly breath new life on those areas of pain\, giving us freedom to live the life God intended. \nThe Power in Forgiveness is a 4-week Scripture-based course utilizing connection with Holy Spirit and connection with others. \nSIGN UP HERE!
URL:https://www.vccfresno.org/event/power-in-forgiveness/
LOCATION:Valley Christian Center\, 4649 E. Shields Ave\, Fresno\, CA\, 93726\, United States
ATTACH;FMTTYPE=image/png:https://www.vccfresno.org/wp-content/uploads/2025/06/Copy-of-The-Power-In-Forgiveness-Banner.png
END:VEVENT
BEGIN:VEVENT
DTSTART;TZID=America/Los_Angeles:20250727T100000
DTEND;TZID=America/Los_Angeles:20250727T110000
DTSTAMP:20260423T214308
CREATED:20250706T194215Z
LAST-MODIFIED:20250706T194650Z
UID:8598-1753610400-1753614000@www.vccfresno.org
SUMMARY:Child Dedication Class & Dedication Sunday
DESCRIPTION:Have you thought about dedicating your little one to the Lord?\nOur next child dedication class will take place Sunday\, July 20th at 9:00am in room 104. Child Dedication Sunday will be on Sunday\, July 27th. Child dedications are a time for parents\, the church\, and God Himself to partner in raising your child to live a Godly life. If you’d like to dedicate your child\, simply follow the link to our registration form and the Children’s Director will connect with you. \n  \nREGISTER HERE!
URL:https://www.vccfresno.org/event/child-dedication-class-dedication-sunday-2/
LOCATION:Valley Christian Center\, 4649 E. Shields Ave\, Fresno\, CA\, 93726\, United States
CATEGORIES:Kids
ATTACH;FMTTYPE=image/png:https://www.vccfresno.org/wp-content/uploads/2025/07/Child-Dedication-ClassDedication-Sunday.png
END:VEVENT
BEGIN:VEVENT
DTSTART;TZID=America/Los_Angeles:20250731T183000
DTEND;TZID=America/Los_Angeles:20250731T203000
DTSTAMP:20260423T214308
CREATED:20250617T233929Z
LAST-MODIFIED:20250617T233929Z
UID:8582-1753986600-1753993800@www.vccfresno.org
SUMMARY:The Power In Forgiveness
DESCRIPTION:Forgiving is hard. It’s hard when hurt\, pain and trauma are multifaceted. There is much more involved regarding pain that comes from an event or an offense. Pain is a mixture of emotions that are attached to hurtful memories\, at various ages in our lives\, making it complex and hard to navigate alone. The best part is that we get the opportunity to allow the Lord to lovingly breath new life on those areas of pain\, giving us freedom to live the life God intended. \nThe Power in Forgiveness is a 4-week Scripture-based course utilizing connection with Holy Spirit and connection with others. \nSIGN UP HERE!
URL:https://www.vccfresno.org/event/the-power-in-forgiveness-3/
LOCATION:Valley Christian Center\, 4649 E. Shields Ave\, Fresno\, CA\, 93726\, United States
ATTACH;FMTTYPE=image/png:https://www.vccfresno.org/wp-content/uploads/2025/06/Copy-of-The-Power-In-Forgiveness-Banner.png
END:VEVENT
END:VCALENDAR