BEGIN:VCALENDAR
VERSION:2.0
PRODID:-//Valley Christian Center - ECPv6.13.2.1//NONSGML v1.0//EN
CALSCALE:GREGORIAN
METHOD:PUBLISH
X-WR-CALNAME:Valley Christian Center
X-ORIGINAL-URL:https://www.vccfresno.org
X-WR-CALDESC:Events for Valley Christian Center
REFRESH-INTERVAL;VALUE=DURATION:PT1H
X-Robots-Tag:noindex
X-PUBLISHED-TTL:PT1H
BEGIN:VTIMEZONE
TZID:America/Los_Angeles
BEGIN:DAYLIGHT
TZOFFSETFROM:-0800
TZOFFSETTO:-0700
TZNAME:PDT
DTSTART:20260308T100000
END:DAYLIGHT
BEGIN:STANDARD
TZOFFSETFROM:-0700
TZOFFSETTO:-0800
TZNAME:PST
DTSTART:20261101T090000
END:STANDARD
END:VTIMEZONE
BEGIN:VEVENT
DTSTART;TZID=America/Los_Angeles:20260306T180000
DTEND;TZID=America/Los_Angeles:20260306T200000
DTSTAMP:20260423T082100
CREATED:20260205T203803Z
LAST-MODIFIED:20260205T203803Z
UID:9247-1772820000-1772827200@www.vccfresno.org
SUMMARY:Young Adult/Young Couple/Young Families Dinner & Hangout
DESCRIPTION:Are you a young adult\, young couple or young family? Come hangout and eat dinner with us every first Friday of the month from 6:00-8:00pm at Jason and Monica Schneider’s home. Kiddos are welcome. Address sent when you sign-up. Hope to see you there! \nSIGN UP HERE!
URL:https://www.vccfresno.org/event/young-adult-young-couple-young-families-dinner-hangout/
CATEGORIES:Young Adults
ATTACH;FMTTYPE=image/png:https://www.vccfresno.org/wp-content/uploads/2026/02/JS-MS-1stFridayYAYFamsDinnerHangout.png
END:VEVENT
BEGIN:VEVENT
DTSTART;TZID=America/Los_Angeles:20260313T190000
DTEND;TZID=America/Los_Angeles:20260313T210000
DTSTAMP:20260423T082100
CREATED:20260128T221717Z
LAST-MODIFIED:20260128T221717Z
UID:9201-1773428400-1773435600@www.vccfresno.org
SUMMARY:The Faith to Flourish Women's Event
DESCRIPTION:Ladies\, do you desire for your faith to not just grow but to flourish? We have been invited to a Night of Worship and the Word with Christine Cain\, The Faith to Flourish on March 13th\, by our sisters at Progressive Community Church\, in Stockton\, CA. \n\n\nOne of my greatest desires is that we would be known as women of tremendous faith\, and I think that this night will be an important milestone for us to attend together.   Please make every effort to be there….come as a Connect Crew\, call some girlfriends to drive up with you\,  share a hotel room with some gal pals or drive home afterwards. \nWe are at an important time in the life of our church and in our nation for increased faith.  So\, if you are ready to make this investment to have The Faith to Flourish\,” I will see you on March 13th. \n\nSIGN UP HERE!
URL:https://www.vccfresno.org/event/the-faith-to-flourish-womens-event/
LOCATION:Progressive Community Church\, 2820 South B Street\, Stockton\, CA\, 95206
CATEGORIES:Women,Young Adults
ATTACH;FMTTYPE=image/png:https://www.vccfresno.org/wp-content/uploads/2026/01/SQ-The-Faith-To-Flourish-Night.png
END:VEVENT
BEGIN:VEVENT
DTSTART;TZID=America/Los_Angeles:20260321T083000
DTEND;TZID=America/Los_Angeles:20260321T100000
DTSTAMP:20260423T082100
CREATED:20260304T222515Z
LAST-MODIFIED:20260304T222515Z
UID:9321-1774081800-1774087200@www.vccfresno.org
SUMMARY:Men's Breakfast
DESCRIPTION:Calling all VALLEY Men! \nCome join us on March 21st in the Multi-Purpose Room at Valley Dream Center from 8:30am to 10:00am as we enjoy a full breakfast\, inspiring conversation and techniques for handling ancient weapons of warfare with special guest\, Dash Rendar! Cost is $10.00 per person.\nSIGN UP HERE!
URL:https://www.vccfresno.org/event/mens-breakfast-5/
LOCATION:Valley Dream Center\, 1835 N Winery Ave\, Fresno\, CA\, 93703\, United States
CATEGORIES:Men
ATTACH;FMTTYPE=image/png:https://www.vccfresno.org/wp-content/uploads/2026/03/3212026-Mens-Breakfast-SQ.png
END:VEVENT
BEGIN:VEVENT
DTSTART;TZID=America/Los_Angeles:20260322T090000
DTEND;TZID=America/Los_Angeles:20260322T093000
DTSTAMP:20260423T082100
CREATED:20260224T200811Z
LAST-MODIFIED:20260224T200811Z
UID:9299-1774170000-1774171800@www.vccfresno.org
SUMMARY:Water Baptism Class
DESCRIPTION:Have you accepted Jesus as your Lord and Savior? Then your next step is water baptism. It is one of the most significant next steps you can take to continue your faith journey\, and we love to celebrate with each and every person who takes this step of obedience in his or her journey to follow Jesus. Sunday\, March 22nd is our next Water Baptism Class at 9:00am in the Chapel at The Valley Dream Center. In this class you will learn 3 things: What is water baptism?\, What’s the purpose of water baptism? and What is the promise of water baptism? Followed by water baptisms on Sunday\, April 12th. \nSIGN UP HERE!
URL:https://www.vccfresno.org/event/water-baptism-class-3/
LOCATION:Valley Dream Center\, 1835 N Winery Ave\, Fresno\, CA\, 93703\, United States
CATEGORIES:Water Baptism
ATTACH;FMTTYPE=image/png:https://www.vccfresno.org/wp-content/uploads/2026/02/March-2026.png
END:VEVENT
BEGIN:VEVENT
DTSTART;TZID=America/Los_Angeles:20260322T160000
DTEND;TZID=America/Los_Angeles:20260322T180000
DTSTAMP:20260423T082100
CREATED:20260304T231636Z
LAST-MODIFIED:20260304T231636Z
UID:9332-1774195200-1774202400@www.vccfresno.org
SUMMARY:PrimeTime 55+ Bowling
DESCRIPTION:We’re heading to the lanes! Join us on Sunday\, March 22nd from 4:00pm to 6:00pm at Lucky Strike Bowling (140 W. Shaw / Clovis) for Bowling!\n\nGet ready for an afternoon of strikes and spares with your PrimeTime 55+ friends!\n\nCost is $30.00 per person for 2 games (pay at the door).\nSIGN UP HERE!
URL:https://www.vccfresno.org/event/primetime-55-bowling/
LOCATION:lucky strike bowling
CATEGORIES:PrimeTime
ATTACH;FMTTYPE=image/png:https://www.vccfresno.org/wp-content/uploads/2026/03/PT55-3-22-2026-Bowling-Flyer-SQ-1080-x-1080-px.png
END:VEVENT
BEGIN:VEVENT
DTSTART;TZID=America/Los_Angeles:20260329T090000
DTEND;TZID=America/Los_Angeles:20260329T093000
DTSTAMP:20260423T082100
CREATED:20260224T200622Z
LAST-MODIFIED:20260224T200659Z
UID:9295-1774774800-1774776600@www.vccfresno.org
SUMMARY:Water Baptism Class
DESCRIPTION:Have you accepted Jesus as your Lord and Savior? Then your next step is water baptism. It is one of the most significant next steps you can take to continue your faith journey\, and we love to celebrate with each and every person who takes this step of obedience in his or her journey to follow Jesus. Sunday\, March 29th is our next Water Baptism Class at 9:00am in the Chapel at The Valley Dream Center. In this class you will learn 3 things: What is water baptism?\, What’s the purpose of water baptism? and What is the promise of water baptism? Followed by water baptisms on Sunday\, April 12th. \nSIGN UP HERE!
URL:https://www.vccfresno.org/event/9295/
LOCATION:Valley Dream Center\, 1835 N Winery Ave\, Fresno\, CA\, 93703\, United States
CATEGORIES:Water Baptism
ATTACH;FMTTYPE=image/png:https://www.vccfresno.org/wp-content/uploads/2026/02/March-2026.png
END:VEVENT
END:VCALENDAR